BEGIN:VCALENDAR
VERSION:2.0
PRODID:-//PT TEPIS - ECPv6.15.20//NONSGML v1.0//EN
CALSCALE:GREGORIAN
METHOD:PUBLISH
X-ORIGINAL-URL:https://tepis.org.pl
X-WR-CALDESC:Wydarzenia dla PT TEPIS
REFRESH-INTERVAL;VALUE=DURATION:PT1H
X-Robots-Tag:noindex
X-PUBLISHED-TTL:PT1H
BEGIN:VTIMEZONE
TZID:Europe/Warsaw
BEGIN:DAYLIGHT
TZOFFSETFROM:+0100
TZOFFSETTO:+0200
TZNAME:CEST
DTSTART:20220327T010000
END:DAYLIGHT
BEGIN:STANDARD
TZOFFSETFROM:+0200
TZOFFSETTO:+0100
TZNAME:CET
DTSTART:20221030T010000
END:STANDARD
BEGIN:DAYLIGHT
TZOFFSETFROM:+0100
TZOFFSETTO:+0200
TZNAME:CEST
DTSTART:20230326T010000
END:DAYLIGHT
BEGIN:STANDARD
TZOFFSETFROM:+0200
TZOFFSETTO:+0100
TZNAME:CET
DTSTART:20231029T010000
END:STANDARD
BEGIN:DAYLIGHT
TZOFFSETFROM:+0100
TZOFFSETTO:+0200
TZNAME:CEST
DTSTART:20240331T010000
END:DAYLIGHT
BEGIN:STANDARD
TZOFFSETFROM:+0200
TZOFFSETTO:+0100
TZNAME:CET
DTSTART:20241027T010000
END:STANDARD
END:VTIMEZONE
BEGIN:VEVENT
DTSTART;TZID=Europe/Warsaw:20231201T093000
DTEND;TZID=Europe/Warsaw:20231201T164500
DTSTAMP:20260422T113441
CREATED:20231115T200043Z
LAST-MODIFIED:20231116T075053Z
UID:33342-1701423000-1701449100@tepis.org.pl
SUMMARY:Savoir-vivre i etykieta w pracy tłumacza/Katowice
DESCRIPTION:Zapraszamy na szkolenie pt.:  \n Savoir-vivre i etykieta w pracy tłumacza\nOpis szkolenia \nMiejsce:  \nAkademia Dyplomacji przy Uniwersytecie Śląskim\, ul. Uniwersytecka 4\, Katowice \nzapisy i zakup uczestnictwa https://tepis.org.pl/sklep/
URL:https://tepis.org.pl/event/savoir-vivre-i-etykieta-w-pracy-tlumacza-katowice/
END:VEVENT
BEGIN:VEVENT
DTSTART;TZID=Europe/Warsaw:20231201T184500
DTEND;TZID=Europe/Warsaw:20231201T201500
DTSTAMP:20260422T113441
CREATED:20230512T094206Z
LAST-MODIFIED:20231113T085005Z
UID:28126-1701456300-1701461700@tepis.org.pl
SUMMARY:Kurs z zakresu prawa\, moduł 8\, warsztaty- język czeski
DESCRIPTION:Webinarium „Kurs dla tłumaczy języków obcych z zakresu prawa 2022 -2023” \n8 moduł podstawowy: Warsztaty tematyczne w sekcjach językowych – sekcja czeska \nTemat VIII. Prawo administracyjne i procedura administracyjna \nPROGRAM-SZKOLENIA-KURS-PRAWA
URL:https://tepis.org.pl/event/kurs-z-zakresu-prawa-modul-8-warsztaty-jezyk-czeski/
END:VEVENT
END:VCALENDAR