BEGIN:VCALENDAR
VERSION:2.0
PRODID:-//PT TEPIS - ECPv6.15.20//NONSGML v1.0//EN
CALSCALE:GREGORIAN
METHOD:PUBLISH
X-WR-CALNAME:PT TEPIS
X-ORIGINAL-URL:https://tepis.org.pl
X-WR-CALDESC:Wydarzenia dla PT TEPIS
REFRESH-INTERVAL;VALUE=DURATION:PT1H
X-Robots-Tag:noindex
X-PUBLISHED-TTL:PT1H
BEGIN:VTIMEZONE
TZID:Europe/Warsaw
BEGIN:DAYLIGHT
TZOFFSETFROM:+0100
TZOFFSETTO:+0200
TZNAME:CEST
DTSTART:20220327T010000
END:DAYLIGHT
BEGIN:STANDARD
TZOFFSETFROM:+0200
TZOFFSETTO:+0100
TZNAME:CET
DTSTART:20221030T010000
END:STANDARD
BEGIN:DAYLIGHT
TZOFFSETFROM:+0100
TZOFFSETTO:+0200
TZNAME:CEST
DTSTART:20230326T010000
END:DAYLIGHT
BEGIN:STANDARD
TZOFFSETFROM:+0200
TZOFFSETTO:+0100
TZNAME:CET
DTSTART:20231029T010000
END:STANDARD
BEGIN:DAYLIGHT
TZOFFSETFROM:+0100
TZOFFSETTO:+0200
TZNAME:CEST
DTSTART:20240331T010000
END:DAYLIGHT
BEGIN:STANDARD
TZOFFSETFROM:+0200
TZOFFSETTO:+0100
TZNAME:CET
DTSTART:20241027T010000
END:STANDARD
END:VTIMEZONE
BEGIN:VEVENT
DTSTART;TZID=Europe/Warsaw:20231205T120000
DTEND;TZID=Europe/Warsaw:20231205T133000
DTSTAMP:20260420T102009
CREATED:20231220T121936Z
LAST-MODIFIED:20231220T121936Z
UID:34479-1701777600-1701783000@tepis.org.pl
SUMMARY:Spotkanie z doradcą podatkowym / COMARCH ERP XT
DESCRIPTION:Spotkanie z doradcą podatkowym i prezentacja systemu księgowego COMARCH ERP XT \n\n 
URL:https://tepis.org.pl/event/spotkanie-z-doradca-podatkowym-comarch-erp-xt/
END:VEVENT
BEGIN:VEVENT
DTSTART;TZID=Europe/Warsaw:20231205T184500
DTEND;TZID=Europe/Warsaw:20231205T201500
DTSTAMP:20260420T102009
CREATED:20230512T100338Z
LAST-MODIFIED:20231129T134548Z
UID:28135-1701801900-1701807300@tepis.org.pl
SUMMARY:Kurs z zakresu prawa\, moduł 8\, warsztaty- język włoski
DESCRIPTION:Webinarium „Kurs dla tłumaczy języków obcych z zakresu prawa 2022 -2023” \n8 moduł podstawowy: Warsztaty tematyczne w sekcjach językowych – sekcja włoska \nTemat VIII. Prawo administracyjne i procedura administracyjna \nPROGRAM-SZKOLENIA-KURS-PRAWA \n  \nSzkolenie przeniesione z dnia 28.11.2023 r.
URL:https://tepis.org.pl/event/kurs-z-zakresu-prawa-modul-8-warsztaty-jezyk-wloski/
END:VEVENT
END:VCALENDAR