BEGIN:VCALENDAR
VERSION:2.0
PRODID:-//PT TEPIS - ECPv6.15.20//NONSGML v1.0//EN
CALSCALE:GREGORIAN
METHOD:PUBLISH
X-WR-CALNAME:PT TEPIS
X-ORIGINAL-URL:https://tepis.org.pl
X-WR-CALDESC:Wydarzenia dla PT TEPIS
REFRESH-INTERVAL;VALUE=DURATION:PT1H
X-Robots-Tag:noindex
X-PUBLISHED-TTL:PT1H
BEGIN:VTIMEZONE
TZID:Europe/Warsaw
BEGIN:DAYLIGHT
TZOFFSETFROM:+0100
TZOFFSETTO:+0200
TZNAME:CEST
DTSTART:20220327T010000
END:DAYLIGHT
BEGIN:STANDARD
TZOFFSETFROM:+0200
TZOFFSETTO:+0100
TZNAME:CET
DTSTART:20221030T010000
END:STANDARD
BEGIN:DAYLIGHT
TZOFFSETFROM:+0100
TZOFFSETTO:+0200
TZNAME:CEST
DTSTART:20230326T010000
END:DAYLIGHT
BEGIN:STANDARD
TZOFFSETFROM:+0200
TZOFFSETTO:+0100
TZNAME:CET
DTSTART:20231029T010000
END:STANDARD
BEGIN:DAYLIGHT
TZOFFSETFROM:+0100
TZOFFSETTO:+0200
TZNAME:CEST
DTSTART:20240331T010000
END:DAYLIGHT
BEGIN:STANDARD
TZOFFSETFROM:+0200
TZOFFSETTO:+0100
TZNAME:CET
DTSTART:20241027T010000
END:STANDARD
END:VTIMEZONE
BEGIN:VEVENT
DTSTART;TZID=Europe/Warsaw:20231208T170000
DTEND;TZID=Europe/Warsaw:20231208T183000
DTSTAMP:20260422T113350
CREATED:20230512T102332Z
LAST-MODIFIED:20231206T135440Z
UID:28145-1702054800-1702060200@tepis.org.pl
SUMMARY:Kurs z zakresu prawa\, moduł 8\, warsztaty- język rosyjski
DESCRIPTION:Webinarium „Kurs dla tłumaczy języków obcych z zakresu prawa 2022 -2023” \n8 moduł podstawowy: Warsztaty tematyczne w sekcjach językowych – sekcja rosyjska \nTemat VIII. Prawo administracyjne i procedura administracyjna \nPROGRAM-SZKOLENIA-KURS-PRAWA \nSzkolenie przeniesione z dnia 30.11.2023 r.
URL:https://tepis.org.pl/event/kurs-z-zakresu-prawa-modul-8-warsztaty-jezyk-rosyjski/
END:VEVENT
BEGIN:VEVENT
DTSTART;TZID=Europe/Warsaw:20231208T183000
DTEND;TZID=Europe/Warsaw:20231208T193000
DTSTAMP:20260422T113350
CREATED:20231206T092550Z
LAST-MODIFIED:20231206T115924Z
UID:34307-1702060200-1702063800@tepis.org.pl
SUMMARY:Warsztaty tworzenia własnej kartki świątecznej/Warszawa
DESCRIPTION:Mazowieckie Koło PT TEPIS zaprasza do Warszawy na kameralne warsztaty tworzenia własnej kartki świątecznej pod okiem naszej utalentowanej Koleżanki\,  Joanny Miler-Cassino. \nLiczba miejsc jest ograniczona do 12 osób
URL:https://tepis.org.pl/event/warsztaty-tworzenia-wlasnej-kartki-swiatecznej-warszawa/
END:VEVENT
BEGIN:VEVENT
DTSTART;TZID=Europe/Warsaw:20231208T183000
DTEND;TZID=Europe/Warsaw:20231208T200000
DTSTAMP:20260422T113350
CREATED:20230512T101118Z
LAST-MODIFIED:20231129T134221Z
UID:28141-1702060200-1702065600@tepis.org.pl
SUMMARY:Kurs z zakresu prawa\, moduł 8\, warsztaty- język chiński
DESCRIPTION:Webinarium „Kurs dla tłumaczy języków obcych z zakresu prawa 2022 -2023” \n8 moduł podstawowy: Warsztaty tematyczne w sekcjach językowych – sekcja azjatycka\, język chiński \nTemat VIII. Prawo administracyjne i procedura administracyjna \nPROGRAM-SZKOLENIA-KURS-PRAWA
URL:https://tepis.org.pl/event/kurs-z-zakresu-prawa-modul-8-warsztaty-jezyk-chinski/
END:VEVENT
END:VCALENDAR