BEGIN:VCALENDAR
VERSION:2.0
PRODID:-//PT TEPIS - ECPv6.15.20//NONSGML v1.0//EN
CALSCALE:GREGORIAN
METHOD:PUBLISH
X-WR-CALNAME:PT TEPIS
X-ORIGINAL-URL:https://tepis.org.pl
X-WR-CALDESC:Wydarzenia dla PT TEPIS
REFRESH-INTERVAL;VALUE=DURATION:PT1H
X-Robots-Tag:noindex
X-PUBLISHED-TTL:PT1H
BEGIN:VTIMEZONE
TZID:Europe/Warsaw
BEGIN:DAYLIGHT
TZOFFSETFROM:+0100
TZOFFSETTO:+0200
TZNAME:CEST
DTSTART:20220327T010000
END:DAYLIGHT
BEGIN:STANDARD
TZOFFSETFROM:+0200
TZOFFSETTO:+0100
TZNAME:CET
DTSTART:20221030T010000
END:STANDARD
BEGIN:DAYLIGHT
TZOFFSETFROM:+0100
TZOFFSETTO:+0200
TZNAME:CEST
DTSTART:20230326T010000
END:DAYLIGHT
BEGIN:STANDARD
TZOFFSETFROM:+0200
TZOFFSETTO:+0100
TZNAME:CET
DTSTART:20231029T010000
END:STANDARD
BEGIN:DAYLIGHT
TZOFFSETFROM:+0100
TZOFFSETTO:+0200
TZNAME:CEST
DTSTART:20240331T010000
END:DAYLIGHT
BEGIN:STANDARD
TZOFFSETFROM:+0200
TZOFFSETTO:+0100
TZNAME:CET
DTSTART:20241027T010000
END:STANDARD
END:VTIMEZONE
BEGIN:VEVENT
DTSTART;TZID=Europe/Warsaw:20231212T173000
DTEND;TZID=Europe/Warsaw:20231212T203000
DTSTAMP:20260420T102007
CREATED:20231122T100519Z
LAST-MODIFIED:20231122T100519Z
UID:33932-1702402200-1702413000@tepis.org.pl
SUMMARY:Tłumaczenia literackie-sekcja francuska/moduł podstawowy1
DESCRIPTION:Forum Szkół Tłumaczy Specjalistycznych Literatur Obcojęzycznych \nMODUŁ PODSTAWOWY 1 – WYKŁAD + WARSZTATY \nTemat: Nie taki Proust straszny\, jak go malują \nSzczegółowy program szkoleniowy w zakresie tłumaczeń literackich w sekcjach językowych (2023-2025) \nZapisy Sklep – PT TEPIS
URL:https://tepis.org.pl/event/tlumaczenia-literackie-sekcja-czeska-2/
END:VEVENT
BEGIN:VEVENT
DTSTART;TZID=Europe/Warsaw:20231212T174500
DTEND;TZID=Europe/Warsaw:20231212T204500
DTSTAMP:20260420T102007
CREATED:20231122T101340Z
LAST-MODIFIED:20231122T101340Z
UID:33938-1702403100-1702413900@tepis.org.pl
SUMMARY:Tłumaczenia literackie-sekcja orientalna/Moduł podstawowy1
DESCRIPTION:Forum Szkół Tłumaczy Specjalistycznych Literatur Obcojęzycznych \nMODUŁ PODSTAWOWY 1 – WYKŁAD + WARSZTATY \nTemat: Z doświadczeń warsztatowych tłumacza literatury arabskiej \nSzczegółowy program szkoleniowy w zakresie tłumaczeń literackich w sekcjach językowych (2023-2025) \nZapisy Sklep – PT TEPIS
URL:https://tepis.org.pl/event/tlumaczenia-literackie-sekcja-angielska-modul-podstawowy1/
END:VEVENT
END:VCALENDAR