BEGIN:VCALENDAR
VERSION:2.0
PRODID:-//PT TEPIS - ECPv6.15.20//NONSGML v1.0//EN
CALSCALE:GREGORIAN
METHOD:PUBLISH
X-WR-CALNAME:PT TEPIS
X-ORIGINAL-URL:https://tepis.org.pl
X-WR-CALDESC:Wydarzenia dla PT TEPIS
REFRESH-INTERVAL;VALUE=DURATION:PT1H
X-Robots-Tag:noindex
X-PUBLISHED-TTL:PT1H
BEGIN:VTIMEZONE
TZID:Europe/Warsaw
BEGIN:DAYLIGHT
TZOFFSETFROM:+0100
TZOFFSETTO:+0200
TZNAME:CEST
DTSTART:20220327T010000
END:DAYLIGHT
BEGIN:STANDARD
TZOFFSETFROM:+0200
TZOFFSETTO:+0100
TZNAME:CET
DTSTART:20221030T010000
END:STANDARD
BEGIN:DAYLIGHT
TZOFFSETFROM:+0100
TZOFFSETTO:+0200
TZNAME:CEST
DTSTART:20230326T010000
END:DAYLIGHT
BEGIN:STANDARD
TZOFFSETFROM:+0200
TZOFFSETTO:+0100
TZNAME:CET
DTSTART:20231029T010000
END:STANDARD
BEGIN:DAYLIGHT
TZOFFSETFROM:+0100
TZOFFSETTO:+0200
TZNAME:CEST
DTSTART:20240331T010000
END:DAYLIGHT
BEGIN:STANDARD
TZOFFSETFROM:+0200
TZOFFSETTO:+0100
TZNAME:CET
DTSTART:20241027T010000
END:STANDARD
END:VTIMEZONE
BEGIN:VEVENT
DTSTART;TZID=Europe/Warsaw:20231213T173000
DTEND;TZID=Europe/Warsaw:20231213T203000
DTSTAMP:20260420T102005
CREATED:20231122T100809Z
LAST-MODIFIED:20231122T100809Z
UID:33934-1702488600-1702499400@tepis.org.pl
SUMMARY:Tłumaczenia literackie-sekcja niemiecka/Moduł podstawowy1
DESCRIPTION:Forum Szkół Tłumaczy Specjalistycznych Literatur Obcojęzycznych \nMODUŁ PODSTAWOWY 1 – WYKŁAD + WARSZTATY \nTemat: O przekładzie klasyki: kanoniczne teksty literatury światowej we współczesnym tłumaczeniu (baśnie braci Grimm\, baśnie E.T.A. Hoffmanna) \nSzczegółowy program szkoleniowy w zakresie tłumaczeń literackich w sekcjach językowych (2023-2025) \nZapisy Sklep – PT TEPIS
URL:https://tepis.org.pl/event/tlumaczenia-literackie-sekcja-czeska-3/
END:VEVENT
BEGIN:VEVENT
DTSTART;TZID=Europe/Warsaw:20231213T174500
DTEND;TZID=Europe/Warsaw:20231213T204500
DTSTAMP:20260420T102005
CREATED:20231122T101552Z
LAST-MODIFIED:20231122T123047Z
UID:33940-1702489500-1702500300@tepis.org.pl
SUMMARY:Tłumaczenia literackie-sekcja języków północnych/moduł podstawowy1
DESCRIPTION:Forum Szkół Tłumaczy Specjalistycznych Literatur Obcojęzycznych \nMODUŁ PODSTAWOWY 1 – WYKŁAD + WARSZTATY \nTemat: Wybrane zagadnienia z praktyki tłumacza literackiego (j. fiński) \nSzczegółowy program szkoleniowy w zakresie tłumaczeń literackich w sekcjach językowych (2023-2025) \nZapisy Sklep – PT TEPIS
URL:https://tepis.org.pl/event/tlumaczenia-literackie-sekcja-angielska-modul-podstawowy1-2/
END:VEVENT
END:VCALENDAR