BEGIN:VCALENDAR
VERSION:2.0
PRODID:-//PT TEPIS - ECPv6.15.20//NONSGML v1.0//EN
CALSCALE:GREGORIAN
METHOD:PUBLISH
X-WR-CALNAME:PT TEPIS
X-ORIGINAL-URL:https://tepis.org.pl
X-WR-CALDESC:Wydarzenia dla PT TEPIS
REFRESH-INTERVAL;VALUE=DURATION:PT1H
X-Robots-Tag:noindex
X-PUBLISHED-TTL:PT1H
BEGIN:VTIMEZONE
TZID:Europe/Warsaw
BEGIN:DAYLIGHT
TZOFFSETFROM:+0100
TZOFFSETTO:+0200
TZNAME:CEST
DTSTART:20220327T010000
END:DAYLIGHT
BEGIN:STANDARD
TZOFFSETFROM:+0200
TZOFFSETTO:+0100
TZNAME:CET
DTSTART:20221030T010000
END:STANDARD
BEGIN:DAYLIGHT
TZOFFSETFROM:+0100
TZOFFSETTO:+0200
TZNAME:CEST
DTSTART:20230326T010000
END:DAYLIGHT
BEGIN:STANDARD
TZOFFSETFROM:+0200
TZOFFSETTO:+0100
TZNAME:CET
DTSTART:20231029T010000
END:STANDARD
BEGIN:DAYLIGHT
TZOFFSETFROM:+0100
TZOFFSETTO:+0200
TZNAME:CEST
DTSTART:20240331T010000
END:DAYLIGHT
BEGIN:STANDARD
TZOFFSETFROM:+0200
TZOFFSETTO:+0100
TZNAME:CET
DTSTART:20241027T010000
END:STANDARD
END:VTIMEZONE
BEGIN:VEVENT
DTSTART;TZID=Europe/Warsaw:20231215T170000
DTEND;TZID=Europe/Warsaw:20231215T183000
DTSTAMP:20260420T102004
CREATED:20231122T103935Z
LAST-MODIFIED:20231122T104330Z
UID:33942-1702659600-1702665000@tepis.org.pl
SUMMARY:Tłumaczenia literackie-sekcja czeska/moduł dodatkowy1
DESCRIPTION:Forum Szkół Tłumaczy Specjalistycznych Literatur Obcojęzycznych \nMODUŁ DODATKOWY 1 \nTemat: Tłumaczenia młodych poetek i poetów czeskich – warsztaty \nSzczegółowy program szkoleniowy w zakresie tłumaczeń literackich w sekcjach językowych (2023-2025) \nZapisy Sklep – PT TEPIS
URL:https://tepis.org.pl/event/tlumaczenia-literackie-sekcja-czeska-modul-dodatkowy1/
END:VEVENT
BEGIN:VEVENT
DTSTART;TZID=Europe/Warsaw:20231215T171500
DTEND;TZID=Europe/Warsaw:20231215T184500
DTSTAMP:20260420T102004
CREATED:20231205T152709Z
LAST-MODIFIED:20231205T152709Z
UID:34293-1702660500-1702665900@tepis.org.pl
SUMMARY:Tłumaczenia literackie-sekcja francuska/moduł dodatkowy1
DESCRIPTION:Forum Szkół Tłumaczy Specjalistycznych Literatur Obcojęzycznych \nMODUŁ DODATKOWY 1 \nTemat: Między tekstem a obrazem: komiks o osiołku \nSzczegółowy program szkoleniowy w zakresie tłumaczeń literackich w sekcjach językowych (2023-2025) \nZapisy Sklep – PT TEPIS
URL:https://tepis.org.pl/event/tlumaczenia-literackie-sekcja-francuska-modul-dodatkowy1/
END:VEVENT
BEGIN:VEVENT
DTSTART;TZID=Europe/Warsaw:20231215T184500
DTEND;TZID=Europe/Warsaw:20231215T201500
DTSTAMP:20260420T102004
CREATED:20231122T104240Z
LAST-MODIFIED:20231122T104240Z
UID:33944-1702665900-1702671300@tepis.org.pl
SUMMARY:Tłumaczenia literackie-sekcja ukraińska/moduł dodatkowy1
DESCRIPTION:Forum Szkół Tłumaczy Specjalistycznych Literatur Obcojęzycznych \nMODUŁ DODATKOWY 1 \nTemat: Jak działa tekst? Nowoczesne tłumaczenie. Indywidualne kursy mistrzowskie \nSzczegółowy program szkoleniowy w zakresie tłumaczeń literackich w sekcjach językowych (2023-2025) \nZapisy Sklep – PT TEPIS
URL:https://tepis.org.pl/event/33942/
END:VEVENT
BEGIN:VEVENT
DTSTART;TZID=Europe/Warsaw:20231215T190000
DTEND;TZID=Europe/Warsaw:20231215T203000
DTSTAMP:20260420T102004
CREATED:20231122T122501Z
LAST-MODIFIED:20231122T122501Z
UID:33954-1702666800-1702672200@tepis.org.pl
SUMMARY:Tłumaczenia literackie-sekcja języków orientalnych/moduł dodatkowy1
DESCRIPTION:Forum Szkół Tłumaczy Specjalistycznych Literatur Obcojęzycznych \nMODUŁ DODATKOWY 1 \nTemat: Z doświadczeń pozawarsztatowych tłumacza literatury arabskiej \nSzczegółowy program szkoleniowy w zakresie tłumaczeń literackich w sekcjach językowych (2023-2025) \nZapisy Sklep – PT TEPIS
URL:https://tepis.org.pl/event/tlumaczenia-literackie-sekcja-jezykow-polnocnych-modul-dodatkowy1/
END:VEVENT
END:VCALENDAR