BEGIN:VCALENDAR
VERSION:2.0
PRODID:-//PT TEPIS - ECPv6.15.20//NONSGML v1.0//EN
CALSCALE:GREGORIAN
METHOD:PUBLISH
X-WR-CALNAME:PT TEPIS
X-ORIGINAL-URL:https://tepis.org.pl
X-WR-CALDESC:Wydarzenia dla PT TEPIS
REFRESH-INTERVAL;VALUE=DURATION:PT1H
X-Robots-Tag:noindex
X-PUBLISHED-TTL:PT1H
BEGIN:VTIMEZONE
TZID:Europe/Warsaw
BEGIN:DAYLIGHT
TZOFFSETFROM:+0100
TZOFFSETTO:+0200
TZNAME:CEST
DTSTART:20230326T010000
END:DAYLIGHT
BEGIN:STANDARD
TZOFFSETFROM:+0200
TZOFFSETTO:+0100
TZNAME:CET
DTSTART:20231029T010000
END:STANDARD
BEGIN:DAYLIGHT
TZOFFSETFROM:+0100
TZOFFSETTO:+0200
TZNAME:CEST
DTSTART:20240331T010000
END:DAYLIGHT
BEGIN:STANDARD
TZOFFSETFROM:+0200
TZOFFSETTO:+0100
TZNAME:CET
DTSTART:20241027T010000
END:STANDARD
BEGIN:DAYLIGHT
TZOFFSETFROM:+0100
TZOFFSETTO:+0200
TZNAME:CEST
DTSTART:20250330T010000
END:DAYLIGHT
BEGIN:STANDARD
TZOFFSETFROM:+0200
TZOFFSETTO:+0100
TZNAME:CET
DTSTART:20251026T010000
END:STANDARD
END:VTIMEZONE
BEGIN:VEVENT
DTSTART;TZID=Europe/Warsaw:20240111T170000
DTEND;TZID=Europe/Warsaw:20240111T183000
DTSTAMP:20260420T084723
CREATED:20230512T095811Z
LAST-MODIFIED:20231211T152948Z
UID:28133-1704992400-1704997800@tepis.org.pl
SUMMARY:Kurs z zakresu prawa\, moduł 8\, warsztaty- język francuski
DESCRIPTION:Webinarium „Kurs dla tłumaczy języków obcych z zakresu prawa 2022 -2023” \n8 moduł podstawowy: Warsztaty tematyczne w sekcjach językowych – sekcja francuska \nTemat VIII. Prawo administracyjne i procedura administracyjna \nPROGRAM-SZKOLENIA-KURS-PRAWA \nSzkolenie przełożone na 11.01.2024 r. godz. 17.00 – 18.30
URL:https://tepis.org.pl/event/kurs-z-zakresu-prawa-modul-8-warsztaty-jezyk-francuski/
END:VEVENT
BEGIN:VEVENT
DTSTART;TZID=Europe/Warsaw:20240111T180000
DTEND;TZID=Europe/Warsaw:20240111T193000
DTSTAMP:20260420T084723
CREATED:20240105T150252Z
LAST-MODIFIED:20240105T150252Z
UID:34820-1704996000-1705001400@tepis.org.pl
SUMMARY:Spotkanie noworoczne w Warszawie
DESCRIPTION:Zapraszamy i prosimy o potwierdzenie udziału do 10.01.2024 r.  na adres: mazowieckie@tepis.org.pl \n  \n 
URL:https://tepis.org.pl/event/spotkanie-noworoczne-w-warszawie-3/
END:VEVENT
BEGIN:VEVENT
DTSTART;TZID=Europe/Warsaw:20240111T180000
DTEND;TZID=Europe/Warsaw:20240111T200000
DTSTAMP:20260420T084723
CREATED:20231230T140245Z
LAST-MODIFIED:20231230T140245Z
UID:34512-1704996000-1705003200@tepis.org.pl
SUMMARY:Spotkanie zarządów Kół PT TEPIS
DESCRIPTION:
URL:https://tepis.org.pl/event/spotkanie-zarzadow-kol-pt-tepis-10/
END:VEVENT
END:VCALENDAR