BEGIN:VCALENDAR
VERSION:2.0
PRODID:-//PT TEPIS - ECPv6.15.20//NONSGML v1.0//EN
CALSCALE:GREGORIAN
METHOD:PUBLISH
X-WR-CALNAME:PT TEPIS
X-ORIGINAL-URL:https://tepis.org.pl
X-WR-CALDESC:Wydarzenia dla PT TEPIS
REFRESH-INTERVAL;VALUE=DURATION:PT1H
X-Robots-Tag:noindex
X-PUBLISHED-TTL:PT1H
BEGIN:VTIMEZONE
TZID:Europe/Warsaw
BEGIN:DAYLIGHT
TZOFFSETFROM:+0100
TZOFFSETTO:+0200
TZNAME:CEST
DTSTART:20230326T010000
END:DAYLIGHT
BEGIN:STANDARD
TZOFFSETFROM:+0200
TZOFFSETTO:+0100
TZNAME:CET
DTSTART:20231029T010000
END:STANDARD
BEGIN:DAYLIGHT
TZOFFSETFROM:+0100
TZOFFSETTO:+0200
TZNAME:CEST
DTSTART:20240331T010000
END:DAYLIGHT
BEGIN:STANDARD
TZOFFSETFROM:+0200
TZOFFSETTO:+0100
TZNAME:CET
DTSTART:20241027T010000
END:STANDARD
BEGIN:DAYLIGHT
TZOFFSETFROM:+0100
TZOFFSETTO:+0200
TZNAME:CEST
DTSTART:20250330T010000
END:DAYLIGHT
BEGIN:STANDARD
TZOFFSETFROM:+0200
TZOFFSETTO:+0100
TZNAME:CET
DTSTART:20251026T010000
END:STANDARD
END:VTIMEZONE
BEGIN:VEVENT
DTSTART;TZID=Europe/Warsaw:20240115T180000
DTEND;TZID=Europe/Warsaw:20240115T193000
DTSTAMP:20260420T084714
CREATED:20240103T071857Z
LAST-MODIFIED:20240103T071857Z
UID:34552-1705341600-1705347000@tepis.org.pl
SUMMARY:Tłumaczenie audiowizualne w pytaniach i odpowiedziach - warsztaty wprowadzające dla tłumaczy
DESCRIPTION:Zapraszamy na szkolenie online pt. \nTłumaczenie audiowizualne w pytaniach i odpowiedziach\nWarsztaty wprowadzające do tłumaczenia audiowizualnego dla tłumaczy wszystkich języków\nszczegóły \nZakup szkolenia w naszym sklepie: www.tepis.org.pl/sklep
URL:https://tepis.org.pl/event/tlumaczenie-audiowizualne-w-pytaniach-i-odpowiedziach-warsztaty-wprowadzajace-dla-tlumaczy/
END:VEVENT
END:VCALENDAR