BEGIN:VCALENDAR
VERSION:2.0
PRODID:-//PT TEPIS - ECPv6.15.20//NONSGML v1.0//EN
CALSCALE:GREGORIAN
METHOD:PUBLISH
X-WR-CALNAME:PT TEPIS
X-ORIGINAL-URL:https://tepis.org.pl
X-WR-CALDESC:Wydarzenia dla PT TEPIS
REFRESH-INTERVAL;VALUE=DURATION:PT1H
X-Robots-Tag:noindex
X-PUBLISHED-TTL:PT1H
BEGIN:VTIMEZONE
TZID:Europe/Warsaw
BEGIN:DAYLIGHT
TZOFFSETFROM:+0100
TZOFFSETTO:+0200
TZNAME:CEST
DTSTART:20230326T010000
END:DAYLIGHT
BEGIN:STANDARD
TZOFFSETFROM:+0200
TZOFFSETTO:+0100
TZNAME:CET
DTSTART:20231029T010000
END:STANDARD
BEGIN:DAYLIGHT
TZOFFSETFROM:+0100
TZOFFSETTO:+0200
TZNAME:CEST
DTSTART:20240331T010000
END:DAYLIGHT
BEGIN:STANDARD
TZOFFSETFROM:+0200
TZOFFSETTO:+0100
TZNAME:CET
DTSTART:20241027T010000
END:STANDARD
BEGIN:DAYLIGHT
TZOFFSETFROM:+0100
TZOFFSETTO:+0200
TZNAME:CEST
DTSTART:20250330T010000
END:DAYLIGHT
BEGIN:STANDARD
TZOFFSETFROM:+0200
TZOFFSETTO:+0100
TZNAME:CET
DTSTART:20251026T010000
END:STANDARD
END:VTIMEZONE
BEGIN:VEVENT
DTSTART;TZID=Europe/Warsaw:20240119T173000
DTEND;TZID=Europe/Warsaw:20240119T190000
DTSTAMP:20260420T084725
CREATED:20240105T150949Z
LAST-MODIFIED:20240105T150949Z
UID:34829-1705685400-1705690800@tepis.org.pl
SUMMARY:Spotkanie noworoczne w Krakowie
DESCRIPTION:Zapraszamy i prosimy o potwierdzenie udziału do dnia 17.01.2024 na \nadres: malopolskie@tepis.org.pl
URL:https://tepis.org.pl/event/spotkanie-noworoczne-w-krakowie/
END:VEVENT
BEGIN:VEVENT
DTSTART;TZID=Europe/Warsaw:20240119T180000
DTEND;TZID=Europe/Warsaw:20240119T193000
DTSTAMP:20260420T084725
CREATED:20240105T150813Z
LAST-MODIFIED:20240105T150813Z
UID:34826-1705687200-1705692600@tepis.org.pl
SUMMARY:Spotkanie noworoczne w Katowicach
DESCRIPTION:
URL:https://tepis.org.pl/event/spotkanie-noworoczne-w-katowicach/
END:VEVENT
END:VCALENDAR