BEGIN:VCALENDAR
VERSION:2.0
PRODID:-//PT TEPIS - ECPv6.15.20//NONSGML v1.0//EN
CALSCALE:GREGORIAN
METHOD:PUBLISH
X-ORIGINAL-URL:https://tepis.org.pl
X-WR-CALDESC:Wydarzenia dla PT TEPIS
REFRESH-INTERVAL;VALUE=DURATION:PT1H
X-Robots-Tag:noindex
X-PUBLISHED-TTL:PT1H
BEGIN:VTIMEZONE
TZID:Europe/Warsaw
BEGIN:DAYLIGHT
TZOFFSETFROM:+0100
TZOFFSETTO:+0200
TZNAME:CEST
DTSTART:20230326T010000
END:DAYLIGHT
BEGIN:STANDARD
TZOFFSETFROM:+0200
TZOFFSETTO:+0100
TZNAME:CET
DTSTART:20231029T010000
END:STANDARD
BEGIN:DAYLIGHT
TZOFFSETFROM:+0100
TZOFFSETTO:+0200
TZNAME:CEST
DTSTART:20240331T010000
END:DAYLIGHT
BEGIN:STANDARD
TZOFFSETFROM:+0200
TZOFFSETTO:+0100
TZNAME:CET
DTSTART:20241027T010000
END:STANDARD
BEGIN:DAYLIGHT
TZOFFSETFROM:+0100
TZOFFSETTO:+0200
TZNAME:CEST
DTSTART:20250330T010000
END:DAYLIGHT
BEGIN:STANDARD
TZOFFSETFROM:+0200
TZOFFSETTO:+0100
TZNAME:CET
DTSTART:20251026T010000
END:STANDARD
END:VTIMEZONE
BEGIN:VEVENT
DTSTART;TZID=Europe/Warsaw:20240310T130000
DTEND;TZID=Europe/Warsaw:20240310T171500
DTSTAMP:20260420T083352
CREATED:20240222T141514Z
LAST-MODIFIED:20240222T141514Z
UID:36696-1710075600-1710090900@tepis.org.pl
SUMMARY:Warsztaty medyczne dla tłumaczy języka hiszpańskiego - część 2
DESCRIPTION:Warsztaty medyczne dla tłumaczy języka hiszpańskiego online\nw dniach 9 i 10 marca 2024 r. (sobota i niedziela) \nOpis szkolenia \nZapisy: Sklep – PT TEPIS \n 
URL:https://tepis.org.pl/event/warsztaty-medyczne-dla-tlumaczy-jezyka-hiszpanskiego-czesc-2/
END:VEVENT
END:VCALENDAR