BEGIN:VCALENDAR
VERSION:2.0
PRODID:-//PT TEPIS - ECPv6.15.20//NONSGML v1.0//EN
CALSCALE:GREGORIAN
METHOD:PUBLISH
X-ORIGINAL-URL:https://tepis.org.pl
X-WR-CALDESC:Wydarzenia dla PT TEPIS
REFRESH-INTERVAL;VALUE=DURATION:PT1H
X-Robots-Tag:noindex
X-PUBLISHED-TTL:PT1H
BEGIN:VTIMEZONE
TZID:Europe/Warsaw
BEGIN:DAYLIGHT
TZOFFSETFROM:+0100
TZOFFSETTO:+0200
TZNAME:CEST
DTSTART:20230326T010000
END:DAYLIGHT
BEGIN:STANDARD
TZOFFSETFROM:+0200
TZOFFSETTO:+0100
TZNAME:CET
DTSTART:20231029T010000
END:STANDARD
BEGIN:DAYLIGHT
TZOFFSETFROM:+0100
TZOFFSETTO:+0200
TZNAME:CEST
DTSTART:20240331T010000
END:DAYLIGHT
BEGIN:STANDARD
TZOFFSETFROM:+0200
TZOFFSETTO:+0100
TZNAME:CET
DTSTART:20241027T010000
END:STANDARD
BEGIN:DAYLIGHT
TZOFFSETFROM:+0100
TZOFFSETTO:+0200
TZNAME:CEST
DTSTART:20250330T010000
END:DAYLIGHT
BEGIN:STANDARD
TZOFFSETFROM:+0200
TZOFFSETTO:+0100
TZNAME:CET
DTSTART:20251026T010000
END:STANDARD
END:VTIMEZONE
BEGIN:VEVENT
DTSTART;TZID=Europe/Warsaw:20240318T170000
DTEND;TZID=Europe/Warsaw:20240318T183000
DTSTAMP:20260420T083349
CREATED:20240307T122505Z
LAST-MODIFIED:20240307T122505Z
UID:37260-1710781200-1710786600@tepis.org.pl
SUMMARY:Kurs z zakresu prawa MP1 - wykład ogólny: Prawo cywilne
DESCRIPTION:Webinarium „Kurs dla tłumaczy języków obcych z zakresu prawa 2024 -2026” \n1 moduł podstawowy \nWykład ogólny: Prawo cywilne. Umowa przedwstępna sprzedaży a umowa przenosząca własność – różnice na przykładach \nProgram kursu dla tłumaczy z zakresu prawa z warsztatami w sekcjach językowych (2024-2026) \nZakup uczestnictwa w e-sklepie TEPIS: https://tepis.org.pl/sklep/
URL:https://tepis.org.pl/event/kurs-z-zakresu-prawa-mp1-warsztaty-jezyk-hiszpanski/
END:VEVENT
BEGIN:VEVENT
DTSTART;TZID=Europe/Warsaw:20240318T184500
DTEND;TZID=Europe/Warsaw:20240318T201500
DTSTAMP:20260420T083349
CREATED:20240307T113116Z
LAST-MODIFIED:20240307T113116Z
UID:37242-1710787500-1710792900@tepis.org.pl
SUMMARY:Kurs z zakresu prawa MP1 - warsztaty- język angielski
DESCRIPTION:Webinarium „Kurs dla tłumaczy języków obcych z zakresu prawa 2024 -2026” \n1 moduł podstawowy: Warsztaty tematyczne w sekcjach językowych – sekcja angielska \nProgram kursu dla tłumaczy z zakresu prawa z warsztatami w sekcjach językowych (2024-2026) \nZakup uczestnictwa w e-sklepie TEPIS: https://tepis.org.pl/sklep/
URL:https://tepis.org.pl/event/kurs-z-zakresu-prawa-mp1-warsztaty-jezyk-angielski/
END:VEVENT
END:VCALENDAR