BEGIN:VCALENDAR
VERSION:2.0
PRODID:-//PT TEPIS - ECPv6.15.20//NONSGML v1.0//EN
CALSCALE:GREGORIAN
METHOD:PUBLISH
X-ORIGINAL-URL:https://tepis.org.pl
X-WR-CALDESC:Wydarzenia dla PT TEPIS
REFRESH-INTERVAL;VALUE=DURATION:PT1H
X-Robots-Tag:noindex
X-PUBLISHED-TTL:PT1H
BEGIN:VTIMEZONE
TZID:Europe/Warsaw
BEGIN:DAYLIGHT
TZOFFSETFROM:+0100
TZOFFSETTO:+0200
TZNAME:CEST
DTSTART:20230326T010000
END:DAYLIGHT
BEGIN:STANDARD
TZOFFSETFROM:+0200
TZOFFSETTO:+0100
TZNAME:CET
DTSTART:20231029T010000
END:STANDARD
BEGIN:DAYLIGHT
TZOFFSETFROM:+0100
TZOFFSETTO:+0200
TZNAME:CEST
DTSTART:20240331T010000
END:DAYLIGHT
BEGIN:STANDARD
TZOFFSETFROM:+0200
TZOFFSETTO:+0100
TZNAME:CET
DTSTART:20241027T010000
END:STANDARD
BEGIN:DAYLIGHT
TZOFFSETFROM:+0100
TZOFFSETTO:+0200
TZNAME:CEST
DTSTART:20250330T010000
END:DAYLIGHT
BEGIN:STANDARD
TZOFFSETFROM:+0200
TZOFFSETTO:+0100
TZNAME:CET
DTSTART:20251026T010000
END:STANDARD
END:VTIMEZONE
BEGIN:VEVENT
DTSTART;TZID=Europe/Warsaw:20240326T170000
DTEND;TZID=Europe/Warsaw:20240326T201500
DTSTAMP:20260420T083349
CREATED:20240307T122828Z
LAST-MODIFIED:20240311T091806Z
UID:37262-1711472400-1711484100@tepis.org.pl
SUMMARY:Kurs z zakresu prawa MD1 - wykład ogólny: PRAWO CYWILNE Wady oświadczeń woli
DESCRIPTION:Webinarium „Kurs dla tłumaczy języków obcych z zakresu prawa 2024 -2026” \n1 moduł dodatkowy \nWykład ogólny: pt. PRAWO CYWILNE. Wady oświadczeń woli – oświadczenie o uchyleniu się od skutków oświadczenia woli \nProgram kursu dla tłumaczy z zakresu prawa z warsztatami w sekcjach językowych (2024-2026) \nZakup uczesthttps://tepis.org.pl/wp-content/uploads/2023/04/KURS_PRAWA_II-2024-03-06.pdfnictwa w e-sklepie TEPIS: https://tepis.org.pl/sklep/
URL:https://tepis.org.pl/event/kurs-z-zakresu-prawa-md1-wyklad-ogolny-prawo-cywilne-wady-oswiadczen-woli/
END:VEVENT
END:VCALENDAR