BEGIN:VCALENDAR
VERSION:2.0
PRODID:-//PT TEPIS - ECPv6.15.20//NONSGML v1.0//EN
CALSCALE:GREGORIAN
METHOD:PUBLISH
X-WR-CALNAME:PT TEPIS
X-ORIGINAL-URL:https://tepis.org.pl
X-WR-CALDESC:Wydarzenia dla PT TEPIS
REFRESH-INTERVAL;VALUE=DURATION:PT1H
X-Robots-Tag:noindex
X-PUBLISHED-TTL:PT1H
BEGIN:VTIMEZONE
TZID:Europe/Warsaw
BEGIN:DAYLIGHT
TZOFFSETFROM:+0100
TZOFFSETTO:+0200
TZNAME:CEST
DTSTART:20230326T010000
END:DAYLIGHT
BEGIN:STANDARD
TZOFFSETFROM:+0200
TZOFFSETTO:+0100
TZNAME:CET
DTSTART:20231029T010000
END:STANDARD
BEGIN:DAYLIGHT
TZOFFSETFROM:+0100
TZOFFSETTO:+0200
TZNAME:CEST
DTSTART:20240331T010000
END:DAYLIGHT
BEGIN:STANDARD
TZOFFSETFROM:+0200
TZOFFSETTO:+0100
TZNAME:CET
DTSTART:20241027T010000
END:STANDARD
BEGIN:DAYLIGHT
TZOFFSETFROM:+0100
TZOFFSETTO:+0200
TZNAME:CEST
DTSTART:20250330T010000
END:DAYLIGHT
BEGIN:STANDARD
TZOFFSETFROM:+0200
TZOFFSETTO:+0100
TZNAME:CET
DTSTART:20251026T010000
END:STANDARD
END:VTIMEZONE
BEGIN:VEVENT
DTSTART;TZID=Europe/Warsaw:20240509T171500
DTEND;TZID=Europe/Warsaw:20240509T184500
DTSTAMP:20260419T184603
CREATED:20240417T135039Z
LAST-MODIFIED:20240417T135039Z
UID:39023-1715274900-1715280300@tepis.org.pl
SUMMARY:Tłumaczenia literackie-sekcja niemiecka/moduł dodatkowy3
DESCRIPTION:Forum Szkół Tłumaczy Specjalistycznych Literatur Obcojęzycznych \nMODUŁ DODATKOWY 3 \nTemat: O autorze\, który wymyślił sobie fikcyjną tożsamość \nSzczegółowy program szkoleniowy w zakresie tłumaczeń literackich w sekcjach językowych (2023-2025) \nZapisy Sklep – PT TEPIS
URL:https://tepis.org.pl/event/tlumaczenia-literackie-sekcja-niemiecka-modul-dodatkowy3/
END:VEVENT
BEGIN:VEVENT
DTSTART;TZID=Europe/Warsaw:20240509T180000
DTEND;TZID=Europe/Warsaw:20240509T190000
DTSTAMP:20260419T184603
CREATED:20240513T154511Z
LAST-MODIFIED:20240513T154511Z
UID:39783-1715277600-1715281200@tepis.org.pl
SUMMARY:Walne Zebranie Członków Dolnośląskiego Koła TEPIS
DESCRIPTION:
URL:https://tepis.org.pl/event/walne-zebranie-czlonkow-dolnoslaskiego-kola-tepis/
END:VEVENT
BEGIN:VEVENT
DTSTART;TZID=Europe/Warsaw:20240509T190000
DTEND;TZID=Europe/Warsaw:20240509T203000
DTSTAMP:20260419T184603
CREATED:20240417T135232Z
LAST-MODIFIED:20240417T135232Z
UID:39025-1715281200-1715286600@tepis.org.pl
SUMMARY:Tłumaczenia literackie-sekcja francuska/moduł dodatkowy3
DESCRIPTION:Forum Szkół Tłumaczy Specjalistycznych Literatur Obcojęzycznych \nMODUŁ DODATKOWY 3 \nTemat: Proza Emmanuela Bove’a. Złudna prostota tekstu literackiego \nSzczegółowy program szkoleniowy w zakresie tłumaczeń literackich w sekcjach językowych (2023-2025) \nZapisy Sklep – PT TEPIS
URL:https://tepis.org.pl/event/tlumaczenia-literackie-sekcja-niemiecka-modul-dodatkowy3-2/
END:VEVENT
END:VCALENDAR