BEGIN:VCALENDAR
VERSION:2.0
PRODID:-//PT TEPIS - ECPv6.15.20//NONSGML v1.0//EN
CALSCALE:GREGORIAN
METHOD:PUBLISH
X-ORIGINAL-URL:https://tepis.org.pl
X-WR-CALDESC:Wydarzenia dla PT TEPIS
REFRESH-INTERVAL;VALUE=DURATION:PT1H
X-Robots-Tag:noindex
X-PUBLISHED-TTL:PT1H
BEGIN:VTIMEZONE
TZID:Europe/Warsaw
BEGIN:DAYLIGHT
TZOFFSETFROM:+0100
TZOFFSETTO:+0200
TZNAME:CEST
DTSTART:20230326T010000
END:DAYLIGHT
BEGIN:STANDARD
TZOFFSETFROM:+0200
TZOFFSETTO:+0100
TZNAME:CET
DTSTART:20231029T010000
END:STANDARD
BEGIN:DAYLIGHT
TZOFFSETFROM:+0100
TZOFFSETTO:+0200
TZNAME:CEST
DTSTART:20240331T010000
END:DAYLIGHT
BEGIN:STANDARD
TZOFFSETFROM:+0200
TZOFFSETTO:+0100
TZNAME:CET
DTSTART:20241027T010000
END:STANDARD
BEGIN:DAYLIGHT
TZOFFSETFROM:+0100
TZOFFSETTO:+0200
TZNAME:CEST
DTSTART:20250330T010000
END:DAYLIGHT
BEGIN:STANDARD
TZOFFSETFROM:+0200
TZOFFSETTO:+0100
TZNAME:CET
DTSTART:20251026T010000
END:STANDARD
END:VTIMEZONE
BEGIN:VEVENT
DTSTART;TZID=Europe/Warsaw:20240513T173000
DTEND;TZID=Europe/Warsaw:20240513T183000
DTSTAMP:20260420T004208
CREATED:20240513T154708Z
LAST-MODIFIED:20240513T154708Z
UID:39787-1715621400-1715625000@tepis.org.pl
SUMMARY:Walne Zebranie Członków Małopolskiego Koła TEPIS
DESCRIPTION:
URL:https://tepis.org.pl/event/walne-zebranie-czlonkow-malopolskiego-kola-tepis/
END:VEVENT
BEGIN:VEVENT
DTSTART;TZID=Europe/Warsaw:20240513T180000
DTEND;TZID=Europe/Warsaw:20240513T220000
DTSTAMP:20260420T004208
CREATED:20240321T070323Z
LAST-MODIFIED:20240321T070323Z
UID:38032-1715623200-1715637600@tepis.org.pl
SUMMARY:Posiedzenie Rady Naczelnej PT TEPIS
DESCRIPTION:
URL:https://tepis.org.pl/event/posiedzenie-rady-naczelnej-pt-tepis-15/
END:VEVENT
END:VCALENDAR