BEGIN:VCALENDAR
VERSION:2.0
PRODID:-//PT TEPIS - ECPv6.15.20//NONSGML v1.0//EN
CALSCALE:GREGORIAN
METHOD:PUBLISH
X-ORIGINAL-URL:https://tepis.org.pl
X-WR-CALDESC:Wydarzenia dla PT TEPIS
REFRESH-INTERVAL;VALUE=DURATION:PT1H
X-Robots-Tag:noindex
X-PUBLISHED-TTL:PT1H
BEGIN:VTIMEZONE
TZID:Europe/Warsaw
BEGIN:DAYLIGHT
TZOFFSETFROM:+0100
TZOFFSETTO:+0200
TZNAME:CEST
DTSTART:20230326T010000
END:DAYLIGHT
BEGIN:STANDARD
TZOFFSETFROM:+0200
TZOFFSETTO:+0100
TZNAME:CET
DTSTART:20231029T010000
END:STANDARD
BEGIN:DAYLIGHT
TZOFFSETFROM:+0100
TZOFFSETTO:+0200
TZNAME:CEST
DTSTART:20240331T010000
END:DAYLIGHT
BEGIN:STANDARD
TZOFFSETFROM:+0200
TZOFFSETTO:+0100
TZNAME:CET
DTSTART:20241027T010000
END:STANDARD
BEGIN:DAYLIGHT
TZOFFSETFROM:+0100
TZOFFSETTO:+0200
TZNAME:CEST
DTSTART:20250330T010000
END:DAYLIGHT
BEGIN:STANDARD
TZOFFSETFROM:+0200
TZOFFSETTO:+0100
TZNAME:CET
DTSTART:20251026T010000
END:STANDARD
END:VTIMEZONE
BEGIN:VEVENT
DTSTART;TZID=Europe/Warsaw:20240522T170000
DTEND;TZID=Europe/Warsaw:20240522T183000
DTSTAMP:20260419T142701
CREATED:20240416T090929Z
LAST-MODIFIED:20240416T090929Z
UID:38954-1716397200-1716402600@tepis.org.pl
SUMMARY:Kurs z zakresu prawa MP2 – warsztaty- język hiszpański
DESCRIPTION:Webinarium „Kurs dla tłumaczy języków obcych z zakresu prawa 2024 -2026” \n2 moduł podstawowy – PRAWO CYWILNE. Ochrona dóbr osobistych. Wezwanie do zaniechania naruszenia dóbr osobistych \nWarsztaty tematyczne w sekcjach językowych – sekcja hiszpańska \nProgram kursu dla tłumaczy z zakresu prawa z warsztatami w sekcjach językowych (2024-2026) \nZakup uczestnictwa w e-sklepie TEPIS: https://tepis.org.pl/sklep/
URL:https://tepis.org.pl/event/kurs-z-zakresu-prawa-mp2-warsztaty-jezyk-hiszpanski/
END:VEVENT
BEGIN:VEVENT
DTSTART;TZID=Europe/Warsaw:20240522T184500
DTEND;TZID=Europe/Warsaw:20240522T201500
DTSTAMP:20260419T142701
CREATED:20240416T090131Z
LAST-MODIFIED:20240416T090131Z
UID:38943-1716403500-1716408900@tepis.org.pl
SUMMARY:Kurs z zakresu prawa MP2 – warsztaty- język niemiecki
DESCRIPTION:Webinarium „Kurs dla tłumaczy języków obcych z zakresu prawa 2024 -2026” \n2 moduł podstawowy – PRAWO CYWILNE. Ochrona dóbr osobistych. Wezwanie do zaniechania naruszenia dóbr osobistych \nWarsztaty tematyczne w sekcjach językowych – sekcja niemiecka \nProgram kursu dla tłumaczy z zakresu prawa z warsztatami w sekcjach językowych (2024-2026) \nZakup uczestnictwa w e-sklepie TEPIS: https://tepis.org.pl/sklep/
URL:https://tepis.org.pl/event/kurs-z-zakresu-prawa-mp2-warsztaty-jezyk-niemiecki/
END:VEVENT
END:VCALENDAR