BEGIN:VCALENDAR
VERSION:2.0
PRODID:-//PT TEPIS - ECPv6.15.20//NONSGML v1.0//EN
CALSCALE:GREGORIAN
METHOD:PUBLISH
X-ORIGINAL-URL:https://tepis.org.pl
X-WR-CALDESC:Wydarzenia dla PT TEPIS
REFRESH-INTERVAL;VALUE=DURATION:PT1H
X-Robots-Tag:noindex
X-PUBLISHED-TTL:PT1H
BEGIN:VTIMEZONE
TZID:Europe/Warsaw
BEGIN:DAYLIGHT
TZOFFSETFROM:+0100
TZOFFSETTO:+0200
TZNAME:CEST
DTSTART:20230326T010000
END:DAYLIGHT
BEGIN:STANDARD
TZOFFSETFROM:+0200
TZOFFSETTO:+0100
TZNAME:CET
DTSTART:20231029T010000
END:STANDARD
BEGIN:DAYLIGHT
TZOFFSETFROM:+0100
TZOFFSETTO:+0200
TZNAME:CEST
DTSTART:20240331T010000
END:DAYLIGHT
BEGIN:STANDARD
TZOFFSETFROM:+0200
TZOFFSETTO:+0100
TZNAME:CET
DTSTART:20241027T010000
END:STANDARD
BEGIN:DAYLIGHT
TZOFFSETFROM:+0100
TZOFFSETTO:+0200
TZNAME:CEST
DTSTART:20250330T010000
END:DAYLIGHT
BEGIN:STANDARD
TZOFFSETFROM:+0200
TZOFFSETTO:+0100
TZNAME:CET
DTSTART:20251026T010000
END:STANDARD
END:VTIMEZONE
BEGIN:VEVENT
DTSTART;TZID=Europe/Warsaw:20240917T173000
DTEND;TZID=Europe/Warsaw:20240917T200000
DTSTAMP:20260419T155839
CREATED:20240820T113531Z
LAST-MODIFIED:20240822T061540Z
UID:41746-1726594200-1726603200@tepis.org.pl
SUMMARY:Polskie i niemieckojęzyczne dokumenty cz. 2/II termin (wtorki)
DESCRIPTION:Webinarium dla germanistów pt.: \nPolskie i niemieckojęzyczne dokumenty instytucji ubezpieczeniowych jako przedmiot tłumaczenia poświadczonego\nII termin: 10 i 17 września 2024 r. godz. 17.30-20.00 (wtorki) \nszczegóły \nZapisy i zakup uczestnictwa https://tepis.org.pl/sklep/
URL:https://tepis.org.pl/event/polskie-i-niemieckojezyczne-dokumenty-cz-2-ii-termin-wtorki/
END:VEVENT
BEGIN:VEVENT
DTSTART;TZID=Europe/Warsaw:20240917T190000
DTEND;TZID=Europe/Warsaw:20240917T203000
DTSTAMP:20260419T155839
CREATED:20240911T074208Z
LAST-MODIFIED:20240911T074208Z
UID:42426-1726599600-1726605000@tepis.org.pl
SUMMARY:4xT\, czyli Tepis tłumaczy Tłumaczkom i Tłumaczom
DESCRIPTION:Zapraszamy na szóste spotkanie online z cyklu \n4xT\, czyli Tepis tłumaczy Tłumaczkom i Tłumaczom\nOdpowiedzi na pytania zostaną udzielone przez trzy Ekspertki: \nMartę Czyżewską\, Krystynę Kołodziej i Anetę Muchę \nUdział w spotkaniu jest bezpłatny dla członków PT TEPIS po rejestracji w e-sklepie:  https://tepis.org.pl/sklep/
URL:https://tepis.org.pl/event/4xt-czyli-tepis-tlumaczy-tlumaczkom-i-tlumaczom-3/
END:VEVENT
END:VCALENDAR