BEGIN:VCALENDAR
VERSION:2.0
PRODID:-//PT TEPIS - ECPv6.15.20//NONSGML v1.0//EN
CALSCALE:GREGORIAN
METHOD:PUBLISH
X-WR-CALNAME:PT TEPIS
X-ORIGINAL-URL:https://tepis.org.pl
X-WR-CALDESC:Wydarzenia dla PT TEPIS
REFRESH-INTERVAL;VALUE=DURATION:PT1H
X-Robots-Tag:noindex
X-PUBLISHED-TTL:PT1H
BEGIN:VTIMEZONE
TZID:Europe/Warsaw
BEGIN:DAYLIGHT
TZOFFSETFROM:+0100
TZOFFSETTO:+0200
TZNAME:CEST
DTSTART:20230326T010000
END:DAYLIGHT
BEGIN:STANDARD
TZOFFSETFROM:+0200
TZOFFSETTO:+0100
TZNAME:CET
DTSTART:20231029T010000
END:STANDARD
BEGIN:DAYLIGHT
TZOFFSETFROM:+0100
TZOFFSETTO:+0200
TZNAME:CEST
DTSTART:20240331T010000
END:DAYLIGHT
BEGIN:STANDARD
TZOFFSETFROM:+0200
TZOFFSETTO:+0100
TZNAME:CET
DTSTART:20241027T010000
END:STANDARD
BEGIN:DAYLIGHT
TZOFFSETFROM:+0100
TZOFFSETTO:+0200
TZNAME:CEST
DTSTART:20250330T010000
END:DAYLIGHT
BEGIN:STANDARD
TZOFFSETFROM:+0200
TZOFFSETTO:+0100
TZNAME:CET
DTSTART:20251026T010000
END:STANDARD
END:VTIMEZONE
BEGIN:VEVENT
DTSTART;TZID=Europe/Warsaw:20241203T170000
DTEND;TZID=Europe/Warsaw:20241203T201500
DTSTAMP:20260419T142723
CREATED:20240712T135526Z
LAST-MODIFIED:20240828T094142Z
UID:41429-1733245200-1733256900@tepis.org.pl
SUMMARY:Kurs z zakresu prawa MD4 – wykład: PRAWO RODZINNE. Pochodzenie dziecka
DESCRIPTION:Webinarium „Kurs dla tłumaczy języków obcych z zakresu prawa 2024-2026” \nProgram kursu dla tłumaczy z zakresu prawa z warsztatami w sekcjach językowych (2024-2026) \n4 moduł dodatkowy \nWykład ogólny pt. PRAWO RODZINNE. Pochodzenie dziecka – roszczenia z tym związane
URL:https://tepis.org.pl/event/kurs-z-zakresu-prawa-md4-wyklad-prawo-rodzinne-pochodzenie-dziecka/
END:VEVENT
END:VCALENDAR