BEGIN:VCALENDAR
VERSION:2.0
PRODID:-//PT TEPIS - ECPv6.15.20//NONSGML v1.0//EN
CALSCALE:GREGORIAN
METHOD:PUBLISH
X-ORIGINAL-URL:https://tepis.org.pl
X-WR-CALDESC:Wydarzenia dla PT TEPIS
REFRESH-INTERVAL;VALUE=DURATION:PT1H
X-Robots-Tag:noindex
X-PUBLISHED-TTL:PT1H
BEGIN:VTIMEZONE
TZID:Europe/Warsaw
BEGIN:DAYLIGHT
TZOFFSETFROM:+0100
TZOFFSETTO:+0200
TZNAME:CEST
DTSTART:20240331T010000
END:DAYLIGHT
BEGIN:STANDARD
TZOFFSETFROM:+0200
TZOFFSETTO:+0100
TZNAME:CET
DTSTART:20241027T010000
END:STANDARD
BEGIN:DAYLIGHT
TZOFFSETFROM:+0100
TZOFFSETTO:+0200
TZNAME:CEST
DTSTART:20250330T010000
END:DAYLIGHT
BEGIN:STANDARD
TZOFFSETFROM:+0200
TZOFFSETTO:+0100
TZNAME:CET
DTSTART:20251026T010000
END:STANDARD
BEGIN:DAYLIGHT
TZOFFSETFROM:+0100
TZOFFSETTO:+0200
TZNAME:CEST
DTSTART:20260329T010000
END:DAYLIGHT
BEGIN:STANDARD
TZOFFSETFROM:+0200
TZOFFSETTO:+0100
TZNAME:CET
DTSTART:20261025T010000
END:STANDARD
END:VTIMEZONE
BEGIN:VEVENT
DTSTART;TZID=Europe/Warsaw:20250118T100000
DTEND;TZID=Europe/Warsaw:20250118T140000
DTSTAMP:20260420T004214
CREATED:20241202T074517Z
LAST-MODIFIED:20241202T074517Z
UID:46630-1737194400-1737208800@tepis.org.pl
SUMMARY:Weryfikacja autentyczności dokumentów publicznych - szkolenie w Poznaniu
DESCRIPTION:Zapraszamy na szkolenie stacjonarne w Poznaniu pt.\nWeryfikacja autentyczności dokumentów publicznych\, czyli o sposobach zabezpieczania dokumentów przed fałszowaniem\nOpis szkolenia\nZapisy i zakup uczestnictwa https://tepis.org.pl/sklep/
URL:https://tepis.org.pl/event/weryfikacja-autentycznosci-dokumentow-publicznych-szkolenie-w-poznaniu/
END:VEVENT
END:VCALENDAR