BEGIN:VCALENDAR
VERSION:2.0
PRODID:-//PT TEPIS - ECPv6.15.20//NONSGML v1.0//EN
CALSCALE:GREGORIAN
METHOD:PUBLISH
X-WR-CALNAME:PT TEPIS
X-ORIGINAL-URL:https://tepis.org.pl
X-WR-CALDESC:Wydarzenia dla PT TEPIS
REFRESH-INTERVAL;VALUE=DURATION:PT1H
X-Robots-Tag:noindex
X-PUBLISHED-TTL:PT1H
BEGIN:VTIMEZONE
TZID:Europe/Warsaw
BEGIN:DAYLIGHT
TZOFFSETFROM:+0100
TZOFFSETTO:+0200
TZNAME:CEST
DTSTART:20240331T010000
END:DAYLIGHT
BEGIN:STANDARD
TZOFFSETFROM:+0200
TZOFFSETTO:+0100
TZNAME:CET
DTSTART:20241027T010000
END:STANDARD
BEGIN:DAYLIGHT
TZOFFSETFROM:+0100
TZOFFSETTO:+0200
TZNAME:CEST
DTSTART:20250330T010000
END:DAYLIGHT
BEGIN:STANDARD
TZOFFSETFROM:+0200
TZOFFSETTO:+0100
TZNAME:CET
DTSTART:20251026T010000
END:STANDARD
BEGIN:DAYLIGHT
TZOFFSETFROM:+0100
TZOFFSETTO:+0200
TZNAME:CEST
DTSTART:20260329T010000
END:DAYLIGHT
BEGIN:STANDARD
TZOFFSETFROM:+0200
TZOFFSETTO:+0100
TZNAME:CET
DTSTART:20261025T010000
END:STANDARD
END:VTIMEZONE
BEGIN:VEVENT
DTSTART;TZID=Europe/Warsaw:20250312T190000
DTEND;TZID=Europe/Warsaw:20250312T200000
DTSTAMP:20260420T070229
CREATED:20250311T130147Z
LAST-MODIFIED:20250311T130252Z
UID:49731-1741806000-1741809600@tepis.org.pl
SUMMARY:Trzy lata od wybuchu wojny – realia pracy tłumaczy / webinarium
DESCRIPTION:Zapraszamy na spotkanie online pt.\n„Trzy lata od wybuchu wojny – realia pracy tłumaczy”\nPorozmawiamy o tym co się zmieniło\, jak wojna wpłynęła na rynek usług tłumaczeniowych\, jakie wyzwania stoją przed tłumaczami świadczącymi usługi w strefach konfliktów. \nDo wzięcia udziału zaprosiliśmy Aleksandrę Staneuską\, TP jęz. ukraińskiego oraz Mirosława Stasiukiewicza\, TP jęz. rosyjskiego. \nSpotkanie poprowadzi Katarzyna Bondaruk-Augustyńczyk\, prezeska Podlaskiego Koła PT TEPIS. \nZapisy przez formularz: https://tiny.pl/1h4yhwf9\nLink do spotkania wyślemy w środę 12 marca przed południem. \n  \nUdział w spotkaniu jest bezpłatny. \n 
URL:https://tepis.org.pl/event/trzy-lata-od-wybuchu-wojny-realia-pracy-tlumaczy-webinarium/
END:VEVENT
END:VCALENDAR