BEGIN:VCALENDAR
VERSION:2.0
PRODID:-//PT TEPIS - ECPv6.15.20//NONSGML v1.0//EN
CALSCALE:GREGORIAN
METHOD:PUBLISH
X-WR-CALNAME:PT TEPIS
X-ORIGINAL-URL:https://tepis.org.pl
X-WR-CALDESC:Wydarzenia dla PT TEPIS
REFRESH-INTERVAL;VALUE=DURATION:PT1H
X-Robots-Tag:noindex
X-PUBLISHED-TTL:PT1H
BEGIN:VTIMEZONE
TZID:Europe/Warsaw
BEGIN:DAYLIGHT
TZOFFSETFROM:+0100
TZOFFSETTO:+0200
TZNAME:CEST
DTSTART:20240331T010000
END:DAYLIGHT
BEGIN:STANDARD
TZOFFSETFROM:+0200
TZOFFSETTO:+0100
TZNAME:CET
DTSTART:20241027T010000
END:STANDARD
BEGIN:DAYLIGHT
TZOFFSETFROM:+0100
TZOFFSETTO:+0200
TZNAME:CEST
DTSTART:20250330T010000
END:DAYLIGHT
BEGIN:STANDARD
TZOFFSETFROM:+0200
TZOFFSETTO:+0100
TZNAME:CET
DTSTART:20251026T010000
END:STANDARD
BEGIN:DAYLIGHT
TZOFFSETFROM:+0100
TZOFFSETTO:+0200
TZNAME:CEST
DTSTART:20260329T010000
END:DAYLIGHT
BEGIN:STANDARD
TZOFFSETFROM:+0200
TZOFFSETTO:+0100
TZNAME:CET
DTSTART:20261025T010000
END:STANDARD
END:VTIMEZONE
BEGIN:VEVENT
DTSTART;TZID=Europe/Warsaw:20250416T110000
DTEND;TZID=Europe/Warsaw:20250416T123000
DTSTAMP:20260420T070239
CREATED:20250328T130617Z
LAST-MODIFIED:20250411T092058Z
UID:50511-1744801200-1744806600@tepis.org.pl
SUMMARY:10 nawyków żywieniowych sprzyjających zdrowiu i dobremu samopoczuciu tłumacza - warsztaty ONLINE
DESCRIPTION:Zapraszamy na wiosenne warsztaty online dla tłumaczy: \n10 nawyków żywieniowych sprzyjających zdrowiu i dobremu samopoczuciu tłumacza\n\n\n\nJak wprowadzić nawyki żywieniowe służące zdrowiu i dobremu samopoczuciu zgodnie z naukami Jogi i Ajurwedy\n\n\n\nszczegóły>> \n\n\n\nZapisy w e-sklepie TEPIS: https://tepis.org.pl/sklep/
URL:https://tepis.org.pl/event/jak-wprowadzic-nawyki-zywieniowe-sluzace-zdrowiu-i-dobremu-samopoczuciu-wg-jogi-i-ajurwedy-warsztaty-online/
END:VEVENT
END:VCALENDAR