BEGIN:VCALENDAR
VERSION:2.0
PRODID:-//PT TEPIS - ECPv6.15.20//NONSGML v1.0//EN
CALSCALE:GREGORIAN
METHOD:PUBLISH
X-ORIGINAL-URL:https://tepis.org.pl
X-WR-CALDESC:Wydarzenia dla PT TEPIS
REFRESH-INTERVAL;VALUE=DURATION:PT1H
X-Robots-Tag:noindex
X-PUBLISHED-TTL:PT1H
BEGIN:VTIMEZONE
TZID:Europe/Warsaw
BEGIN:DAYLIGHT
TZOFFSETFROM:+0100
TZOFFSETTO:+0200
TZNAME:CEST
DTSTART:20240331T010000
END:DAYLIGHT
BEGIN:STANDARD
TZOFFSETFROM:+0200
TZOFFSETTO:+0100
TZNAME:CET
DTSTART:20241027T010000
END:STANDARD
BEGIN:DAYLIGHT
TZOFFSETFROM:+0100
TZOFFSETTO:+0200
TZNAME:CEST
DTSTART:20250330T010000
END:DAYLIGHT
BEGIN:STANDARD
TZOFFSETFROM:+0200
TZOFFSETTO:+0100
TZNAME:CET
DTSTART:20251026T010000
END:STANDARD
BEGIN:DAYLIGHT
TZOFFSETFROM:+0100
TZOFFSETTO:+0200
TZNAME:CEST
DTSTART:20260329T010000
END:DAYLIGHT
BEGIN:STANDARD
TZOFFSETFROM:+0200
TZOFFSETTO:+0100
TZNAME:CET
DTSTART:20261025T010000
END:STANDARD
END:VTIMEZONE
BEGIN:VEVENT
DTSTART;TZID=Europe/Warsaw:20250522T170000
DTEND;TZID=Europe/Warsaw:20250522T201500
DTSTAMP:20260420T083350
CREATED:20250505T080952Z
LAST-MODIFIED:20250505T080952Z
UID:51440-1747933200-1747944900@tepis.org.pl
SUMMARY:Szkolenie we Wrocławiu "Nowe reguły\, stare nawyki - ortografia po zmianach"  
DESCRIPTION:Dolnośląskie Koło PT TEPIS zaprasza na szkolenie stacjonarne we Wrocławiu pt. \nNowe reguły\, stare nawyki – ortografia po zmianach\nOpis szkolenia\nMiejsce: Uniwersytet Wrocławski\, ul. św. Jadwigi 3 / 4\, 50-266 Wrocław \nZapisy i zakup uczestnictwa https://tepis.org.pl/sklep/
URL:https://tepis.org.pl/event/szkolenie-we-wroclawiu-nowe-reguly-stare-nawyki-ortografia-po-zmianach/
END:VEVENT
END:VCALENDAR