BEGIN:VCALENDAR
VERSION:2.0
PRODID:-//PT TEPIS - ECPv6.15.20//NONSGML v1.0//EN
CALSCALE:GREGORIAN
METHOD:PUBLISH
X-ORIGINAL-URL:https://tepis.org.pl
X-WR-CALDESC:Wydarzenia dla PT TEPIS
REFRESH-INTERVAL;VALUE=DURATION:PT1H
X-Robots-Tag:noindex
X-PUBLISHED-TTL:PT1H
BEGIN:VTIMEZONE
TZID:Europe/Warsaw
BEGIN:DAYLIGHT
TZOFFSETFROM:+0100
TZOFFSETTO:+0200
TZNAME:CEST
DTSTART:20240331T010000
END:DAYLIGHT
BEGIN:STANDARD
TZOFFSETFROM:+0200
TZOFFSETTO:+0100
TZNAME:CET
DTSTART:20241027T010000
END:STANDARD
BEGIN:DAYLIGHT
TZOFFSETFROM:+0100
TZOFFSETTO:+0200
TZNAME:CEST
DTSTART:20250330T010000
END:DAYLIGHT
BEGIN:STANDARD
TZOFFSETFROM:+0200
TZOFFSETTO:+0100
TZNAME:CET
DTSTART:20251026T010000
END:STANDARD
BEGIN:DAYLIGHT
TZOFFSETFROM:+0100
TZOFFSETTO:+0200
TZNAME:CEST
DTSTART:20260329T010000
END:DAYLIGHT
BEGIN:STANDARD
TZOFFSETFROM:+0200
TZOFFSETTO:+0100
TZNAME:CET
DTSTART:20261025T010000
END:STANDARD
END:VTIMEZONE
BEGIN:VEVENT
DTSTART;TZID=Europe/Warsaw:20250528T170000
DTEND;TZID=Europe/Warsaw:20250528T183000
DTSTAMP:20260420T004211
CREATED:20241213T133223Z
LAST-MODIFIED:20241213T133223Z
UID:46800-1748451600-1748457000@tepis.org.pl
SUMMARY:Kurs z zakresu prawa MP7 – warsztaty- język hiszpański
DESCRIPTION:Webinarium „Kurs dla tłumaczy języków obcych z zakresu prawa 2024-2026” \nVII moduł podstawowy –  PRAWO KARNE- Środki zabezpieczające – wniosek o zastosowanie środka zabezpieczającego \nWarsztaty tematyczne w sekcjach językowych – sekcja hiszpańska \nProgram kursu dla tłumaczy z zakresu prawa z warsztatami w sekcjach językowych (2024-2026)
URL:https://tepis.org.pl/event/kurs-z-zakresu-prawa-mp7-warsztaty-jezyk-hiszpanski/
END:VEVENT
BEGIN:VEVENT
DTSTART;TZID=Europe/Warsaw:20250528T184500
DTEND;TZID=Europe/Warsaw:20250528T201500
DTSTAMP:20260420T004211
CREATED:20241213T131808Z
LAST-MODIFIED:20241213T131828Z
UID:46780-1748457900-1748463300@tepis.org.pl
SUMMARY:Kurs z zakresu prawa MP7 – warsztaty- język niemiecki
DESCRIPTION:Webinarium „Kurs dla tłumaczy języków obcych z zakresu prawa 2024-2026” \nVII moduł podstawowy –  PRAWO KARNE- Środki zabezpieczające – wniosek o zastosowanie środka zabezpieczającego \nWarsztaty tematyczne w sekcjach językowych – sekcja niemiecka \nProgram kursu dla tłumaczy z zakresu prawa z warsztatami w sekcjach językowych (2024-2026)
URL:https://tepis.org.pl/event/kurs-z-zakresu-prawa-mp7-warsztaty-jezyk-niemiecki/
END:VEVENT
END:VCALENDAR