BEGIN:VCALENDAR
VERSION:2.0
PRODID:-//PT TEPIS - ECPv6.15.20//NONSGML v1.0//EN
CALSCALE:GREGORIAN
METHOD:PUBLISH
X-WR-CALNAME:PT TEPIS
X-ORIGINAL-URL:https://tepis.org.pl
X-WR-CALDESC:Wydarzenia dla PT TEPIS
REFRESH-INTERVAL;VALUE=DURATION:PT1H
X-Robots-Tag:noindex
X-PUBLISHED-TTL:PT1H
BEGIN:VTIMEZONE
TZID:Europe/Warsaw
BEGIN:DAYLIGHT
TZOFFSETFROM:+0100
TZOFFSETTO:+0200
TZNAME:CEST
DTSTART:20240331T010000
END:DAYLIGHT
BEGIN:STANDARD
TZOFFSETFROM:+0200
TZOFFSETTO:+0100
TZNAME:CET
DTSTART:20241027T010000
END:STANDARD
BEGIN:DAYLIGHT
TZOFFSETFROM:+0100
TZOFFSETTO:+0200
TZNAME:CEST
DTSTART:20250330T010000
END:DAYLIGHT
BEGIN:STANDARD
TZOFFSETFROM:+0200
TZOFFSETTO:+0100
TZNAME:CET
DTSTART:20251026T010000
END:STANDARD
BEGIN:DAYLIGHT
TZOFFSETFROM:+0100
TZOFFSETTO:+0200
TZNAME:CEST
DTSTART:20260329T010000
END:DAYLIGHT
BEGIN:STANDARD
TZOFFSETFROM:+0200
TZOFFSETTO:+0100
TZNAME:CET
DTSTART:20261025T010000
END:STANDARD
END:VTIMEZONE
BEGIN:VEVENT
DTSTART;TZID=Europe/Warsaw:20250529T170000
DTEND;TZID=Europe/Warsaw:20250529T183000
DTSTAMP:20260420T004233
CREATED:20241213T132755Z
LAST-MODIFIED:20241213T132755Z
UID:46796-1748538000-1748543400@tepis.org.pl
SUMMARY:Kurs z zakresu prawa MP7 – warsztaty- język rosyjski
DESCRIPTION:Webinarium „Kurs dla tłumaczy języków obcych z zakresu prawa 2024-2026” \nVII moduł podstawowy –  PRAWO KARNE- Środki zabezpieczające – wniosek o zastosowanie środka zabezpieczającego \nWarsztaty tematyczne w sekcjach językowych – sekcja rosyjska \nProgram kursu dla tłumaczy z zakresu prawa z warsztatami w sekcjach językowych (2024-2026)
URL:https://tepis.org.pl/event/kurs-z-zakresu-prawa-mp7-warsztaty-jezyk-rosyjski/
END:VEVENT
BEGIN:VEVENT
DTSTART;TZID=Europe/Warsaw:20250529T184500
DTEND;TZID=Europe/Warsaw:20250529T201500
DTSTAMP:20260420T004233
CREATED:20241213T132554Z
LAST-MODIFIED:20241213T132554Z
UID:46794-1748544300-1748549700@tepis.org.pl
SUMMARY:Kurs z zakresu prawa MP7 – warsztaty- język ukraiński
DESCRIPTION:Webinarium „Kurs dla tłumaczy języków obcych z zakresu prawa 2024-2026” \nVII moduł podstawowy –  PRAWO KARNE- Środki zabezpieczające – wniosek o zastosowanie środka zabezpieczającego \nWarsztaty tematyczne w sekcjach językowych – sekcja ukraińska \nProgram kursu dla tłumaczy z zakresu prawa z warsztatami w sekcjach językowych (2024-2026)
URL:https://tepis.org.pl/event/kurs-z-zakresu-prawa-mp7-warsztaty-jezyk-ukrainski/
END:VEVENT
BEGIN:VEVENT
DTSTART;TZID=Europe/Warsaw:20250529T190000
DTEND;TZID=Europe/Warsaw:20250529T203000
DTSTAMP:20260420T004233
CREATED:20241213T133400Z
LAST-MODIFIED:20241213T133400Z
UID:46802-1748545200-1748550600@tepis.org.pl
SUMMARY:Kurs z zakresu prawa MP7 – warsztaty- język chorwacki
DESCRIPTION:Webinarium „Kurs dla tłumaczy języków obcych z zakresu prawa 2024-2026” \nVII moduł podstawowy –  PRAWO KARNE- Środki zabezpieczające – wniosek o zastosowanie środka zabezpieczającego \nWarsztaty tematyczne w sekcjach językowych – sekcja chorwacka \nProgram kursu dla tłumaczy z zakresu prawa z warsztatami w sekcjach językowych (2024-2026)
URL:https://tepis.org.pl/event/kurs-z-zakresu-prawa-mp7-warsztaty-jezyk-chorwacki/
END:VEVENT
BEGIN:VEVENT
DTSTART;TZID=Europe/Warsaw:20250529T190000
DTEND;TZID=Europe/Warsaw:20250529T220000
DTSTAMP:20260420T004233
CREATED:20241209T100631Z
LAST-MODIFIED:20241209T100631Z
UID:46722-1748545200-1748556000@tepis.org.pl
SUMMARY:Spotkanie Zarządów Kół terenowych PT TEPIS
DESCRIPTION:
URL:https://tepis.org.pl/event/spotkanie-zarzadow-kol-terenowych-pt-tepis-13/
END:VEVENT
END:VCALENDAR