BEGIN:VCALENDAR
VERSION:2.0
PRODID:-//PT TEPIS - ECPv6.15.20//NONSGML v1.0//EN
CALSCALE:GREGORIAN
METHOD:PUBLISH
X-ORIGINAL-URL:https://tepis.org.pl
X-WR-CALDESC:Wydarzenia dla PT TEPIS
REFRESH-INTERVAL;VALUE=DURATION:PT1H
X-Robots-Tag:noindex
X-PUBLISHED-TTL:PT1H
BEGIN:VTIMEZONE
TZID:Europe/Warsaw
BEGIN:DAYLIGHT
TZOFFSETFROM:+0100
TZOFFSETTO:+0200
TZNAME:CEST
DTSTART:20240331T010000
END:DAYLIGHT
BEGIN:STANDARD
TZOFFSETFROM:+0200
TZOFFSETTO:+0100
TZNAME:CET
DTSTART:20241027T010000
END:STANDARD
BEGIN:DAYLIGHT
TZOFFSETFROM:+0100
TZOFFSETTO:+0200
TZNAME:CEST
DTSTART:20250330T010000
END:DAYLIGHT
BEGIN:STANDARD
TZOFFSETFROM:+0200
TZOFFSETTO:+0100
TZNAME:CET
DTSTART:20251026T010000
END:STANDARD
BEGIN:DAYLIGHT
TZOFFSETFROM:+0100
TZOFFSETTO:+0200
TZNAME:CEST
DTSTART:20260329T010000
END:DAYLIGHT
BEGIN:STANDARD
TZOFFSETFROM:+0200
TZOFFSETTO:+0100
TZNAME:CET
DTSTART:20261025T010000
END:STANDARD
END:VTIMEZONE
BEGIN:VEVENT
DTSTART;TZID=Europe/Warsaw:20250918T180000
DTEND;TZID=Europe/Warsaw:20250918T193000
DTSTAMP:20260420T083344
CREATED:20250829T072903Z
LAST-MODIFIED:20250829T072903Z
UID:53355-1758218400-1758223800@tepis.org.pl
SUMMARY:Microsoft Word w praktyce tłumaczeniowej- webinarium
DESCRIPTION:Zapraszamy na webinarium pt.\nMicrosoft Word w praktyce tłumaczeniowej\n(powtórzenie szkolenia z dnia 28 sierpnia 2025 r) \nOpis szkolenia\nZapisy przez e-sklep TEPIS: Sklep |
URL:https://tepis.org.pl/event/microsoft-word-w-praktyce-tlumaczeniowej-webinarium-2/
END:VEVENT
END:VCALENDAR