BEGIN:VCALENDAR
VERSION:2.0
PRODID:-//PT TEPIS - ECPv6.15.20//NONSGML v1.0//EN
CALSCALE:GREGORIAN
METHOD:PUBLISH
X-ORIGINAL-URL:https://tepis.org.pl
X-WR-CALDESC:Wydarzenia dla PT TEPIS
REFRESH-INTERVAL;VALUE=DURATION:PT1H
X-Robots-Tag:noindex
X-PUBLISHED-TTL:PT1H
BEGIN:VTIMEZONE
TZID:Europe/Warsaw
BEGIN:DAYLIGHT
TZOFFSETFROM:+0100
TZOFFSETTO:+0200
TZNAME:CEST
DTSTART:20240331T010000
END:DAYLIGHT
BEGIN:STANDARD
TZOFFSETFROM:+0200
TZOFFSETTO:+0100
TZNAME:CET
DTSTART:20241027T010000
END:STANDARD
BEGIN:DAYLIGHT
TZOFFSETFROM:+0100
TZOFFSETTO:+0200
TZNAME:CEST
DTSTART:20250330T010000
END:DAYLIGHT
BEGIN:STANDARD
TZOFFSETFROM:+0200
TZOFFSETTO:+0100
TZNAME:CET
DTSTART:20251026T010000
END:STANDARD
BEGIN:DAYLIGHT
TZOFFSETFROM:+0100
TZOFFSETTO:+0200
TZNAME:CEST
DTSTART:20260329T010000
END:DAYLIGHT
BEGIN:STANDARD
TZOFFSETFROM:+0200
TZOFFSETTO:+0100
TZNAME:CET
DTSTART:20261025T010000
END:STANDARD
END:VTIMEZONE
BEGIN:VEVENT
DTSTART;TZID=Europe/Warsaw:20251011T080000
DTEND;TZID=Europe/Warsaw:20251012T180000
DTSTAMP:20260420T004208
CREATED:20250821T120314Z
LAST-MODIFIED:20250902T082540Z
UID:53247-1760169600-1760292000@tepis.org.pl
SUMMARY:KONFERENCJA PT TEPIS 2025 - sesja plenarna w WARSZAWIE
DESCRIPTION:KONFERENCJA PT TEPIS 2025 pt. „Rola tłumaczy w wielojęzycznej Europie” pod honorowym patronatem Ministerstwa Sprawiedliwości oraz Prezydenta m.st. Warszawy \nsesja plenarna w dniach 11 i 12 października 2025 w Warszawie \n(Instytut Historii im. Tadeusza Manteuffla Polskiej Akademii Nauk \nprzy Rynku Starego Miasta 31 ) \nProgram Konferencji PT TEPIS 2025
URL:https://tepis.org.pl/event/konferencja-pt-tepis-2025-sesja-plenarna-w-warszawie/
END:VEVENT
END:VCALENDAR