BEGIN:VCALENDAR
VERSION:2.0
PRODID:-//PT TEPIS - ECPv6.15.20//NONSGML v1.0//EN
CALSCALE:GREGORIAN
METHOD:PUBLISH
X-ORIGINAL-URL:https://tepis.org.pl
X-WR-CALDESC:Wydarzenia dla PT TEPIS
REFRESH-INTERVAL;VALUE=DURATION:PT1H
X-Robots-Tag:noindex
X-PUBLISHED-TTL:PT1H
BEGIN:VTIMEZONE
TZID:Europe/Warsaw
BEGIN:DAYLIGHT
TZOFFSETFROM:+0100
TZOFFSETTO:+0200
TZNAME:CEST
DTSTART:20190331T010000
END:DAYLIGHT
BEGIN:STANDARD
TZOFFSETFROM:+0200
TZOFFSETTO:+0100
TZNAME:CET
DTSTART:20191027T010000
END:STANDARD
BEGIN:DAYLIGHT
TZOFFSETFROM:+0100
TZOFFSETTO:+0200
TZNAME:CEST
DTSTART:20200329T010000
END:DAYLIGHT
BEGIN:STANDARD
TZOFFSETFROM:+0200
TZOFFSETTO:+0100
TZNAME:CET
DTSTART:20201025T010000
END:STANDARD
BEGIN:DAYLIGHT
TZOFFSETFROM:+0100
TZOFFSETTO:+0200
TZNAME:CEST
DTSTART:20210328T010000
END:DAYLIGHT
BEGIN:STANDARD
TZOFFSETFROM:+0200
TZOFFSETTO:+0100
TZNAME:CET
DTSTART:20211031T010000
END:STANDARD
END:VTIMEZONE
BEGIN:VEVENT
DTSTART;TZID=Europe/Warsaw:20200910T160000
DTEND;TZID=Europe/Warsaw:20200910T173000
DTSTAMP:20260424T193912
CREATED:20200817T113042Z
LAST-MODIFIED:20200817T115658Z
UID:14323-1599753600-1599759000@tepis.org.pl
SUMMARY:Inwestycje dla tłumaczy j. angielskiego-webinarium 1 i 2/10
DESCRIPTION:Cykl webinariów INWESTYCJE DLA TŁUMACZY JĘZYKA ANGIELSKIEGO \nw dniach: 10.09.2020 r.\, 17.09.2020 r.\, 24.09.2020 r.\, 1.10.2020 r.\, 8.10.2020 r. \nWebinarium_inwestycje EN 09.2020
URL:https://tepis.org.pl/event/webinarium-inwestycje-dla-tlumaczy-j-angielskiego-1-i-2-10/
ORGANIZER;CN="Kolegium Doskonalenia Zawodowego PT TEPIS":MAILTO:tepis@tepis.org.pl
END:VEVENT
BEGIN:VEVENT
DTSTART;TZID=Europe/Warsaw:20200911T170000
DTEND;TZID=Europe/Warsaw:20200911T200000
DTSTAMP:20260424T193912
CREATED:20200731T121825Z
LAST-MODIFIED:20200731T122346Z
UID:14291-1599843600-1599854400@tepis.org.pl
SUMMARY:Webinarium - Zagadnienia prawa amerykańskiego 1/3
DESCRIPTION:Cykl trzech webinariów dla tłumaczy języka angielskiego „Zagadnienia prawa amerykańskiego” – wykład w języku angielskim \nw dniach 11\, 18 i 25 września 2020 r. w godz. 17.00 – 20.00 \nszczegóły
URL:https://tepis.org.pl/event/webinarium-zagadnienia-prawa-amerykanskiego-1-3/
ORGANIZER;CN="Kolegium Doskonalenia Zawodowego PT TEPIS":MAILTO:tepis@tepis.org.pl
END:VEVENT
BEGIN:VEVENT
DTSTART;TZID=Europe/Warsaw:20200917T100000
DTEND;TZID=Europe/Warsaw:20200917T150000
DTSTAMP:20260424T193912
CREATED:20200824T094115Z
LAST-MODIFIED:20200914T102607Z
UID:14359-1600336800-1600354800@tepis.org.pl
SUMMARY:Podstawy ukraińskiego prawa-webinarium 1/4
DESCRIPTION:Podstawy ukraińskiego prawa karnego i cywilnego dla tłumaczy – 4 bloki\n \nzmiana terminu szkolenia: rozpoczyna się 17.09\, a nie jak  wcześniej planowano 15.09\n \n17.09.2020 (wtorek) BLOK 1 – PRAWO KARNE MATERIALNE\n \n22.09.2020 (czwartek)  BLOK 2 – PRAWO KARNE PROCESOWE \n24.09.2020 (wtorek)  BLOK 3 – PRAWO CYWILNE MATERIALNE \n29.09.2020  (czwartek) BLOK 4 – PRAWO CYWILNE PROCESOWE \nPodstawy ukraińskiego prawa_09.2020
URL:https://tepis.org.pl/event/podstawy-ukrainskiego-prawa-webinarium-2-4/
ORGANIZER;CN="Kolegium Doskonalenia Zawodowego PT TEPIS":MAILTO:tepis@tepis.org.pl
END:VEVENT
BEGIN:VEVENT
DTSTART;TZID=Europe/Warsaw:20200917T160000
DTEND;TZID=Europe/Warsaw:20200917T173000
DTSTAMP:20260424T193912
CREATED:20200817T113325Z
LAST-MODIFIED:20200817T120002Z
UID:14326-1600358400-1600363800@tepis.org.pl
SUMMARY:Inwestycje dla tłumaczy j. angielskiego-webinarium 3 i 4/10
DESCRIPTION:Cykl webinariów INWESTYCJE DLA TŁUMACZY JĘZYKA ANGIELSKIEGO \nw dniach: 10.09.2020 r.\, 17.09.2020 r.\, 24.09.2020 r.\, 1.10.2020 r.\, 8.10.2020 r. \nWebinarium_inwestycje EN 09.2020 \n  \n 
URL:https://tepis.org.pl/event/webinarium-inwestycje-dla-tlumaczy-j-angielskiego-3-i-4-10/
ORGANIZER;CN="Kolegium Doskonalenia Zawodowego PT TEPIS":MAILTO:tepis@tepis.org.pl
END:VEVENT
BEGIN:VEVENT
DTSTART;TZID=Europe/Warsaw:20200918T170000
DTEND;TZID=Europe/Warsaw:20200918T200000
DTSTAMP:20260424T193912
CREATED:20200731T122031Z
LAST-MODIFIED:20200731T122031Z
UID:14295-1600448400-1600459200@tepis.org.pl
SUMMARY:Webinarium - Zagadnienia prawa amerykańskiego 2/3
DESCRIPTION:Cykl trzech webinariów dla tłumaczy języka angielskiego „Zagadnienia prawa amerykańskiego” – wykład w języku angielskim \nw dniach 11\, 18 i 25 września 2020 r. w godz. 17.00 – 20.00 \nszczegóły
URL:https://tepis.org.pl/event/webinarium-zagadnienia-prawa-amerykanskiego-2-3/
ORGANIZER;CN="Kolegium Doskonalenia Zawodowego PT TEPIS":MAILTO:tepis@tepis.org.pl
END:VEVENT
BEGIN:VEVENT
DTSTART;TZID=Europe/Warsaw:20200922T100000
DTEND;TZID=Europe/Warsaw:20200922T150000
DTSTAMP:20260424T193912
CREATED:20200824T094413Z
LAST-MODIFIED:20200914T120045Z
UID:14362-1600768800-1600786800@tepis.org.pl
SUMMARY:Podstawy ukraińskiego prawa-webinarium 2/4
DESCRIPTION:Podstawy ukraińskiego prawa karnego i cywilnego dla tłumaczy – 4 bloki\n \nzmiana terminu szkolenia: rozpoczyna się 17.09\, a nie jak  wcześniej planowano 15.09\n \n17.09.2020 (czwartek) BLOK 1 – PRAWO KARNE MATERIALNE\n \n22.09.2020 (wtorek) BLOK 2 – PRAWO KARNE PROCESOWE \n24.09.2020 (czwartek)  BLOK 3 – PRAWO CYWILNE MATERIALNE \n29.09.2020 (wtorek) BLOK 4 – PRAWO CYWILNE PROCESOWE \nPodstawy ukraińskiego prawa_09.2020
URL:https://tepis.org.pl/event/podstawy-ukrainskiego-prawa-webinarium-3-4/
ORGANIZER;CN="Kolegium Doskonalenia Zawodowego PT TEPIS":MAILTO:tepis@tepis.org.pl
END:VEVENT
BEGIN:VEVENT
DTSTART;TZID=Europe/Warsaw:20200924T100000
DTEND;TZID=Europe/Warsaw:20200924T150000
DTSTAMP:20260424T193912
CREATED:20200824T094600Z
LAST-MODIFIED:20200914T103014Z
UID:14364-1600941600-1600959600@tepis.org.pl
SUMMARY:Podstawy ukraińskiego prawa-webinarium 3/4
DESCRIPTION:Podstawy ukraińskiego prawa karnego i cywilnego dla tłumaczy – 4 bloki \nzmiana terminu szkolenia: rozpoczyna się 17.09\, a nie jak  wcześniej planowano 15.09\n \n17.09.2020 (czwartek) BLOK 1 – PRAWO KARNE MATERIALNE\n \n22.09.2020 (wtorek) BLOK 2 – PRAWO KARNE PROCESOWE \n24.09.2020 (czwartek)  BLOK 3 – PRAWO CYWILNE MATERIALNE \n29.09.2020 (wtorek) BLOK 4 – PRAWO CYWILNE PROCESOWE \n  \nPodstawy ukraińskiego prawa_09.2020
URL:https://tepis.org.pl/event/podstawy-ukrainskiego-prawa-webinarium-4-4/
ORGANIZER;CN="Kolegium Doskonalenia Zawodowego PT TEPIS":MAILTO:tepis@tepis.org.pl
END:VEVENT
BEGIN:VEVENT
DTSTART;TZID=Europe/Warsaw:20200924T160000
DTEND;TZID=Europe/Warsaw:20200924T173000
DTSTAMP:20260424T193912
CREATED:20200817T113557Z
LAST-MODIFIED:20200817T120202Z
UID:14328-1600963200-1600968600@tepis.org.pl
SUMMARY:Inwestycje dla tłumaczy j. angielskiego-webinarium 5 i 6/10
DESCRIPTION:Cykl webinariów INWESTYCJE DLA TŁUMACZY JĘZYKA ANGIELSKIEGO \nw dniach: 10.09.2020 r.\, 17.09.2020 r.\, 24.09.2020 r.\, 1.10.2020 r.\, 8.10.2020 r. \nWebinarium_inwestycje EN 09.2020
URL:https://tepis.org.pl/event/webinarium-inwestycje-dla-tlumaczy-j-angielskiego4-i-6-10/
ORGANIZER;CN="Kolegium Doskonalenia Zawodowego PT TEPIS":MAILTO:tepis@tepis.org.pl
END:VEVENT
BEGIN:VEVENT
DTSTART;TZID=Europe/Warsaw:20200925T170000
DTEND;TZID=Europe/Warsaw:20200925T200000
DTSTAMP:20260424T193912
CREATED:20200731T122242Z
LAST-MODIFIED:20200731T122242Z
UID:14297-1601053200-1601064000@tepis.org.pl
SUMMARY:Webinarium- Zagadnienia prawa amerykańskiego 3/3
DESCRIPTION:Cykl trzech webinariów dla tłumaczy języka angielskiego „Zagadnienia prawa amerykańskiego” – wykład w języku angielskim \nw dniach 11\, 18 i 25 września 2020 r. w godz. 17.00 – 20.00 \nszczegóły
URL:https://tepis.org.pl/event/webinarium-zagadnienia-prawa-amerykanskiego-3-3/
ORGANIZER;CN="Kolegium Doskonalenia Zawodowego PT TEPIS":MAILTO:tepis@tepis.org.pl
END:VEVENT
BEGIN:VEVENT
DTSTART;TZID=Europe/Warsaw:20200929T100000
DTEND;TZID=Europe/Warsaw:20200929T150000
DTSTAMP:20260424T193912
CREATED:20200824T093911Z
LAST-MODIFIED:20200914T102808Z
UID:14354-1601373600-1601391600@tepis.org.pl
SUMMARY:Podstawy ukraińskiego prawa-webinarium 4/4
DESCRIPTION:Podstawy ukraińskiego prawa karnego i cywilnego dla tłumaczy – 4 bloki\n \nzmiana terminu szkolenia: rozpoczyna się 17.09\, a nie jak  wcześniej planowano 15.09\n \n17.09.2020 (czwartek) BLOK 1 – PRAWO KARNE MATERIALNE\n \n22.09.2020 (wtorek) BLOK 2 – PRAWO KARNE PROCESOWE \n24.09.2020 (czwartek)  BLOK 3 – PRAWO CYWILNE MATERIALNE \n29.09.2020 (wtorek) BLOK 4 – PRAWO CYWILNE PROCESOWE \n  \nPodstawy ukraińskiego prawa_09.2020 \n 
URL:https://tepis.org.pl/event/webinarium-podstawy-ukrainskiego-prawa-1-4/
ORGANIZER;CN="Kolegium Doskonalenia Zawodowego PT TEPIS":MAILTO:tepis@tepis.org.pl
END:VEVENT
END:VCALENDAR