BEGIN:VCALENDAR
VERSION:2.0
PRODID:-//PT TEPIS - ECPv6.15.20//NONSGML v1.0//EN
CALSCALE:GREGORIAN
METHOD:PUBLISH
X-WR-CALNAME:PT TEPIS
X-ORIGINAL-URL:https://tepis.org.pl
X-WR-CALDESC:Wydarzenia dla PT TEPIS
REFRESH-INTERVAL;VALUE=DURATION:PT1H
X-Robots-Tag:noindex
X-PUBLISHED-TTL:PT1H
BEGIN:VTIMEZONE
TZID:Europe/Warsaw
BEGIN:DAYLIGHT
TZOFFSETFROM:+0100
TZOFFSETTO:+0200
TZNAME:CEST
DTSTART:20190331T010000
END:DAYLIGHT
BEGIN:STANDARD
TZOFFSETFROM:+0200
TZOFFSETTO:+0100
TZNAME:CET
DTSTART:20191027T010000
END:STANDARD
BEGIN:DAYLIGHT
TZOFFSETFROM:+0100
TZOFFSETTO:+0200
TZNAME:CEST
DTSTART:20200329T010000
END:DAYLIGHT
BEGIN:STANDARD
TZOFFSETFROM:+0200
TZOFFSETTO:+0100
TZNAME:CET
DTSTART:20201025T010000
END:STANDARD
BEGIN:DAYLIGHT
TZOFFSETFROM:+0100
TZOFFSETTO:+0200
TZNAME:CEST
DTSTART:20210328T010000
END:DAYLIGHT
BEGIN:STANDARD
TZOFFSETFROM:+0200
TZOFFSETTO:+0100
TZNAME:CET
DTSTART:20211031T010000
END:STANDARD
END:VTIMEZONE
BEGIN:VEVENT
DTSTART;TZID=Europe/Warsaw:20201001T160000
DTEND;TZID=Europe/Warsaw:20201001T173000
DTSTAMP:20260424T181016
CREATED:20200817T114124Z
LAST-MODIFIED:20210217T155224Z
UID:14333-1601568000-1601573400@tepis.org.pl
SUMMARY:Inwestycje dla tłumaczy j. angielskiego-webinarium 7 i 8/10
DESCRIPTION:Cykl webinariów INWESTYCJE DLA TŁUMACZY JĘZYKA ANGIELSKIEGO \nw dniach: 10.09.2020 r.\, 17.09.2020 r.\, 24.09.2020 r.\, 1.10.2020 r.\, 8.10.2020 r. \nWebinarium_inwestycje EN 09.2020
URL:https://tepis.org.pl/event/webinarium-inwestycje-dla-tlumaczy-jezyka-angielskiego-7-i-8-10/
CATEGORIES:2020 Akcje szkoleniowe PT TEPIS
ORGANIZER;CN="Kolegium Doskonalenia Zawodowego PT TEPIS":MAILTO:tepis@tepis.org.pl
END:VEVENT
BEGIN:VEVENT
DTSTART;TZID=Europe/Warsaw:20201002T090000
DTEND;TZID=Europe/Warsaw:20201002T153000
DTSTAMP:20260424T181016
CREATED:20200828T080051Z
LAST-MODIFIED:20210217T155216Z
UID:14372-1601629200-1601652600@tepis.org.pl
SUMMARY:Wystąpienia publiczne i emisja głosu - webinarium
DESCRIPTION:Warsztaty online z Alicją Kopertyńską „Wystąpienia publiczne i emisja głosu” \nWystąpienia publiczne i emisja głosu X 2020.docx
URL:https://tepis.org.pl/event/wystapienia-publiczne-i-emisja-glosu-webinarium/
CATEGORIES:2020 Akcje szkoleniowe PT TEPIS
ORGANIZER;CN="Kolegium Doskonalenia Zawodowego PT TEPIS":MAILTO:tepis@tepis.org.pl
END:VEVENT
BEGIN:VEVENT
DTSTART;TZID=Europe/Warsaw:20201008T160000
DTEND;TZID=Europe/Warsaw:20201008T173000
DTSTAMP:20260424T181016
CREATED:20200817T120711Z
LAST-MODIFIED:20210217T155207Z
UID:14345-1602172800-1602178200@tepis.org.pl
SUMMARY:Inwestycje dla tłumaczy j. angielskiego-webinarium 9 i 10/10
DESCRIPTION:Cykl webinariów INWESTYCJE DLA TŁUMACZY JĘZYKA ANGIELSKIEGO \nw dniach: 10.09.2020 r.\, 17.09.2020 r.\, 24.09.2020 r.\, 1.10.2020 r.\, 8.10.2020 r. \nWebinarium_inwestycje EN 09.2020
URL:https://tepis.org.pl/event/inwestycje-dla-tlumaczy-j-angielskiego-webinarium-9-i-10-10/
CATEGORIES:2020 Akcje szkoleniowe PT TEPIS
END:VEVENT
BEGIN:VEVENT
DTSTART;TZID=Europe/Warsaw:20201009T090000
DTEND;TZID=Europe/Warsaw:20201009T153000
DTSTAMP:20260424T181016
CREATED:20200923T101213Z
LAST-MODIFIED:20210217T155201Z
UID:14531-1602234000-1602257400@tepis.org.pl
SUMMARY:Wystąpienia publiczne i emisja głosu - II edycja
DESCRIPTION:Wystąpienia publiczne i emisja głosu – webinarium \nWystąpienia publiczne i emisja głosu II edycja 2020
URL:https://tepis.org.pl/event/wystapienia-publiczne-i-emisja-glosu-ii-edycja/
CATEGORIES:2020 Akcje szkoleniowe PT TEPIS
END:VEVENT
BEGIN:VEVENT
DTSTART;VALUE=DATE:20201017
DTEND;VALUE=DATE:20201019
DTSTAMP:20260424T181016
CREATED:20200407T152342Z
LAST-MODIFIED:20201014T114915Z
UID:13673-1602892800-1603065599@tepis.org.pl
SUMMARY:Konferencja Jubileuszowa 2020
DESCRIPTION:Program Konferencji Jubileuszowej w dniach 17 i 18 października 2020 r. \nInformacja o prelegentach i streszczenia wystąpień
URL:https://tepis.org.pl/event/konferencja-jubileuszowa-2020/
CATEGORIES:2020 Akcje szkoleniowe PT TEPIS
END:VEVENT
END:VCALENDAR