BEGIN:VCALENDAR
VERSION:2.0
PRODID:-//PT TEPIS - ECPv6.15.20//NONSGML v1.0//EN
CALSCALE:GREGORIAN
METHOD:PUBLISH
X-ORIGINAL-URL:https://tepis.org.pl
X-WR-CALDESC:Wydarzenia dla PT TEPIS
REFRESH-INTERVAL;VALUE=DURATION:PT1H
X-Robots-Tag:noindex
X-PUBLISHED-TTL:PT1H
BEGIN:VTIMEZONE
TZID:Europe/Warsaw
BEGIN:DAYLIGHT
TZOFFSETFROM:+0100
TZOFFSETTO:+0200
TZNAME:CEST
DTSTART:20200329T010000
END:DAYLIGHT
BEGIN:STANDARD
TZOFFSETFROM:+0200
TZOFFSETTO:+0100
TZNAME:CET
DTSTART:20201025T010000
END:STANDARD
BEGIN:DAYLIGHT
TZOFFSETFROM:+0100
TZOFFSETTO:+0200
TZNAME:CEST
DTSTART:20210328T010000
END:DAYLIGHT
BEGIN:STANDARD
TZOFFSETFROM:+0200
TZOFFSETTO:+0100
TZNAME:CET
DTSTART:20211031T010000
END:STANDARD
BEGIN:DAYLIGHT
TZOFFSETFROM:+0100
TZOFFSETTO:+0200
TZNAME:CEST
DTSTART:20220327T010000
END:DAYLIGHT
BEGIN:STANDARD
TZOFFSETFROM:+0200
TZOFFSETTO:+0100
TZNAME:CET
DTSTART:20221030T010000
END:STANDARD
END:VTIMEZONE
BEGIN:VEVENT
DTSTART;TZID=Europe/Warsaw:20210109T100000
DTEND;TZID=Europe/Warsaw:20210109T113000
DTSTAMP:20260424T133014
CREATED:20201210T083228Z
LAST-MODIFIED:20210217T155041Z
UID:15192-1610186400-1610191800@tepis.org.pl
SUMMARY:Cztery pokoje\, czyli empatia dla siebie w trudnych czasach 1/4
DESCRIPTION:Cykl webinariów dla każdego „Cztery pokoje\, czyli empatia dla siebie w trudnych czasach” \nPokój 1: Ciało\, czyli jak zadbać o dom duszy \nWebinarium Cztery pokoje_2021 \n 
URL:https://tepis.org.pl/event/cztery-pokoje-czyli-empatia-dla-siebie-w-trudnych-czasach-1-4/
CATEGORIES:2020 Akcje szkoleniowe PT TEPIS
END:VEVENT
BEGIN:VEVENT
DTSTART;TZID=Europe/Warsaw:20210111T170000
DTEND;TZID=Europe/Warsaw:20210111T194500
DTSTAMP:20260424T133014
CREATED:20201209T101123Z
LAST-MODIFIED:20210217T155036Z
UID:15185-1610384400-1610394300@tepis.org.pl
SUMMARY:Płeć w polszczyźnie-J. pol. dla tłumaczy 1/3
DESCRIPTION:Cykl 3 webinariów Język polski dla tłumaczy II – część 1 pt. Płeć w polszczyźnie\n \nszczegóły
URL:https://tepis.org.pl/event/plec-w-polszczyznie-j-pol-dla-tlumaczy-1-3/
CATEGORIES:2020 Akcje szkoleniowe PT TEPIS
END:VEVENT
BEGIN:VEVENT
DTSTART;TZID=Europe/Warsaw:20210112T190000
DTEND;TZID=Europe/Warsaw:20210112T200000
DTSTAMP:20260424T133014
CREATED:20210118T113408Z
LAST-MODIFIED:20210217T155022Z
UID:15393-1610478000-1610481600@tepis.org.pl
SUMMARY:Spotkanie Noworoczne Koła Dolnośląskiego TEPIS
DESCRIPTION:
URL:https://tepis.org.pl/event/spotkanie-noworoczne-kola-dolnoslaskiego-tepis/
CATEGORIES:2021 Akcje szkoleniowe PT TEPIS
END:VEVENT
BEGIN:VEVENT
DTSTART;TZID=Europe/Warsaw:20210115T170000
DTEND;TZID=Europe/Warsaw:20210115T183000
DTSTAMP:20260424T133014
CREATED:20201215T101010Z
LAST-MODIFIED:20210217T155016Z
UID:15254-1610730000-1610735400@tepis.org.pl
SUMMARY:Tłumaczenia medyczne (ang\, pol): diagnostyka obrazowa-druga edycja
DESCRIPTION:Webinarium pt. Tłumaczenia medyczne (ang\, pol): diagnostyka obrazowa (powtórzenie szkolenia z grudnia)\n \nWebinarium Tłumaczenia medyczne EN 2021.doc
URL:https://tepis.org.pl/event/tlumaczenia-medyczne-ang-pol-diagnostyka-obrazowa-druga-edycja/
CATEGORIES:2021 Akcje szkoleniowe PT TEPIS
END:VEVENT
BEGIN:VEVENT
DTSTART;TZID=Europe/Warsaw:20210115T175000
DTEND;TZID=Europe/Warsaw:20210115T200000
DTSTAMP:20260424T133014
CREATED:20210118T111526Z
LAST-MODIFIED:20210217T155006Z
UID:15391-1610733000-1610740800@tepis.org.pl
SUMMARY:Spotkanie Noworoczne Członków PT TEPIS
DESCRIPTION:Spotkanie Noworoczne Członków PT TEPIS. Gościem specjalnym jest Pan Jacek Walkiewicz\, psycholog\, mówca motywacyjny\, trener i mentor\, członek Stowarzyszenia Profesjonalnych Mówców. Pan Jacek Walkiewicz wygłosi wykład pt: „Pełna MOC w czasach zmian”.
URL:https://tepis.org.pl/event/spotkanie-noworoczne-czlonkow-pt-tepis/
CATEGORIES:2021 Akcje szkoleniowe PT TEPIS
END:VEVENT
BEGIN:VEVENT
DTSTART;TZID=Europe/Warsaw:20210118T170000
DTEND;TZID=Europe/Warsaw:20210118T194500
DTSTAMP:20260424T133014
CREATED:20201209T102145Z
LAST-MODIFIED:20210217T154958Z
UID:15187-1610989200-1610999100@tepis.org.pl
SUMMARY:Niebezpieczne związki… frazeologiczne - J. pol.dla tłumaczy 2/3
DESCRIPTION:Cykl 3 webinariów Język polski dla tłumaczy II – część 2 pt. Niebezpieczne związki… frazeologiczne \nszczegóły
URL:https://tepis.org.pl/event/niebezpieczne-zwiazki-frazeologiczne-j-pol-dla-tlumaczy-2-3/
CATEGORIES:2021 Akcje szkoleniowe PT TEPIS
END:VEVENT
BEGIN:VEVENT
DTSTART;TZID=Europe/Warsaw:20210123T100000
DTEND;TZID=Europe/Warsaw:20210123T113000
DTSTAMP:20260424T133014
CREATED:20201210T083547Z
LAST-MODIFIED:20210217T154951Z
UID:15195-1611396000-1611401400@tepis.org.pl
SUMMARY:Cztery pokoje\, czyli empatia dla siebie w trudnych czasach 2/4
DESCRIPTION:Cykl webinariów dla każdego „Cztery pokoje\, czyli empatia dla siebie w trudnych czasach” \nPokój 2: Emocje\, czyli jak się nie wkurzać (a w każdym razie rzadziej) \nWebinarium Cztery pokoje_2021
URL:https://tepis.org.pl/event/cztery-pokoje-czyli-empatia-dla-siebie-w-trudnych-czasach-2-4/
CATEGORIES:2021 Akcje szkoleniowe PT TEPIS
END:VEVENT
BEGIN:VEVENT
DTSTART;TZID=Europe/Warsaw:20210123T100000
DTEND;TZID=Europe/Warsaw:20210123T130000
DTSTAMP:20260424T133014
CREATED:20210112T073102Z
LAST-MODIFIED:20210217T154943Z
UID:15351-1611396000-1611406800@tepis.org.pl
SUMMARY:Postępowanie zabezpieczające  w prawie cywilnym i karnym Włoch i Polski - 1/2 webinarium
DESCRIPTION:Postępowanie zabezpieczające  w prawie cywilnym i karnym Włoch i Polski dla tłumaczy języka włoskiego   \nWebinarium Postępowanie zabezpieczające IT.doc \nCzęść 1  Środki zabezpieczające w prawie karnym \nWebinarium na platformie ZOOM
URL:https://tepis.org.pl/event/postepowanie-zabezpieczajace-w-prawie-cywilnym-i-karnym-wloch-i-polski-1-2-webinarium/
CATEGORIES:2021 Akcje szkoleniowe PT TEPIS
END:VEVENT
BEGIN:VEVENT
DTSTART;TZID=Europe/Warsaw:20210125T170000
DTEND;TZID=Europe/Warsaw:20210125T194500
DTSTAMP:20260424T133014
CREATED:20201209T102423Z
LAST-MODIFIED:20210217T154936Z
UID:15189-1611594000-1611603900@tepis.org.pl
SUMMARY:Gdzie szukać językowej pomocy? - J. pol. dla tłumaczy 3/3
DESCRIPTION:Cykl 3 webinariów Język polski dla tłumaczy II – część 3 pt. Gdzie szukać językowej pomocy? Przewodnik po internetowych źródłach wiedzy \nszczegóły
URL:https://tepis.org.pl/event/gdzie-szukac-jezykowej-pomocy-j-pol-dla-tlumaczy-3-3/
CATEGORIES:2021 Akcje szkoleniowe PT TEPIS
END:VEVENT
BEGIN:VEVENT
DTSTART;TZID=Europe/Warsaw:20210130T100000
DTEND;TZID=Europe/Warsaw:20210130T130000
DTSTAMP:20260424T133014
CREATED:20210112T073336Z
LAST-MODIFIED:20210217T154929Z
UID:15354-1612000800-1612011600@tepis.org.pl
SUMMARY:Postępowanie zabezpieczające  w prawie cywilnym i karnym Włoch i Polski - 2/2 webinarium
DESCRIPTION:Postępowanie zabezpieczające  w prawie cywilnym i karnym Włoch i Polski dla tłumaczy języka włoskiego   \nWebinarium Postępowanie zabezpieczające IT.doc \nCzęść 2  środki zabezpieczające w prawie cywilnym\n \nWebinarium na platformie ZOOM
URL:https://tepis.org.pl/event/postepowanie-zabezpieczajace-w-prawie-cywilnym-i-karnym-wloch-i-polski-2-2-webinarium/
CATEGORIES:2021 Akcje szkoleniowe PT TEPIS
END:VEVENT
END:VCALENDAR