BEGIN:VCALENDAR
VERSION:2.0
PRODID:-//PT TEPIS - ECPv6.15.20//NONSGML v1.0//EN
CALSCALE:GREGORIAN
METHOD:PUBLISH
X-ORIGINAL-URL:https://tepis.org.pl
X-WR-CALDESC:Wydarzenia dla PT TEPIS
REFRESH-INTERVAL;VALUE=DURATION:PT1H
X-Robots-Tag:noindex
X-PUBLISHED-TTL:PT1H
BEGIN:VTIMEZONE
TZID:Europe/Warsaw
BEGIN:DAYLIGHT
TZOFFSETFROM:+0100
TZOFFSETTO:+0200
TZNAME:CEST
DTSTART:20200329T010000
END:DAYLIGHT
BEGIN:STANDARD
TZOFFSETFROM:+0200
TZOFFSETTO:+0100
TZNAME:CET
DTSTART:20201025T010000
END:STANDARD
BEGIN:DAYLIGHT
TZOFFSETFROM:+0100
TZOFFSETTO:+0200
TZNAME:CEST
DTSTART:20210328T010000
END:DAYLIGHT
BEGIN:STANDARD
TZOFFSETFROM:+0200
TZOFFSETTO:+0100
TZNAME:CET
DTSTART:20211031T010000
END:STANDARD
BEGIN:DAYLIGHT
TZOFFSETFROM:+0100
TZOFFSETTO:+0200
TZNAME:CEST
DTSTART:20220327T010000
END:DAYLIGHT
BEGIN:STANDARD
TZOFFSETFROM:+0200
TZOFFSETTO:+0100
TZNAME:CET
DTSTART:20221030T010000
END:STANDARD
END:VTIMEZONE
BEGIN:VEVENT
DTSTART;TZID=Europe/Warsaw:20211001T180000
DTEND;TZID=Europe/Warsaw:20211001T193000
DTSTAMP:20260423T231614
CREATED:20210927T094449Z
LAST-MODIFIED:20210927T094449Z
UID:17348-1633111200-1633116600@tepis.org.pl
SUMMARY:Spotkanie integracyjne Wielkopolskiego Koła PT TEPIS
DESCRIPTION:Spotkanie integracyjne Wielkopolskiego Koła PT TEPIS
URL:https://tepis.org.pl/event/spotkanie-integracyjne-wielkopolskiego-kola-pt-tepis/
END:VEVENT
BEGIN:VEVENT
DTSTART;TZID=Europe/Warsaw:20211002T100000
DTEND;TZID=Europe/Warsaw:20211002T130000
DTSTAMP:20260423T231614
CREATED:20210916T065513Z
LAST-MODIFIED:20210916T144206Z
UID:17284-1633168800-1633179600@tepis.org.pl
SUMMARY:Webinarium-Płeć w polszczyźnie Część 2/3
DESCRIPTION:Cykl 3 webinariów dla tłumaczy wszystkich języków pt.  „Płeć w polszczyźnie” \nProwadzący: Mateusz Adamczyk \nCzęść 2. Czy język polski jest seksistowski? \nszczegóły >>
URL:https://tepis.org.pl/event/webinarium-plec-w-polszczyznie-czesc-2-3/
END:VEVENT
BEGIN:VEVENT
DTSTART;TZID=Europe/Warsaw:20211005T100000
DTEND;TZID=Europe/Warsaw:20211005T131500
DTSTAMP:20260423T231614
CREATED:20210820T082337Z
LAST-MODIFIED:20210903T070152Z
UID:17214-1633428000-1633439700@tepis.org.pl
SUMMARY:Webinarium -Terminologia mikro- i makro-ekon. (EN/PL) cz.7 i 8/10
DESCRIPTION:Cykl 10 webinariów dr Agaty Koci dla tłumaczy języka angielskiego pt. \n„Terminologia mikro- i makro-ekonomiczna gospodarek kapitalistycznych”. \nWebinarium 7 i 8 w dniu 05.10.2021 r.\nCzęść 7 – godz. 10.00-11.30\nPodczas spotkania zostanie omówione pojęcie konkurencji i zostanie ono porównane z\nmonopolem\, duopolem oraz oligopolem.\nCzęść 8 – godz. 11.45-13.15\nTematem spotkania będzie pieniądz oraz procesy rewaluacji i dewaluacji pieniądza.\nOmówione zostaną też istotne pojęcia płynności oraz ryzyka.
URL:https://tepis.org.pl/event/webinarium-terminologia-mikro-i-makro-en-pl-cz-7-i-8-10/
END:VEVENT
BEGIN:VEVENT
DTSTART;TZID=Europe/Warsaw:20211006T180000
DTEND;TZID=Europe/Warsaw:20211006T193000
DTSTAMP:20260423T231614
CREATED:20210916T095301Z
LAST-MODIFIED:20210916T095301Z
UID:17291-1633543200-1633548600@tepis.org.pl
SUMMARY:Webinarium dla tłumaczy j. hiszpańskiego cz. 2/4
DESCRIPTION:Cykl czterech webinariów dla tłumaczy języka hiszpańskiego  \npt. EL CONTEXTO HISTÓRICO\, LA ESTRUCTURA DEL ESTADO Y LA SITUACIÓN POLÍTICA DE ESPAÑA \n29.09.2021 – CONTEXTO HISTÓRICO DE LA ESPAÑA ACTUAL (SIGLO XX) \n06.10.2021 – ESTRUCTURA FORMAL DEL ESTADO ESPAÑOL \n13.10.2021 – ESTRUCTURA TERRITORIAL DE ESPAÑA \n20.10.2021 – SITUACIÓN POLÍTICA ACTUAL \nszczegóły >>>Webinarium_CIMAD_ES_2021
URL:https://tepis.org.pl/event/webinarium-dla-tlumaczy-j-hiszpanskiego-cz-2-4/
END:VEVENT
BEGIN:VEVENT
DTSTART;TZID=Europe/Warsaw:20211009T100000
DTEND;TZID=Europe/Warsaw:20211009T130000
DTSTAMP:20260423T231614
CREATED:20210916T065727Z
LAST-MODIFIED:20210916T144118Z
UID:17286-1633773600-1633784400@tepis.org.pl
SUMMARY:Webinarium-Płeć w polszczyźnie Część 3/3
DESCRIPTION:Cykl 3 webinariów dla tłumaczy wszystkich języków pt.  „Płeć w polszczyźnie” \nProwadzący: Mateusz Adamczyk \nCzęść 3 W poszukiwaniu języka neutralnego \nszczegóły >>
URL:https://tepis.org.pl/event/webinarium-plec-w-polszczyznie-czesc-3-3/
END:VEVENT
BEGIN:VEVENT
DTSTART;TZID=Europe/Warsaw:20211013T180000
DTEND;TZID=Europe/Warsaw:20211013T193000
DTSTAMP:20260423T231614
CREATED:20210916T095613Z
LAST-MODIFIED:20210916T095613Z
UID:17294-1634148000-1634153400@tepis.org.pl
SUMMARY:Webinarium dla tłumaczy j. hiszpańskiego cz. 3/4
DESCRIPTION:Cykl czterech webinariów dla tłumaczy języka hiszpańskiego \npt. EL CONTEXTO HISTÓRICO\, LA ESTRUCTURA DEL ESTADO Y LA SITUACIÓN POLÍTICA DE ESPAÑA \n29.09.2021 – CONTEXTO HISTÓRICO DE LA ESPAÑA ACTUAL (SIGLO XX) \n06.10.2021 – ESTRUCTURA FORMAL DEL ESTADO ESPAÑOL \n13.10.2021 – ESTRUCTURA TERRITORIAL DE ESPAÑA \n20.10.2021 – SITUACIÓN POLÍTICA ACTUAL \nszczegóły >>>Webinarium_CIMAD_ES_2021
URL:https://tepis.org.pl/event/webinarium-dla-tlumaczy-j-hiszpanskiego-cz-3-4/
END:VEVENT
BEGIN:VEVENT
DTSTART;TZID=Europe/Warsaw:20211014T100000
DTEND;TZID=Europe/Warsaw:20211014T131500
DTSTAMP:20260423T231614
CREATED:20210820T082527Z
LAST-MODIFIED:20210903T070022Z
UID:17216-1634205600-1634217300@tepis.org.pl
SUMMARY:Webinarium -Terminologia mikro- i makro-ekon. (EN/PL) cz.9 i 10/10
DESCRIPTION:Cykl 10 webinariów dr Agaty Koci dla tłumaczy języka angielskiego pt. \n„Terminologia mikro- i makro-ekonomiczna gospodarek kapitalistycznych”. \nWebinarium 9 i 10 w dniu 14.10.2021 r.\nCzęść 9 – godz. 10.00-11.30\nTematem spotkania będą rynki finansowe\, w tym omówione zostaną podstawowe\ninstrumenty rynku dłużnego\, kapitałowego i rynku instrumentów pochodnych.\nCzęść 10 – godz. 11.45-13.15\n10. Podczas spotkania zostaną omówione czynniki wzrostu gospodarczego oraz cykl\nkoniunkturalny. Część spotkania będzie poświęcone na podsumowanie szkolenia.
URL:https://tepis.org.pl/event/webinarium-terminologia-mikro-i-makro-en-pl-cz-9-i-10-10/
END:VEVENT
BEGIN:VEVENT
DTSTART;VALUE=DATE:20211016
DTEND;VALUE=DATE:20211017
DTSTAMP:20260423T231614
CREATED:20210720T074413Z
LAST-MODIFIED:20210921T073957Z
UID:17147-1634342400-1634428799@tepis.org.pl
SUMMARY:Konferencja PT TEPIS/XXXV Warsztaty Przekładu Specjalistycznego
DESCRIPTION:Konferencja PT TEPIS \nXXXV Warsztaty Przekładu Specjalistycznego \nAbstrakty i bionoty Konferencja PT TEPIS \nProgram Konferencji PT TEPIS
URL:https://tepis.org.pl/event/konferencja-pt-tepis-xxxv-warsztaty-przekladu-specjalistycznego/
END:VEVENT
BEGIN:VEVENT
DTSTART;VALUE=DATE:20211017
DTEND;VALUE=DATE:20211018
DTSTAMP:20260423T231614
CREATED:20210720T074515Z
LAST-MODIFIED:20210921T073848Z
UID:17149-1634428800-1634515199@tepis.org.pl
SUMMARY:Konferencja PT TEPIS/XXXV Warsztaty Przekładu Specjalistycznego
DESCRIPTION:Konferencja PT TEPIS \nXXXV Warsztaty Przekładu Specjalistycznego \nAbstrakty i bionoty Konferencja PT TEPIS \nProgram Konferencji PT TEPIS \n 
URL:https://tepis.org.pl/event/konferencja-pt-tepis-xxxv-warsztaty-przekladu-specjalistycznego-2/
END:VEVENT
BEGIN:VEVENT
DTSTART;TZID=Europe/Warsaw:20211020T180000
DTEND;TZID=Europe/Warsaw:20211020T193000
DTSTAMP:20260423T231614
CREATED:20210916T095754Z
LAST-MODIFIED:20210916T095905Z
UID:17296-1634752800-1634758200@tepis.org.pl
SUMMARY:Webinarium dla tłumaczy j. hiszpańskiego cz. 4/4
DESCRIPTION:Cykl czterech webinariów dla tłumaczy języka hiszpańskiego \npt. EL CONTEXTO HISTÓRICO\, LA ESTRUCTURA DEL ESTADO Y LA SITUACIÓN POLÍTICA DE ESPAÑA \n29.09.2021 – CONTEXTO HISTÓRICO DE LA ESPAÑA ACTUAL (SIGLO XX) \n06.10.2021 – ESTRUCTURA FORMAL DEL ESTADO ESPAÑOL \n13.10.2021 – ESTRUCTURA TERRITORIAL DE ESPAÑA \n20.10.2021 – SITUACIÓN POLÍTICA ACTUAL \nszczegóły >>>Webinarium_CIMAD_ES_2021
URL:https://tepis.org.pl/event/webinarium-dla-tlumaczy-j-hiszpanskiego-cz-4-4/
END:VEVENT
BEGIN:VEVENT
DTSTART;TZID=Europe/Warsaw:20211025T180000
DTEND;TZID=Europe/Warsaw:20211025T203000
DTSTAMP:20260423T231614
CREATED:20211016T124624Z
LAST-MODIFIED:20211016T124624Z
UID:17431-1635184800-1635193800@tepis.org.pl
SUMMARY:Udział tłumaczy w postępowaniach z udziałem cudzoziemców-webinarium
DESCRIPTION:Webinarium dla tłumaczy pt.: Udział tłumaczy w postępowaniach z udziałem cudzoziemców – wybrane zagadnienia \nWebinarium postępowanie_cudzoziemcy_2021 \nZagadnienia: \n\nStraż Graniczna\nCudzoziemiec\, migrant\, uchodźca\, azylant – pojęcia i definicje\nPobyt cudzoziemca: legalny czy nielegalny?\nZakończenie nielegalnego pobytu.\nUdział tłumacza w postępowaniach z cudzoziemcami\n100 pytań do…
URL:https://tepis.org.pl/event/udzial-tlumaczy-w-postepowaniach-z-udzialem-cudzoziemcow-webinarium/
END:VEVENT
BEGIN:VEVENT
DTSTART;TZID=Europe/Warsaw:20211027T173000
DTEND;TZID=Europe/Warsaw:20211027T203000
DTSTAMP:20260423T231614
CREATED:20211006T140422Z
LAST-MODIFIED:20211006T140422Z
UID:17376-1635355800-1635366600@tepis.org.pl
SUMMARY:Prawo polskie i hiszpańskie_webinarium1/7
DESCRIPTION:Cykl siedmiu webinariów dla tłumaczy języka hiszpańskiego pt. \nPrawo polskie i hiszpańskie – wybrane zagadnienia z podstawowych dziedzin prawa \nszczegóły>>Webinar_Prawo polskie i hiszpańskie 10.2021
URL:https://tepis.org.pl/event/prawo-polskie-i-hiszpanskie_webinarium1-7/
END:VEVENT
END:VCALENDAR