BEGIN:VCALENDAR
VERSION:2.0
PRODID:-//PT TEPIS - ECPv6.15.20//NONSGML v1.0//EN
CALSCALE:GREGORIAN
METHOD:PUBLISH
X-WR-CALNAME:PT TEPIS
X-ORIGINAL-URL:https://tepis.org.pl
X-WR-CALDESC:Wydarzenia dla PT TEPIS
REFRESH-INTERVAL;VALUE=DURATION:PT1H
X-Robots-Tag:noindex
X-PUBLISHED-TTL:PT1H
BEGIN:VTIMEZONE
TZID:Europe/Warsaw
BEGIN:DAYLIGHT
TZOFFSETFROM:+0100
TZOFFSETTO:+0200
TZNAME:CEST
DTSTART:20200329T010000
END:DAYLIGHT
BEGIN:STANDARD
TZOFFSETFROM:+0200
TZOFFSETTO:+0100
TZNAME:CET
DTSTART:20201025T010000
END:STANDARD
BEGIN:DAYLIGHT
TZOFFSETFROM:+0100
TZOFFSETTO:+0200
TZNAME:CEST
DTSTART:20210328T010000
END:DAYLIGHT
BEGIN:STANDARD
TZOFFSETFROM:+0200
TZOFFSETTO:+0100
TZNAME:CET
DTSTART:20211031T010000
END:STANDARD
BEGIN:DAYLIGHT
TZOFFSETFROM:+0100
TZOFFSETTO:+0200
TZNAME:CEST
DTSTART:20220327T010000
END:DAYLIGHT
BEGIN:STANDARD
TZOFFSETFROM:+0200
TZOFFSETTO:+0100
TZNAME:CET
DTSTART:20221030T010000
END:STANDARD
END:VTIMEZONE
BEGIN:VEVENT
DTSTART;TZID=Europe/Warsaw:20211103T173000
DTEND;TZID=Europe/Warsaw:20211103T203000
DTSTAMP:20260423T220640
CREATED:20211006T140618Z
LAST-MODIFIED:20211006T140618Z
UID:17379-1635960600-1635971400@tepis.org.pl
SUMMARY:Prawo polskie i hiszpańskie_webinarium 2/7
DESCRIPTION:Cykl siedmiu webinariów dla tłumaczy języka hiszpańskiego pt. \nPrawo polskie i hiszpańskie – wybrane zagadnienia z podstawowych dziedzin prawa \nszczegóły>>Webinar_Prawo polskie i hiszpańskie 10.2021
URL:https://tepis.org.pl/event/prawo-polskie-i-hiszpanskie_webinarium-2-7/
END:VEVENT
BEGIN:VEVENT
DTSTART;TZID=Europe/Warsaw:20211117T173000
DTEND;TZID=Europe/Warsaw:20211117T203000
DTSTAMP:20260423T220640
CREATED:20211006T140832Z
LAST-MODIFIED:20211006T140832Z
UID:17381-1637170200-1637181000@tepis.org.pl
SUMMARY:Prawo polskie i hiszpańskie_webinarium 3/7
DESCRIPTION:Cykl siedmiu webinariów dla tłumaczy języka hiszpańskiego pt. \nPrawo polskie i hiszpańskie – wybrane zagadnienia z podstawowych dziedzin prawa \nszczegóły>>Webinar_Prawo polskie i hiszpańskie 10.2021
URL:https://tepis.org.pl/event/prawo-polskie-i-hiszpanskie_webinarium-3-7/
END:VEVENT
BEGIN:VEVENT
DTSTART;TZID=Europe/Warsaw:20211121T090000
DTEND;TZID=Europe/Warsaw:20211121T150000
DTSTAMP:20260423T220640
CREATED:20211126T130718Z
LAST-MODIFIED:20211126T130927Z
UID:14529-1637485200-1637506800@tepis.org.pl
SUMMARY:Wystąpienia publiczne i emisja głosu - część II
DESCRIPTION:Wystąpienia publiczne i emisja głosu część II – szkolenie stacjonarne we Wrocławiu (przełożone ze względu na pandemię z dnia 13.03.2020 roku) \n 
URL:https://tepis.org.pl/event/wystapienia-publiczne-i-emisja-glosu-czesc-ii/
END:VEVENT
BEGIN:VEVENT
DTSTART;TZID=Europe/Warsaw:20211124T173000
DTEND;TZID=Europe/Warsaw:20211124T203000
DTSTAMP:20260423T220640
CREATED:20211006T141014Z
LAST-MODIFIED:20211006T141014Z
UID:17383-1637775000-1637785800@tepis.org.pl
SUMMARY:Prawo polskie i hiszpańskie_webinarium 4/7
DESCRIPTION:Cykl siedmiu webinariów dla tłumaczy języka hiszpańskiego pt. \nPrawo polskie i hiszpańskie – wybrane zagadnienia z podstawowych dziedzin prawa \nszczegóły>>Webinar_Prawo polskie i hiszpańskie 10.2021
URL:https://tepis.org.pl/event/prawo-polskie-i-hiszpanskie_webinarium-4-7/
END:VEVENT
BEGIN:VEVENT
DTSTART;TZID=Europe/Warsaw:20211127T100000
DTEND;TZID=Europe/Warsaw:20211127T131500
DTSTAMP:20260423T220640
CREATED:20211104T093655Z
LAST-MODIFIED:20211108T073255Z
UID:17513-1638007200-1638018900@tepis.org.pl
SUMMARY:Juristische Fachübersetzung – Handelsgesellschaften (online) blok I
DESCRIPTION:Szkolenie dedykowane jest tłumaczom języka niemieckiego\, w tym osobom\, które w szczególności zajmują się przekładem dokumentów prawniczych lub chcą rozwijać specjalistyczny język prawniczy oraz kandydatom przygotowującym się do egzaminu na tłumacza przysięgłego.  \nZapisy na szkolenie odbywają się poprzez e-mail: fachsprache.jura@gmail.com \nSzczegółowe informacje i program szkolenia \n \nTermin szkolenia:  \n– I blok – 27.11.2021 r. (sobota)\, godz. 10:00-13:15  \n– II blok – 11.12.2021 r. (sobota)\, godz. 10:00-14:15
URL:https://tepis.org.pl/event/juristische-fachubersetzung-handelsgesellschaften-blok-i/
END:VEVENT
END:VCALENDAR