BEGIN:VCALENDAR
VERSION:2.0
PRODID:-//PT TEPIS - ECPv6.15.20//NONSGML v1.0//EN
CALSCALE:GREGORIAN
METHOD:PUBLISH
X-WR-CALNAME:PT TEPIS
X-ORIGINAL-URL:https://tepis.org.pl
X-WR-CALDESC:Wydarzenia dla PT TEPIS
REFRESH-INTERVAL;VALUE=DURATION:PT1H
X-Robots-Tag:noindex
X-PUBLISHED-TTL:PT1H
BEGIN:VTIMEZONE
TZID:Europe/Warsaw
BEGIN:DAYLIGHT
TZOFFSETFROM:+0100
TZOFFSETTO:+0200
TZNAME:CEST
DTSTART:20200329T010000
END:DAYLIGHT
BEGIN:STANDARD
TZOFFSETFROM:+0200
TZOFFSETTO:+0100
TZNAME:CET
DTSTART:20201025T010000
END:STANDARD
BEGIN:DAYLIGHT
TZOFFSETFROM:+0100
TZOFFSETTO:+0200
TZNAME:CEST
DTSTART:20210328T010000
END:DAYLIGHT
BEGIN:STANDARD
TZOFFSETFROM:+0200
TZOFFSETTO:+0100
TZNAME:CET
DTSTART:20211031T010000
END:STANDARD
BEGIN:DAYLIGHT
TZOFFSETFROM:+0100
TZOFFSETTO:+0200
TZNAME:CEST
DTSTART:20220327T010000
END:DAYLIGHT
BEGIN:STANDARD
TZOFFSETFROM:+0200
TZOFFSETTO:+0100
TZNAME:CET
DTSTART:20221030T010000
END:STANDARD
END:VTIMEZONE
BEGIN:VEVENT
DTSTART;TZID=Europe/Warsaw:20211201T173000
DTEND;TZID=Europe/Warsaw:20211201T203000
DTSTAMP:20260423T204833
CREATED:20211006T141219Z
LAST-MODIFIED:20211006T141219Z
UID:17385-1638379800-1638390600@tepis.org.pl
SUMMARY:Prawo polskie i hiszpańskie_webinarium 5/7
DESCRIPTION:Cykl siedmiu webinariów dla tłumaczy języka hiszpańskiego pt. \nPrawo polskie i hiszpańskie – wybrane zagadnienia z podstawowych dziedzin prawa \nszczegóły>>Webinar_Prawo polskie i hiszpańskie 10.2021
URL:https://tepis.org.pl/event/prawo-polskie-i-hiszpanskie_webinarium-5-7/
END:VEVENT
BEGIN:VEVENT
DTSTART;TZID=Europe/Warsaw:20211208T173000
DTEND;TZID=Europe/Warsaw:20211208T203000
DTSTAMP:20260423T204833
CREATED:20211006T141401Z
LAST-MODIFIED:20211006T141401Z
UID:17387-1638984600-1638995400@tepis.org.pl
SUMMARY:Prawo polskie i hiszpańskie_webinarium 6/7
DESCRIPTION:Cykl siedmiu webinariów dla tłumaczy języka hiszpańskiego pt. \nPrawo polskie i hiszpańskie – wybrane zagadnienia z podstawowych dziedzin prawa \nszczegóły>>Webinar_Prawo polskie i hiszpańskie 10.2021
URL:https://tepis.org.pl/event/prawo-polskie-i-hiszpanskie_webinarium-6-7/
END:VEVENT
BEGIN:VEVENT
DTSTART;TZID=Europe/Warsaw:20211211T100000
DTEND;TZID=Europe/Warsaw:20211211T141500
DTSTAMP:20260423T204833
CREATED:20211104T094043Z
LAST-MODIFIED:20211108T073157Z
UID:17516-1639216800-1639232100@tepis.org.pl
SUMMARY:Juristische Fachübersetzung – Handelsgesellschaften (online) blok II
DESCRIPTION:Szkolenie dedykowane jest tłumaczom języka niemieckiego\, w tym osobom\, które w szczególności zajmują się przekładem dokumentów prawniczych lub chcą rozwijać specjalistyczny język prawniczy oraz kandydatom przygotowującym się do egzaminu na tłumacza przysięgłego.  \nZapisy na szkolenie odbywają się poprzez e-mail: fachsprache.jura@gmail.com \nSzczegółowe informacje i program szkolenia \n \nTermin szkolenia:  \n– I blok – 27.11.2021 r. (sobota)\, godz. 10:00-13:15  \n– II blok – 11.12.2021 r. (sobota)\, godz. 10:00-14:15
URL:https://tepis.org.pl/event/juristische-fachubersetzung-handelsgesellschaften-online-blok-ii/
END:VEVENT
BEGIN:VEVENT
DTSTART;TZID=Europe/Warsaw:20211215T173000
DTEND;TZID=Europe/Warsaw:20211215T203000
DTSTAMP:20260423T204833
CREATED:20211006T141552Z
LAST-MODIFIED:20211006T141552Z
UID:17389-1639589400-1639600200@tepis.org.pl
SUMMARY:Prawo polskie i hiszpańskie_webinarium 7/7
DESCRIPTION:Cykl siedmiu webinariów dla tłumaczy języka hiszpańskiego pt. \nPrawo polskie i hiszpańskie – wybrane zagadnienia z podstawowych dziedzin prawa \nszczegóły>>Webinar_Prawo polskie i hiszpańskie 10.2021
URL:https://tepis.org.pl/event/prawo-polskie-i-hiszpanskie_webinarium-7-7/
END:VEVENT
BEGIN:VEVENT
DTSTART;TZID=Europe/Warsaw:20211220T180000
DTEND;TZID=Europe/Warsaw:20211220T200000
DTSTAMP:20260423T204833
CREATED:20211206T131733Z
LAST-MODIFIED:20211207T143922Z
UID:17723-1640023200-1640030400@tepis.org.pl
SUMMARY:Webinarium: Polski Ład– informacje dla tłumaczy
DESCRIPTION:Webinarium poświęcone planowanym zmianom w ustawach podatkowych\, które będą miały bezpośredni wpływ również na tłumaczy.  \nszczegóły>>> 
URL:https://tepis.org.pl/event/webinarium-polski-lad-informacje-dla-tlumaczy/
END:VEVENT
BEGIN:VEVENT
DTSTART;TZID=Europe/Warsaw:20211222T173000
DTEND;TZID=Europe/Warsaw:20211222T203000
DTSTAMP:20260423T204833
CREATED:20211220T084044Z
LAST-MODIFIED:20211220T084044Z
UID:17789-1640194200-1640205000@tepis.org.pl
SUMMARY:Prawo polskie i hiszpańskie- część VIII
DESCRIPTION:Cykl webinariów dla tłumaczy języka hiszpańskiego pt. \nPrawo polskie i hiszpańskie – wybrane zagadnienia z podstawowych dziedzin prawa \ndodatkowa VIII część \nszczegóły>>Webinar_Prawo polskie i hiszpańskie 10.2021
URL:https://tepis.org.pl/event/prawo-polskie-i-hiszpanskie-czesc-viii/
END:VEVENT
END:VCALENDAR