BEGIN:VCALENDAR
VERSION:2.0
PRODID:-//PT TEPIS - ECPv6.15.20//NONSGML v1.0//EN
CALSCALE:GREGORIAN
METHOD:PUBLISH
X-ORIGINAL-URL:https://tepis.org.pl
X-WR-CALDESC:Wydarzenia dla PT TEPIS
REFRESH-INTERVAL;VALUE=DURATION:PT1H
X-Robots-Tag:noindex
X-PUBLISHED-TTL:PT1H
BEGIN:VTIMEZONE
TZID:Europe/Warsaw
BEGIN:DAYLIGHT
TZOFFSETFROM:+0100
TZOFFSETTO:+0200
TZNAME:CEST
DTSTART:20210328T010000
END:DAYLIGHT
BEGIN:STANDARD
TZOFFSETFROM:+0200
TZOFFSETTO:+0100
TZNAME:CET
DTSTART:20211031T010000
END:STANDARD
BEGIN:DAYLIGHT
TZOFFSETFROM:+0100
TZOFFSETTO:+0200
TZNAME:CEST
DTSTART:20220327T010000
END:DAYLIGHT
BEGIN:STANDARD
TZOFFSETFROM:+0200
TZOFFSETTO:+0100
TZNAME:CET
DTSTART:20221030T010000
END:STANDARD
BEGIN:DAYLIGHT
TZOFFSETFROM:+0100
TZOFFSETTO:+0200
TZNAME:CEST
DTSTART:20230326T010000
END:DAYLIGHT
BEGIN:STANDARD
TZOFFSETFROM:+0200
TZOFFSETTO:+0100
TZNAME:CET
DTSTART:20231029T010000
END:STANDARD
END:VTIMEZONE
BEGIN:VEVENT
DTSTART;TZID=Europe/Warsaw:20220119T173000
DTEND;TZID=Europe/Warsaw:20220119T200000
DTSTAMP:20260423T192212
CREATED:20220107T103306Z
LAST-MODIFIED:20220107T104710Z
UID:18079-1642613400-1642622400@tepis.org.pl
SUMMARY:Análisis de la actualidad política y legislativa de España - webinarium
DESCRIPTION:Webinarium dla tłumaczy języka hiszpańskiego pt. Análisis de la actualidad política y legislativa de España \n20220119_webinar_TEPIS_CIMAD_v1
URL:https://tepis.org.pl/event/analisis-de-la-actualidad-politica-y-legislativa-de-espana-webinarium/
END:VEVENT
BEGIN:VEVENT
DTSTART;TZID=Europe/Warsaw:20220120T180000
DTEND;TZID=Europe/Warsaw:20220120T200000
DTSTAMP:20260423T192212
CREATED:20211223T125837Z
LAST-MODIFIED:20211223T144400Z
UID:17816-1642701600-1642708800@tepis.org.pl
SUMMARY:Spotkanie Noworoczne Dolnośląskiego Koła PT TEPIS
DESCRIPTION:
URL:https://tepis.org.pl/event/spotkanie-noworoczne-dolnoslaskiego-kola-pt-tepis/
END:VEVENT
BEGIN:VEVENT
DTSTART;TZID=Europe/Warsaw:20220127T190000
DTEND;TZID=Europe/Warsaw:20220127T203000
DTSTAMP:20260423T192212
CREATED:20220118T180102Z
LAST-MODIFIED:20220119T072419Z
UID:18268-1643310000-1643315400@tepis.org.pl
SUMMARY:Spotkanie Noworoczne PT TEPIS i webinarium pt. „Sztuka życia w zgodzie ze sobą”
DESCRIPTION:Spotkanie Noworoczne Członków i Sympatyków PT TEPIS oraz webinarium pt. „Sztuka życia w zgodzie ze sobą” (na platformie Clickmeeting) \nzapisy: tepis@tepis.org.pl \n„Sztuka życia w zgodzie ze sobą” – spotkanie noworoczne online we czwartek\, 27.01.2022 r. o godz. 19 (czas trwania spotkania ok. 90 min.) Nasi Członkowie mają zagwarantowany bezpłatny udział! Osoby niezrzeszone płacą 100 zł. Tym razem czekamy na zgłoszenia jeszcze w tradycyjny sposób – do 25.01.2022 r. poprzez kontakt z Biurem Towarzystwa: tepis@tepis.org.pl \nO spotkaniu…\nWielu z nas na pewno zna takie pojęcia jak Work-Life Balance\, self-care czy empatia dla siebie. Jednakże\, o ile w teorii możemy znać te pojęcia i wypowiadać się o nich całkiem składnie\, to już niekoniecznie potrafimy tę wiedzę zastosować w praktyczny sposób\, w swoim codziennym życiu.\nW okolicach Nowego Roku\, często towarzyszy nam pogłębiona refleksja na temat poprawy jakości naszego życia. Zazwyczaj skupiamy się na tym\, co byśmy chcieli zmienić\, jakie niezdrowe nawyki wyeliminować\, po to by w ich miejsce zaprosić do naszej codzienności więcej spokoju\, radości\, satysfakcji i poczucia sensu.\nKażdy z nas jest jednak trochę inny\, mamy pewne wrodzone cechy i predyspozycje\, marzenia i potrzeby\, różny apetyt na życie czy wyobrażenia o szczęściu.\nPodczas wykładu\, chciałabym zachęcić Państwa do zatrzymania się\, do lepszego poznania samych siebie\, do przeformułowania gotowych rozwiązań i skupienia się na swoich wartościach\, którym chcemy hołdować\, a przy okazji podważyć i odważnie zakwestionować różne powszechne poglądy na temat\, jak powinno wyglądać „dobre życie”.\nWarto pamiętać starą prawdę\, że każdy z nas jest najlepszym ekspertem od samego siebie.\nDlatego zamiast gotowej oferty czerpania z zewnątrz pomysłów na dbanie o siebie\, pragnę zaprosić Państwa do zanurkowania w nasz wewnętrzny świat i wypracowania własnego kompasu\, którym będziemy się kierować w najbliższej przyszłości. \nO Prelegentce …\nBeata Kosiacka – certyfikowana trenerka NVC (Porozumienia bez Przemocy)\, coach PCC ICF\, mediatorka. Prowadzi warsztaty dla organizacji\, zespołów\, różnych grup zawodowych i osób prywatnych. W pracy coachingowej wspiera osoby indywidualne w odważnym stawianiu celów i realizowaniu ich w zgodzie ze swoimi wartościami\, a parom w konflikcie pomaga odnaleźć najlepszą drogę do pokojowego rozwiązania problemu.
URL:https://tepis.org.pl/event/spotkanie-noworoczne-pt-tepis-i-webinarium-pt-sztuka-zycia-w-zgodzie-ze-soba/
END:VEVENT
END:VCALENDAR