BEGIN:VCALENDAR
VERSION:2.0
PRODID:-//PT TEPIS - ECPv6.15.20//NONSGML v1.0//EN
CALSCALE:GREGORIAN
METHOD:PUBLISH
X-ORIGINAL-URL:https://tepis.org.pl
X-WR-CALDESC:Wydarzenia dla PT TEPIS
REFRESH-INTERVAL;VALUE=DURATION:PT1H
X-Robots-Tag:noindex
X-PUBLISHED-TTL:PT1H
BEGIN:VTIMEZONE
TZID:Europe/Warsaw
BEGIN:DAYLIGHT
TZOFFSETFROM:+0100
TZOFFSETTO:+0200
TZNAME:CEST
DTSTART:20210328T010000
END:DAYLIGHT
BEGIN:STANDARD
TZOFFSETFROM:+0200
TZOFFSETTO:+0100
TZNAME:CET
DTSTART:20211031T010000
END:STANDARD
BEGIN:DAYLIGHT
TZOFFSETFROM:+0100
TZOFFSETTO:+0200
TZNAME:CEST
DTSTART:20220327T010000
END:DAYLIGHT
BEGIN:STANDARD
TZOFFSETFROM:+0200
TZOFFSETTO:+0100
TZNAME:CET
DTSTART:20221030T010000
END:STANDARD
BEGIN:DAYLIGHT
TZOFFSETFROM:+0100
TZOFFSETTO:+0200
TZNAME:CEST
DTSTART:20230326T010000
END:DAYLIGHT
BEGIN:STANDARD
TZOFFSETFROM:+0200
TZOFFSETTO:+0100
TZNAME:CET
DTSTART:20231029T010000
END:STANDARD
END:VTIMEZONE
BEGIN:VEVENT
DTSTART;TZID=Europe/Warsaw:20220511T190000
DTEND;TZID=Europe/Warsaw:20220511T203000
DTSTAMP:20260423T133650
CREATED:20220429T102447Z
LAST-MODIFIED:20220429T102447Z
UID:19238-1652295600-1652301000@tepis.org.pl
SUMMARY:Spotkanie autorskie "O zawodzie tłumacza przysięgłego w wybranych krajach świata. Część 1"
DESCRIPTION:ZAGRANICZNE KOŁO POLSKIEGO TOWARZYSTWA TŁUMACZY PRZYSIĘGŁYCH I SPECJALISTYCZNYCH TEPIS \nserdecznie zaprasza wszystkich Członków PT TEPIS na bezpłatne spotkanie online poświęcone publikacji pt. „O zawodzie tłumacza przysięgłego w wybranych krajach świata. Część 1” \nSpotkanie autorskie ZK_11.5.2022.doc
URL:https://tepis.org.pl/event/spotkanie-autorskie-o-zawodzie-tlumacza-przysieglego-w-wybranych-krajach-swiata-czesc-1/
END:VEVENT
BEGIN:VEVENT
DTSTART;TZID=Europe/Warsaw:20220512T180000
DTEND;TZID=Europe/Warsaw:20220512T203000
DTSTAMP:20260423T133650
CREATED:20220427T104137Z
LAST-MODIFIED:20220427T104827Z
UID:19221-1652378400-1652387400@tepis.org.pl
SUMMARY:Webinarium "Rozwód w Polsce i w Niemczech  – podobieństwa i różnice" 1/2
DESCRIPTION:Webinarium dla tłumaczy języka niemieckiego pt. \nRozwód w Polsce i w Niemczech – podobieństwa i różnice \nw dn.12 i 19 maja 2022 r. \nszczegóły>>>
URL:https://tepis.org.pl/event/webinarium-rozwod-w-polsce-i-w-niemczech-podobienstwa-i-roznice-1-2/
END:VEVENT
BEGIN:VEVENT
DTSTART;TZID=Europe/Warsaw:20220516T180000
DTEND;TZID=Europe/Warsaw:20220516T203000
DTSTAMP:20260423T133650
CREATED:20220427T111459Z
LAST-MODIFIED:20220427T120514Z
UID:19229-1652724000-1652733000@tepis.org.pl
SUMMARY:Ograniczenia pomocy warsztatowych przy tłumaczeniu terminologii i frazeologii wyroków sądowych (PL/DE)
DESCRIPTION:Webinarium dla tłumaczy języka niemieckiego pt. \nOgraniczenia pomocy warsztatowych przy tłumaczeniu terminologii i frazeologii wyroków sądowych \nszczegóły>>>
URL:https://tepis.org.pl/event/ograniczenia-pomocy-warsztatowych-przy-tlumaczeniu-terminologii-i-frazeologii-wyrokow-sadowych-pl-de/
END:VEVENT
BEGIN:VEVENT
DTSTART;VALUE=DATE:20220519
DTEND;VALUE=DATE:20220522
DTSTAMP:20260423T133650
CREATED:20220111T133703Z
LAST-MODIFIED:20220111T133703Z
UID:18213-1652918400-1653177599@tepis.org.pl
SUMMARY:I Kongres Polskiego Przekładoznawstwa „Koncepcje – metodologie – działania”\, Kraków
DESCRIPTION:I Kongres Polskiego Przekładoznawstwa „Koncepcje – metodologie – działania”\, Kraków\, 19 – 21 maja 2022 r.\nhttps://kongres-przekladoznawstwa.confer.uj.edu.pl/\n\n 
URL:https://tepis.org.pl/event/i-kongres-polskiego-przekladoznawstwa-koncepcje-metodologie-dzialania-krakow/
END:VEVENT
BEGIN:VEVENT
DTSTART;TZID=Europe/Warsaw:20220519T180000
DTEND;TZID=Europe/Warsaw:20220519T203000
DTSTAMP:20260423T133650
CREATED:20220427T104604Z
LAST-MODIFIED:20220427T104632Z
UID:19225-1652983200-1652992200@tepis.org.pl
SUMMARY:Webinarium "Rozwód w Polsce i w Niemczech – podobieństwa i różnice" 2/2
DESCRIPTION:Webinarium dla tłumaczy języka niemieckiego pt. \nRozwód w Polsce i w Niemczech – podobieństwa i różnice \nw dn.12 i 19 maja 2022 r. \nszczegóły>>>
URL:https://tepis.org.pl/event/webinarium-rozwod-w-polsce-i-w-niemczech-podobienstwa-i-roznice-2-2/
END:VEVENT
BEGIN:VEVENT
DTSTART;TZID=Europe/Warsaw:20220530T170000
DTEND;TZID=Europe/Warsaw:20220530T183000
DTSTAMP:20260423T133650
CREATED:20220210T155531Z
LAST-MODIFIED:20220210T155531Z
UID:18547-1653930000-1653935400@tepis.org.pl
SUMMARY:Kurs z zakresu prawa\, moduł 2\, wykład- Prawo cywilne procesowe
DESCRIPTION:Webinarium „Kurs dla tłumaczy języków obcych z zakresu prawa 2022-2023” – 2 moduł podstawowy: \nWykład ogólny w języku polskim \nTemat  II. PRAWO CYWILNE PROCESOWE \nProgram_kurs_prawa_2022_2023
URL:https://tepis.org.pl/event/kurs-z-zakresu-prawa-modul-2-wyklad-prawo-cywilne-procesowe/
END:VEVENT
BEGIN:VEVENT
DTSTART;TZID=Europe/Warsaw:20220530T184500
DTEND;TZID=Europe/Warsaw:20220530T201500
DTSTAMP:20260423T133650
CREATED:20220210T160104Z
LAST-MODIFIED:20220210T160104Z
UID:18551-1653936300-1653941700@tepis.org.pl
SUMMARY:Kurs z zakresu prawa\, moduł 2\, warsztaty- język angielski
DESCRIPTION:Webinarium „Kurs dla tłumaczy języków obcych z zakresu prawa 2022 -2023” \n2 moduł podstawowy: Warsztaty tematyczne w sekcjach językowych – sekcja angielska \nTemat II. PRAWO CYWILNE PROCESOWE \nProgram_kurs_prawa_2022_2023
URL:https://tepis.org.pl/event/kurs-z-zakresu-prawa-modul-2-warsztaty-jezyk-angielski/
END:VEVENT
BEGIN:VEVENT
DTSTART;TZID=Europe/Warsaw:20220531T170000
DTEND;TZID=Europe/Warsaw:20220531T183000
DTSTAMP:20260423T133650
CREATED:20220210T160244Z
LAST-MODIFIED:20220210T160244Z
UID:18553-1654016400-1654021800@tepis.org.pl
SUMMARY:Kurs z zakresu prawa\, moduł 2\, warsztaty- język francuski
DESCRIPTION:Webinarium „Kurs dla tłumaczy języków obcych z zakresu prawa 2022 -2023” \n2 moduł podstawowy: Warsztaty tematyczne w sekcjach językowych – sekcja francuska \nTemat II. PRAWO CYWILNE PROCESOWE \nProgram_kurs_prawa_2022_2023
URL:https://tepis.org.pl/event/kurs-z-zakresu-prawa-modul-2-warsztaty-jezyk-francuski/
END:VEVENT
BEGIN:VEVENT
DTSTART;TZID=Europe/Warsaw:20220531T184500
DTEND;TZID=Europe/Warsaw:20220531T201500
DTSTAMP:20260423T133650
CREATED:20220210T160434Z
LAST-MODIFIED:20220210T160434Z
UID:18555-1654022700-1654028100@tepis.org.pl
SUMMARY:Kurs z zakresu prawa\, moduł 2\, warsztaty- język włoski
DESCRIPTION:Webinarium „Kurs dla tłumaczy języków obcych z zakresu prawa 2022 -2023” \n2 moduł podstawowy: Warsztaty tematyczne w sekcjach językowych – sekcja włoska \nTemat II. PRAWO CYWILNE PROCESOWE \nProgram_kurs_prawa_2022_2023
URL:https://tepis.org.pl/event/kurs-z-zakresu-prawa-modul-2-warsztaty-jezyk-wloski/
END:VEVENT
END:VCALENDAR