BEGIN:VCALENDAR
VERSION:2.0
PRODID:-//PT TEPIS - ECPv6.15.20//NONSGML v1.0//EN
CALSCALE:GREGORIAN
METHOD:PUBLISH
X-WR-CALNAME:PT TEPIS
X-ORIGINAL-URL:https://tepis.org.pl
X-WR-CALDESC:Wydarzenia dla PT TEPIS
REFRESH-INTERVAL;VALUE=DURATION:PT1H
X-Robots-Tag:noindex
X-PUBLISHED-TTL:PT1H
BEGIN:VTIMEZONE
TZID:Europe/Warsaw
BEGIN:DAYLIGHT
TZOFFSETFROM:+0100
TZOFFSETTO:+0200
TZNAME:CEST
DTSTART:20210328T010000
END:DAYLIGHT
BEGIN:STANDARD
TZOFFSETFROM:+0200
TZOFFSETTO:+0100
TZNAME:CET
DTSTART:20211031T010000
END:STANDARD
BEGIN:DAYLIGHT
TZOFFSETFROM:+0100
TZOFFSETTO:+0200
TZNAME:CEST
DTSTART:20220327T010000
END:DAYLIGHT
BEGIN:STANDARD
TZOFFSETFROM:+0200
TZOFFSETTO:+0100
TZNAME:CET
DTSTART:20221030T010000
END:STANDARD
BEGIN:DAYLIGHT
TZOFFSETFROM:+0100
TZOFFSETTO:+0200
TZNAME:CEST
DTSTART:20230326T010000
END:DAYLIGHT
BEGIN:STANDARD
TZOFFSETFROM:+0200
TZOFFSETTO:+0100
TZNAME:CET
DTSTART:20231029T010000
END:STANDARD
END:VTIMEZONE
BEGIN:VEVENT
DTSTART;TZID=Europe/Warsaw:20220829T190000
DTEND;TZID=Europe/Warsaw:20220829T203000
DTSTAMP:20260423T093448
CREATED:20220913T074851Z
LAST-MODIFIED:20220913T074952Z
UID:20498-1661799600-1661805000@tepis.org.pl
SUMMARY:Tłumaczenia krok po kroku I - transmisja na  żywo
DESCRIPTION:Spotkanie online pt. „Jak założyć własną działalność jako poczatkujący tłumacz”. \nSwoimi doświadczeniami w tym zakresie podzielą się dwie tłumaczki\, członkinie TEPIS-u: Aleksandra Bacz i Marta Wójcik.
URL:https://tepis.org.pl/event/tlumaczenia-krok-po-kroku-i-transmisja-na-zywo/
END:VEVENT
END:VCALENDAR