BEGIN:VCALENDAR
VERSION:2.0
PRODID:-//PT TEPIS - ECPv6.15.20//NONSGML v1.0//EN
CALSCALE:GREGORIAN
METHOD:PUBLISH
X-WR-CALNAME:PT TEPIS
X-ORIGINAL-URL:https://tepis.org.pl
X-WR-CALDESC:Wydarzenia dla PT TEPIS
REFRESH-INTERVAL;VALUE=DURATION:PT1H
X-Robots-Tag:noindex
X-PUBLISHED-TTL:PT1H
BEGIN:VTIMEZONE
TZID:Europe/Warsaw
BEGIN:DAYLIGHT
TZOFFSETFROM:+0100
TZOFFSETTO:+0200
TZNAME:CEST
DTSTART:20210328T010000
END:DAYLIGHT
BEGIN:STANDARD
TZOFFSETFROM:+0200
TZOFFSETTO:+0100
TZNAME:CET
DTSTART:20211031T010000
END:STANDARD
BEGIN:DAYLIGHT
TZOFFSETFROM:+0100
TZOFFSETTO:+0200
TZNAME:CEST
DTSTART:20220327T010000
END:DAYLIGHT
BEGIN:STANDARD
TZOFFSETFROM:+0200
TZOFFSETTO:+0100
TZNAME:CET
DTSTART:20221030T010000
END:STANDARD
BEGIN:DAYLIGHT
TZOFFSETFROM:+0100
TZOFFSETTO:+0200
TZNAME:CEST
DTSTART:20230326T010000
END:DAYLIGHT
BEGIN:STANDARD
TZOFFSETFROM:+0200
TZOFFSETTO:+0100
TZNAME:CET
DTSTART:20231029T010000
END:STANDARD
END:VTIMEZONE
BEGIN:VEVENT
DTSTART;VALUE=DATE:20221001
DTEND;VALUE=DATE:20221002
DTSTAMP:20260423T065536
CREATED:20220824T134415Z
LAST-MODIFIED:20220824T134416Z
UID:20158-1664582400-1664668799@tepis.org.pl
SUMMARY:Konferencja Tłumaczy + Translation and Localization Conference
DESCRIPTION:Konferencja Tłumaczy + Translation and Localization Conference odbędzie się 29 września – 1 października 2022 w Warszawie i online!\nProgram Konferencji Tłumaczy 2022 \nSzczegóły na stronie: https://konferencja-tlumaczy.pl/?page_id=1544 \nDla Członków TEPIS obowiązuje 10% na bilety! \nZachęcamy do udziału w konferencji.
URL:https://tepis.org.pl/event/konferencja-tlumaczy-translation-and-localization-conference/
END:VEVENT
BEGIN:VEVENT
DTSTART;TZID=Europe/Warsaw:20221006T170000
DTEND;TZID=Europe/Warsaw:20221006T200000
DTSTAMP:20260423T065536
CREATED:20220923T083316Z
LAST-MODIFIED:20220923T083316Z
UID:20715-1665075600-1665086400@tepis.org.pl
SUMMARY:Spotkanie hieronimkowe Podlaskiego Koła PT TEPIS
DESCRIPTION:Podlaskie Koło PT TEPIS zaprasza na spotkanie hieronimkowe\, które odbędzie się w czwartek\, 6.10.2022 r.\, godz. 17.00. Miejsce: Maison du Café\, ul. Jana Kilińskiego 10\, Białystok. \nOsoby zainteresowane udziałem prosimy o przesłanie zgłoszenia na adres: podlaskie@tepis.org.pl do dnia 30.09.2022 r.
URL:https://tepis.org.pl/event/spotkanie-hieronimkowe-podlaskiego-kola-pt-tepis/
END:VEVENT
BEGIN:VEVENT
DTSTART;TZID=Europe/Warsaw:20221007T190000
DTEND;TZID=Europe/Warsaw:20221007T203000
DTSTAMP:20260423T065536
CREATED:20220923T083521Z
LAST-MODIFIED:20220923T083521Z
UID:20717-1665169200-1665174600@tepis.org.pl
SUMMARY:Spotkanie Hieronimkowe w Warszawie
DESCRIPTION:Spotkanie Hieronimkowe w Warszawie  \nData: 07.10.2022 r. (piątek)\, godz. 19.00 \nMiejsce: siedziba PT TEPIS\, ul. E. Plater 25 lok. 44  (w przypadku większej liczby chętnych zaproponujemy inne miejsce) \nZgłoszenia: tepis@tepis.org.pl do dnia 3.10.2022 r.
URL:https://tepis.org.pl/event/spotkanie-hieronimkowe-w-warszawie/
END:VEVENT
BEGIN:VEVENT
DTSTART;VALUE=DATE:20221015
DTEND;VALUE=DATE:20221016
DTSTAMP:20260423T065536
CREATED:20220524T100601Z
LAST-MODIFIED:20220930T092435Z
UID:19371-1665792000-1665878399@tepis.org.pl
SUMMARY:Konferencja PT TEPIS / XXXVI Warsztaty Przekładu Specjalistycznego
DESCRIPTION:Konferencja PT TEPIS z XXXVI Warsztatami Przekładu Specjalistycznego pt. „Tłumacz i tłumaczenia w czasach kryzysu”  \nodbędzie się w trybie hybrydowym: \n\n15 października 2022 r.  (sobota) otwarcie i sesja plenarna – stacjonarnie w Warszawie + dostęp online\n17-21 października 2022 r. (poniedziałek – piątek) XXXVI Warsztaty Przekładu Specjalistycznego (sekcje językowe) – online\n22 października 2022 r. (sobota) zakończenie / sesja plenarna) – online\n\nPROGRAM KONFERENCJI PT TEPIS 2022 \nZakup uczestnictwa w e-sklepie TEPIS: https://tepis.org.pl/sklep/
URL:https://tepis.org.pl/event/konferencja-pt-tepis-xxxvi-warsztaty-przekladu-specjalistycznego/
END:VEVENT
BEGIN:VEVENT
DTSTART;TZID=Europe/Warsaw:20221017T170000
DTEND;TZID=Europe/Warsaw:20221021T210000
DTSTAMP:20260423T065536
CREATED:20220524T101034Z
LAST-MODIFIED:20220930T092918Z
UID:19373-1666026000-1666386000@tepis.org.pl
SUMMARY:XXXVI Warsztaty Przekładu Specjalistycznego
DESCRIPTION:Konferencja PT TEPIS z XXXVI Warsztatami Przekładu Specjalistycznego pt. „Tłumacz i tłumaczenia w czasach kryzysu”  \nodbędzie się w trybie hybrydowym: \n\n15 października 2022 r.  (sobota) otwarcie i sesja plenarna – stacjonarnie w Warszawie + dostęp online\n17-21 października 2022 r. (poniedziałek – piątek) XXXVI Warsztaty Przekładu Specjalistycznego (sekcje językowe) – online\n22 października 2022 r. (sobota) zakończenie / sesja plenarna) – online\n\nPROGRAM KONFERENCJI PT TEPIS 2022 \nZakup uczestnictwa w e-sklepie TEPIS: https://tepis.org.pl/sklep/
URL:https://tepis.org.pl/event/xxxvi-warsztaty-przekladu-specjalistycznego/
END:VEVENT
BEGIN:VEVENT
DTSTART;VALUE=DATE:20221022
DTEND;VALUE=DATE:20221023
DTSTAMP:20260423T065536
CREATED:20220524T102938Z
LAST-MODIFIED:20221107T134234Z
UID:19375-1666396800-1666483199@tepis.org.pl
SUMMARY:Konferencja PT TEPIS 2022- sesja plenarna/zakończenie
DESCRIPTION:Konferencja PT TEPIS z XXXVI Warsztatami Przekładu Specjalistycznego pt. „Tłumacz i tłumaczenia w czasach kryzysu”  \nodbędzie się w trybie hybrydowym: \n\n15 października 2022 r.  (sobota) otwarcie i sesja plenarna – stacjonarnie w Warszawie + dostęp online\n17-21 października 2022 r. (poniedziałek – piątek) XXXVI Warsztaty Przekładu Specjalistycznego (sekcje językowe) – online\n22 października 2022 r. (sobota) zakończenie / sesja plenarna) – online\n\nPROGRAM KONFERENCJI PT TEPIS 2022 \nZakup uczestnictwa w e-sklepie TEPIS: https://tepis.org.pl/sklep/
URL:https://tepis.org.pl/event/konferencja-pt-tepis-2022-sesja-plenarna-zakonczenie/
CATEGORIES:2022 Akcje szkoleniowe PT TEPIS
END:VEVENT
BEGIN:VEVENT
DTSTART;TZID=Europe/Warsaw:20221028T180000
DTEND;TZID=Europe/Warsaw:20221028T203000
DTSTAMP:20260423T065536
CREATED:20221024T082424Z
LAST-MODIFIED:20221024T082424Z
UID:21684-1666980000-1666989000@tepis.org.pl
SUMMARY:Spotkanie hieronimkowe Zagranicznego Koła PT TEPIS
DESCRIPTION:Spotkanie hieronimkowe online Zagraniczne Koło PT TEPIS \, połączone ze szkoleniem pt. „Tłumacz w świecie dyplomacji”.
URL:https://tepis.org.pl/event/spotkanie-hieronimkowe-zagranicznego-kola-pt-tepis/
END:VEVENT
END:VCALENDAR