BEGIN:VCALENDAR
VERSION:2.0
PRODID:-//PT TEPIS - ECPv6.15.20//NONSGML v1.0//EN
CALSCALE:GREGORIAN
METHOD:PUBLISH
X-ORIGINAL-URL:https://tepis.org.pl
X-WR-CALDESC:Wydarzenia dla PT TEPIS
REFRESH-INTERVAL;VALUE=DURATION:PT1H
X-Robots-Tag:noindex
X-PUBLISHED-TTL:PT1H
BEGIN:VTIMEZONE
TZID:Europe/Warsaw
BEGIN:DAYLIGHT
TZOFFSETFROM:+0100
TZOFFSETTO:+0200
TZNAME:CEST
DTSTART:20210328T010000
END:DAYLIGHT
BEGIN:STANDARD
TZOFFSETFROM:+0200
TZOFFSETTO:+0100
TZNAME:CET
DTSTART:20211031T010000
END:STANDARD
BEGIN:DAYLIGHT
TZOFFSETFROM:+0100
TZOFFSETTO:+0200
TZNAME:CEST
DTSTART:20220327T010000
END:DAYLIGHT
BEGIN:STANDARD
TZOFFSETFROM:+0200
TZOFFSETTO:+0100
TZNAME:CET
DTSTART:20221030T010000
END:STANDARD
BEGIN:DAYLIGHT
TZOFFSETFROM:+0100
TZOFFSETTO:+0200
TZNAME:CEST
DTSTART:20230326T010000
END:DAYLIGHT
BEGIN:STANDARD
TZOFFSETFROM:+0200
TZOFFSETTO:+0100
TZNAME:CET
DTSTART:20231029T010000
END:STANDARD
END:VTIMEZONE
BEGIN:VEVENT
DTSTART;TZID=Europe/Warsaw:20221201T170000
DTEND;TZID=Europe/Warsaw:20221201T183000
DTSTAMP:20260423T043546
CREATED:20220630T132655Z
LAST-MODIFIED:20220630T132655Z
UID:19628-1669914000-1669919400@tepis.org.pl
SUMMARY:Kurs z zakresu prawa\, moduł 4\, warsztaty- język rosyjski
DESCRIPTION:Webinarium „Kurs dla tłumaczy języków obcych z zakresu prawa 2022 -2023” \n4 moduł podstawowy: Warsztaty tematyczne w sekcjach językowych – sekcja rosyjska \nTemat IV. Prawo karne\, karnoskarbowe i wykroczeń \nPROGRAM-SZKOLENIA-KURS-PRAWA-2022-04-30
URL:https://tepis.org.pl/event/kurs-z-zakresu-prawa-modul-4-warsztaty-jezyk-rosyjski/
END:VEVENT
BEGIN:VEVENT
DTSTART;TZID=Europe/Warsaw:20221201T184500
DTEND;TZID=Europe/Warsaw:20221201T201500
DTSTAMP:20260423T043546
CREATED:20220630T132902Z
LAST-MODIFIED:20220630T132902Z
UID:19630-1669920300-1669925700@tepis.org.pl
SUMMARY:Kurs z zakresu prawa\, moduł 4\, warsztaty- język ukraiński
DESCRIPTION:Webinarium „Kurs dla tłumaczy języków obcych z zakresu prawa 2022 -2023” \n4 moduł podstawowy: Warsztaty tematyczne w sekcjach językowych – sekcja ukraińska \nTemat IV. Prawo karne\, karnoskarbowe i wykroczeń \nPROGRAM-SZKOLENIA-KURS-PRAWA-2022-04-30
URL:https://tepis.org.pl/event/kurs-z-zakresu-prawa-modul-4-warsztaty-jezyk-ukrainski/
END:VEVENT
BEGIN:VEVENT
DTSTART;TZID=Europe/Warsaw:20221202T170000
DTEND;TZID=Europe/Warsaw:20221202T183000
DTSTAMP:20260423T043546
CREATED:20221115T132047Z
LAST-MODIFIED:20221115T132047Z
UID:22052-1670000400-1670005800@tepis.org.pl
SUMMARY:Kurs z zakresu prawa\, moduł 4\, warsztaty- język chorwacki
DESCRIPTION:Webinarium „Kurs dla tłumaczy języków obcych z zakresu prawa 2022 -2023” \n4 moduł podstawowy: Warsztaty tematyczne w sekcjach językowych – język chorwacki \nTemat IV. Prawo karne\, karnoskarbowe i wykroczeń \nPROGRAM-SZKOLENIA-KURS-PRAWA-2022-2023
URL:https://tepis.org.pl/event/kurs-z-zakresu-prawa-modul-4-warsztaty-jezyk-chorwacki/
END:VEVENT
BEGIN:VEVENT
DTSTART;TZID=Europe/Warsaw:20221202T184500
DTEND;TZID=Europe/Warsaw:20221202T201500
DTSTAMP:20260423T043546
CREATED:20220630T133306Z
LAST-MODIFIED:20221122T113027Z
UID:19634-1670006700-1670012100@tepis.org.pl
SUMMARY:Kurs z zakresu prawa\, moduł 4\, warsztaty- język chiński
DESCRIPTION:Webinarium „Kurs dla tłumaczy języków obcych z zakresu prawa 2022 -2023” \n4 moduł podstawowy: Warsztaty tematyczne w sekcjach językowych – sekcja azjatycka\, język chiński \nTemat IV. Prawo karne\, karnoskarbowe i wykroczeń \nPROGRAM-SZKOLENIA-KURS-PRAWA
URL:https://tepis.org.pl/event/kurs-z-zakresu-prawa-modul-4-warsztaty-jezyk-chinski/
END:VEVENT
BEGIN:VEVENT
DTSTART;TZID=Europe/Warsaw:20221209T190000
DTEND;TZID=Europe/Warsaw:20221209T200000
DTSTAMP:20260423T043546
CREATED:20221206T133234Z
LAST-MODIFIED:20221206T133345Z
UID:22684-1670612400-1670616000@tepis.org.pl
SUMMARY:Spotkanie świąteczne Górnośląskiego Koła TEPIS
DESCRIPTION:Zapraszamy serdecznie na spotkanie w klimacie świątecznym 9 grudnia o godz. 19.00. \nSpotykamy się na Jarmarku Świątecznym w centrum Katowic. \nUprzejmie prosimy o zgłaszanie chęci uczestnictwa do piątku\, do godz. 10\, mailowo na adres: gornoslaskie@tepis.org.pl
URL:https://tepis.org.pl/event/spotkanie-swiateczne-gornoslaskiego-kola-tepis/
END:VEVENT
BEGIN:VEVENT
DTSTART;TZID=Europe/Warsaw:20221219T180000
DTEND;TZID=Europe/Warsaw:20221219T201500
DTSTAMP:20260423T043546
CREATED:20221124T101739Z
LAST-MODIFIED:20221124T102059Z
UID:22359-1671472800-1671480900@tepis.org.pl
SUMMARY:Poprawna polszczyzna w praktyce 1/2
DESCRIPTION:Warsztaty online dla tłumaczy: Poprawna polszczyzna w praktyce \n Termin: 19 i 20 grudnia 2022 r. (pon. i wt) Godz.: 18.00 – 20.15 \nSzczegółowy opis szkolenia \nWarsztaty są powtórzeniem (V edycją) szkolenia\, które odbyło się w 2020 roku pt. “Język polski dla tłumaczy”
URL:https://tepis.org.pl/event/poprawna-polszczyzna-w-praktyce-1-2/
END:VEVENT
BEGIN:VEVENT
DTSTART;TZID=Europe/Warsaw:20221220T180000
DTEND;TZID=Europe/Warsaw:20221220T201500
DTSTAMP:20260423T043546
CREATED:20221124T101942Z
LAST-MODIFIED:20221124T101942Z
UID:22361-1671559200-1671567300@tepis.org.pl
SUMMARY:Poprawna polszczyzna w praktyce 2/2
DESCRIPTION:Warsztaty online dla tłumaczy: Poprawna polszczyzna w praktyce \n Termin: 19 i 20 grudnia 2022 r. (pon. i wt) Godz.: 18.00 – 20.15 \nSzczegółowy opis szkolenia \nWarsztaty są powtórzeniem (V edycją) szkolenia\, które odbyło się w 2020 roku pt. “Język polski dla tłumaczy”
URL:https://tepis.org.pl/event/poprawna-polszczyzna-w-praktyce-2-2/
END:VEVENT
END:VCALENDAR