BEGIN:VCALENDAR
VERSION:2.0
PRODID:-//PT TEPIS - ECPv6.15.20//NONSGML v1.0//EN
CALSCALE:GREGORIAN
METHOD:PUBLISH
X-WR-CALNAME:PT TEPIS
X-ORIGINAL-URL:https://tepis.org.pl
X-WR-CALDESC:Wydarzenia dla PT TEPIS
REFRESH-INTERVAL;VALUE=DURATION:PT1H
X-Robots-Tag:noindex
X-PUBLISHED-TTL:PT1H
BEGIN:VTIMEZONE
TZID:Europe/Warsaw
BEGIN:DAYLIGHT
TZOFFSETFROM:+0100
TZOFFSETTO:+0200
TZNAME:CEST
DTSTART:20220327T010000
END:DAYLIGHT
BEGIN:STANDARD
TZOFFSETFROM:+0200
TZOFFSETTO:+0100
TZNAME:CET
DTSTART:20221030T010000
END:STANDARD
BEGIN:DAYLIGHT
TZOFFSETFROM:+0100
TZOFFSETTO:+0200
TZNAME:CEST
DTSTART:20230326T010000
END:DAYLIGHT
BEGIN:STANDARD
TZOFFSETFROM:+0200
TZOFFSETTO:+0100
TZNAME:CET
DTSTART:20231029T010000
END:STANDARD
BEGIN:DAYLIGHT
TZOFFSETFROM:+0100
TZOFFSETTO:+0200
TZNAME:CEST
DTSTART:20240331T010000
END:DAYLIGHT
BEGIN:STANDARD
TZOFFSETFROM:+0200
TZOFFSETTO:+0100
TZNAME:CET
DTSTART:20241027T010000
END:STANDARD
END:VTIMEZONE
BEGIN:VEVENT
DTSTART;TZID=Europe/Warsaw:20230204T092000
DTEND;TZID=Europe/Warsaw:20230204T144500
DTSTAMP:20260423T021024
CREATED:20230105T090809Z
LAST-MODIFIED:20230105T090809Z
UID:23098-1675502400-1675521900@tepis.org.pl
SUMMARY:Investigaciones médicas\, policiales y fiscales-webinarium 2/2
DESCRIPTION:Webinarium dla tłumaczy języka hiszpańskiego \nInvestigaciones médicas\, policiales y fiscales – czyli wspólny mianownik badań medycznych\nW dniach 21.01 i 04.02 2023 r. (dwie soboty) w godzinach:9.20 – 14.45  \n Webinaria odbywają się na platformie Zoom. \nOpis szkolenia \nZakup uczestnictwa w e-sklepie TEPIS: https://tepis.org.pl/sklep/
URL:https://tepis.org.pl/event/investigaciones-medicas-policiales-y-fiscales-webinarium-2-2/
CATEGORIES:2022 Akcje szkoleniowe PT TEPIS
END:VEVENT
BEGIN:VEVENT
DTSTART;TZID=Europe/Warsaw:20230206T180000
DTEND;TZID=Europe/Warsaw:20230206T220000
DTSTAMP:20260423T021024
CREATED:20230127T083021Z
LAST-MODIFIED:20230127T083021Z
UID:24052-1675706400-1675720800@tepis.org.pl
SUMMARY:Posiedzenie Rady Naczelnej PT TEPIS
DESCRIPTION:Posiedzenie Rady Naczelnej PT TEPIS
URL:https://tepis.org.pl/event/posiedzenie-rady-naczelnej-pt-tepis/
END:VEVENT
BEGIN:VEVENT
DTSTART;TZID=Europe/Warsaw:20230209T180000
DTEND;TZID=Europe/Warsaw:20230209T201500
DTSTAMP:20260423T021024
CREATED:20230131T101708Z
LAST-MODIFIED:20230131T101708Z
UID:24178-1675965600-1675973700@tepis.org.pl
SUMMARY:Webinarium: Komunikacja inkluzywna w praktyce 1/2
DESCRIPTION:Warsztaty online dla tłumaczy: Komunikacja inkluzywna w praktyce – warsztaty językowe \nTermin: 9 i 10 lutego 2023 r. (czwartek i piątek) Godz.: 18.00 – 20.15 \nMiejsce: Platforma ClickMeeting \nSzczegółowy opis szkolenia \nZakup uczestnictwa w e-sklepie TEPIS: https://tepis.org.pl/sklep/
URL:https://tepis.org.pl/event/webinarium-komunikacja-inkluzywna-w-praktyce-1-2/
END:VEVENT
BEGIN:VEVENT
DTSTART;TZID=Europe/Warsaw:20230210T180000
DTEND;TZID=Europe/Warsaw:20230210T201500
DTSTAMP:20260423T021024
CREATED:20230131T101856Z
LAST-MODIFIED:20230131T101856Z
UID:24180-1676052000-1676060100@tepis.org.pl
SUMMARY:Webinarium: Komunikacja inkluzywna w praktyce 2/2
DESCRIPTION:Warsztaty online dla tłumaczy: Komunikacja inkluzywna w praktyce – warsztaty językowe \nTermin: 9 i 10 lutego 2023 r. (czwartek i piątek) Godz.: 18.00 – 20.15 \nMiejsce: Platforma ClickMeeting \nSzczegółowy opis szkolenia \nZakup uczestnictwa w e-sklepie TEPIS: https://tepis.org.pl/sklep/
URL:https://tepis.org.pl/event/webinarium-komunikacja-inkluzywna-w-praktyce-2-2/
END:VEVENT
BEGIN:VEVENT
DTSTART;TZID=Europe/Warsaw:20230211T110000
DTEND;TZID=Europe/Warsaw:20230211T140000
DTSTAMP:20260423T021024
CREATED:20230102T144825Z
LAST-MODIFIED:20230102T144825Z
UID:22981-1676113200-1676124000@tepis.org.pl
SUMMARY:Prawo podatkowe IT/PL Webinarium 2/2
DESCRIPTION:Warsztaty online dla tłumaczy języka włoskiego z tematyki podatkowej\nCzęść I: Prawo podatkowe (system podatkowy we Włoszech i w Polsce) w dn. 28 stycznia 2023 (sobota) godz. 11.00 – 14.00 \nCzęść II: Prawo podatkowe (przekład dokumentów włoskich i polskich) w dn. 11 lutego 2023 (sobota) godz. 11.00 – 14.00 \nSzczegółowy opis szkolenia \nZakup uczestnictwa w e-sklepie TEPIS: https://tepis.org.pl/sklep/
URL:https://tepis.org.pl/event/prawo-podatkowe-it-pl-webinarium-2-2/
END:VEVENT
BEGIN:VEVENT
DTSTART;TZID=Europe/Warsaw:20230221T190000
DTEND;TZID=Europe/Warsaw:20230221T203000
DTSTAMP:20260423T021024
CREATED:20230220T165125Z
LAST-MODIFIED:20230220T165204Z
UID:24625-1677006000-1677011400@tepis.org.pl
SUMMARY:Spotkanie z cyklu „Tłumacz z pasją”
DESCRIPTION:Serdecznie zapraszamy do udziału w pierwszym spotkaniu z cyklu „Tłumacz z pasją”. \nChcemy pokazać\, jak tłumacze spędzają czas wolny i jak odpoczywają. Na początek coś\, co łączy wielu tłumaczy\, czyli podróże. O tym jak łączy pracę zawodową z podróżowaniem opowie Dominik Mikołajczyk\, tłumacz przysięgły języków angielskiego i niderlandzkiego\, który odwiedził już ponad 80 państw (plus kilka nieuznawanych). \nSpotkanie odbędzie się na platformie TEAMS tylko dla Członków PT TEPIS\, a udział w nim jest bezpłatny. \nW celu otrzymania linku do spotkania prosimy przesyłać zgłoszenia przez formularz: https://tiny.pl/wn1cs .
URL:https://tepis.org.pl/event/spotkanie-z-cyku-tlumacz-z-pasja/
END:VEVENT
BEGIN:VEVENT
DTSTART;TZID=Europe/Warsaw:20230223T163000
DTEND;TZID=Europe/Warsaw:20230223T180000
DTSTAMP:20260423T021024
CREATED:20230127T090127Z
LAST-MODIFIED:20230127T090127Z
UID:24074-1677169800-1677175200@tepis.org.pl
SUMMARY:Spotkanie noworoczne w Rzeszowie
DESCRIPTION:Serdecznie zapraszamy wszystkich członków Podlaskiego Koła TEPIS na lunch noworoczny\, który odbędzie się 23.02.2023r. o godzinie 16:30 w Białymstoku. \nProsimy o przesyłanie potwierdzeń uczestnictwa w spotkaniu noworocznym na adres: podlaskie@tepis.org.pl do środy\, 1 lutego br.
URL:https://tepis.org.pl/event/spotkanie-noworoczne-w-rzeszowie/
END:VEVENT
BEGIN:VEVENT
DTSTART;VALUE=DATE:20230225
DTEND;VALUE=DATE:20230226
DTSTAMP:20260423T021024
CREATED:20230207T161757Z
LAST-MODIFIED:20230207T161757Z
UID:24407-1677283200-1677369599@tepis.org.pl
SUMMARY:Jubileusz 30. lecia Zachodniopomorskiego Koła PT TEPIS
DESCRIPTION:Zarząd Zachodniopomorskiego Koła PT TEPIS w Szczecinie serdecznie zaprasza na uroczyste obchody jubileuszu 30. lecia Zachodniopomorskiego Koła PT TEPIS w Szczecinie \ndnia 25 lutego 2023 r. (sobota) \nW programie: \n12:00-14:00    MUZEUM TECHNIKI I KOMUNIKACJI – ZAJEZDNIA SZTUKI W SZCZECINIE \n15:00-17.15    Spotkanie jubileuszowe ze wspólnym obiadem \n18:00-20:00    Spektakl teatralny Disco Macabre w Teatrze Lalek PLECIUGA\, Szczecin \n20:00               Spotkanie towarzyskie w pubie \nLiczba miejsc ograniczona\, decyduje kolejność zgłoszeń w terminie do 09.02.2023 \nzapisy i szczegóły tepis@tepis.org.pl \n 
URL:https://tepis.org.pl/event/jubileusz-30-lecia-zachodniopomorskiego-kola-pt-tepis/
END:VEVENT
BEGIN:VEVENT
DTSTART;TZID=Europe/Warsaw:20230227T170000
DTEND;TZID=Europe/Warsaw:20230227T183000
DTSTAMP:20260423T021024
CREATED:20221122T120441Z
LAST-MODIFIED:20221122T120441Z
UID:22219-1677517200-1677522600@tepis.org.pl
SUMMARY:Kurs z zakresu prawa\, moduł 5\, wykład- Procedura karna
DESCRIPTION:Webinarium „Kurs dla tłumaczy języków obcych z zakresu prawa 2022 -2023” \nWykład ogólny w języku polskim \nTemat V. PROCEDURA KARNA \nPROGRAM-SZKOLENIA-KURS-PRAWA
URL:https://tepis.org.pl/event/kurs-z-zakresu-prawa-modul-5-wyklad-procedura-karna/
END:VEVENT
BEGIN:VEVENT
DTSTART;TZID=Europe/Warsaw:20230227T184500
DTEND;TZID=Europe/Warsaw:20230227T201500
DTSTAMP:20260423T021024
CREATED:20221122T113951Z
LAST-MODIFIED:20221122T113951Z
UID:22204-1677523500-1677528900@tepis.org.pl
SUMMARY:Kurs z zakresu prawa\, moduł 5\, warsztaty- język angielski
DESCRIPTION:Webinarium „Kurs dla tłumaczy języków obcych z zakresu prawa 2022 -2023” \n5 moduł podstawowy: Warsztaty tematyczne w sekcjach językowych – sekcja angielska \nTemat V. PROCEDURA KARNA \nPROGRAM-SZKOLENIA-KURS-PRAWA
URL:https://tepis.org.pl/event/kurs-z-zakresu-prawa-modul-5-warsztaty-jezyk-angielski/
END:VEVENT
BEGIN:VEVENT
DTSTART;TZID=Europe/Warsaw:20230228T170000
DTEND;TZID=Europe/Warsaw:20230228T183000
DTSTAMP:20260423T021024
CREATED:20221122T113750Z
LAST-MODIFIED:20221122T113750Z
UID:22202-1677603600-1677609000@tepis.org.pl
SUMMARY:Kurs z zakresu prawa\, moduł 5\, warsztaty- język francuski
DESCRIPTION:Webinarium „Kurs dla tłumaczy języków obcych z zakresu prawa 2022 -2023” \n5 moduł podstawowy: Warsztaty tematyczne w sekcjach językowych – sekcja francuska \nTemat V. PROCEDURA KARNA \nPROGRAM-SZKOLENIA-KURS-PRAWA
URL:https://tepis.org.pl/event/kurs-z-zakresu-prawa-modul-5-warsztaty-jezyk-francuski/
END:VEVENT
BEGIN:VEVENT
DTSTART;TZID=Europe/Warsaw:20230228T184500
DTEND;TZID=Europe/Warsaw:20230228T201500
DTSTAMP:20260423T021024
CREATED:20221122T114406Z
LAST-MODIFIED:20221122T120818Z
UID:22208-1677609900-1677615300@tepis.org.pl
SUMMARY:Kurs z zakresu prawa\, moduł 5\, warsztaty- język włoski
DESCRIPTION:Webinarium „Kurs dla tłumaczy języków obcych z zakresu prawa 2022 -2023” \n5 moduł podstawowy: Warsztaty tematyczne w sekcjach językowych – sekcja włoska \nTemat V. PROCEDURA KARNA \nPROGRAM-SZKOLENIA-KURS-PRAWA
URL:https://tepis.org.pl/event/kurs-z-zakresu-prawa-modul-5-warsztaty-jezyk-wloski/
END:VEVENT
BEGIN:VEVENT
DTSTART;TZID=Europe/Warsaw:20230228T190000
DTEND;TZID=Europe/Warsaw:20230228T203000
DTSTAMP:20260423T021024
CREATED:20221122T115714Z
LAST-MODIFIED:20221122T115714Z
UID:22214-1677610800-1677616200@tepis.org.pl
SUMMARY:Kurs z zakresu prawa\, moduł 5\, warsztaty- język chorwacki
DESCRIPTION:Webinarium „Kurs dla tłumaczy języków obcych z zakresu prawa 2022 -2023” \n5 moduł podstawowy: Warsztaty tematyczne w sekcjach językowych – sekcja chorwacka \nTemat V. PROCEDURA KARNA \nPROGRAM-SZKOLENIA-KURS-PRAWA
URL:https://tepis.org.pl/event/kurs-z-zakresu-prawa-modul-5-warsztaty-jezyk-chorwacki/
END:VEVENT
END:VCALENDAR