BEGIN:VCALENDAR
VERSION:2.0
PRODID:-//PT TEPIS - ECPv6.15.20//NONSGML v1.0//EN
CALSCALE:GREGORIAN
METHOD:PUBLISH
X-WR-CALNAME:PT TEPIS
X-ORIGINAL-URL:https://tepis.org.pl
X-WR-CALDESC:Wydarzenia dla PT TEPIS
REFRESH-INTERVAL;VALUE=DURATION:PT1H
X-Robots-Tag:noindex
X-PUBLISHED-TTL:PT1H
BEGIN:VTIMEZONE
TZID:Europe/Warsaw
BEGIN:DAYLIGHT
TZOFFSETFROM:+0100
TZOFFSETTO:+0200
TZNAME:CEST
DTSTART:20220327T010000
END:DAYLIGHT
BEGIN:STANDARD
TZOFFSETFROM:+0200
TZOFFSETTO:+0100
TZNAME:CET
DTSTART:20221030T010000
END:STANDARD
BEGIN:DAYLIGHT
TZOFFSETFROM:+0100
TZOFFSETTO:+0200
TZNAME:CEST
DTSTART:20230326T010000
END:DAYLIGHT
BEGIN:STANDARD
TZOFFSETFROM:+0200
TZOFFSETTO:+0100
TZNAME:CET
DTSTART:20231029T010000
END:STANDARD
BEGIN:DAYLIGHT
TZOFFSETFROM:+0100
TZOFFSETTO:+0200
TZNAME:CEST
DTSTART:20240331T010000
END:DAYLIGHT
BEGIN:STANDARD
TZOFFSETFROM:+0200
TZOFFSETTO:+0100
TZNAME:CET
DTSTART:20241027T010000
END:STANDARD
END:VTIMEZONE
BEGIN:VEVENT
DTSTART;TZID=Europe/Warsaw:20230301T170000
DTEND;TZID=Europe/Warsaw:20230301T183000
DTSTAMP:20260423T010323
CREATED:20221122T113555Z
LAST-MODIFIED:20221122T113555Z
UID:22200-1677690000-1677695400@tepis.org.pl
SUMMARY:Kurs z zakresu prawa\, moduł 5\, warsztaty- język hiszpański
DESCRIPTION:Webinarium „Kurs dla tłumaczy języków obcych z zakresu prawa 2022 -2023” \n5 moduł podstawowy: Warsztaty tematyczne w sekcjach językowych – sekcja hiszpańska \nTemat V. PROCEDURA KARNA \nPROGRAM-SZKOLENIA-KURS-PRAWA
URL:https://tepis.org.pl/event/kurs-z-zakresu-prawa-modul-5-warsztaty-jezyk-hiszpanski/
END:VEVENT
BEGIN:VEVENT
DTSTART;TZID=Europe/Warsaw:20230301T184500
DTEND;TZID=Europe/Warsaw:20230301T201500
DTSTAMP:20260423T010323
CREATED:20221122T114559Z
LAST-MODIFIED:20221122T114559Z
UID:22210-1677696300-1677701700@tepis.org.pl
SUMMARY:Kurs z zakresu prawa\, moduł 5\, warsztaty- język niemiecki
DESCRIPTION:Webinarium „Kurs dla tłumaczy języków obcych z zakresu prawa 2022 -2023” \n5 moduł podstawowy: Warsztaty tematyczne w sekcjach językowych – sekcja niemiecka \nTemat V. PROCEDURA KARNA \nPROGRAM-SZKOLENIA-KURS-PRAWA
URL:https://tepis.org.pl/event/kurs-z-zakresu-prawa-modul-5-warsztaty-jezyk-niemiecki/
END:VEVENT
BEGIN:VEVENT
DTSTART;TZID=Europe/Warsaw:20230302T170000
DTEND;TZID=Europe/Warsaw:20230302T183000
DTSTAMP:20260423T010323
CREATED:20221122T115908Z
LAST-MODIFIED:20221122T115908Z
UID:22216-1677776400-1677781800@tepis.org.pl
SUMMARY:Kurs z zakresu prawa\, moduł 5\, warsztaty- język rosyjski
DESCRIPTION:Webinarium „Kurs dla tłumaczy języków obcych z zakresu prawa 2022 -2023” \n5 moduł podstawowy: Warsztaty tematyczne w sekcjach językowych – sekcja rosyjska \nTemat V. PROCEDURA KARNA \nPROGRAM-SZKOLENIA-KURS-PRAWA
URL:https://tepis.org.pl/event/kurs-z-zakresu-prawa-modul-5-warsztaty-jezyk-rosyjski/
END:VEVENT
BEGIN:VEVENT
DTSTART;TZID=Europe/Warsaw:20230302T170000
DTEND;TZID=Europe/Warsaw:20230302T183000
DTSTAMP:20260423T010323
CREATED:20221122T121006Z
LAST-MODIFIED:20221122T121006Z
UID:22222-1677776400-1677781800@tepis.org.pl
SUMMARY:Kurs z zakresu prawa\, moduł 5\, warsztaty- język niderlandzki
DESCRIPTION:Webinarium „Kurs dla tłumaczy języków obcych z zakresu prawa 2022 -2023” \n5 moduł podstawowy: Warsztaty tematyczne w sekcjach językowych – sekcja niderlandzka \nTemat V. PROCEDURA KARNA \nPROGRAM-SZKOLENIA-KURS-PRAWA
URL:https://tepis.org.pl/event/kurs-z-zakresu-prawa-modul-5-warsztaty-jezyk-niderlandzki/
END:VEVENT
BEGIN:VEVENT
DTSTART;TZID=Europe/Warsaw:20230302T184500
DTEND;TZID=Europe/Warsaw:20230302T201500
DTSTAMP:20260423T010323
CREATED:20221122T114203Z
LAST-MODIFIED:20221122T114203Z
UID:22206-1677782700-1677788100@tepis.org.pl
SUMMARY:Kurs z zakresu prawa\, moduł 5\, warsztaty- język ukraiński
DESCRIPTION:Webinarium „Kurs dla tłumaczy języków obcych z zakresu prawa 2022 -2023” \n5 moduł podstawowy: Warsztaty tematyczne w sekcjach językowych – sekcja ukraińska \nTemat V. PROCEDURA KARNA \nPROGRAM-SZKOLENIA-KURS-PRAWA
URL:https://tepis.org.pl/event/kurs-z-zakresu-prawa-modul-5-warsztaty-jezyk-ukrainski/
END:VEVENT
BEGIN:VEVENT
DTSTART;TZID=Europe/Warsaw:20230303T184500
DTEND;TZID=Europe/Warsaw:20230303T201500
DTSTAMP:20260423T010323
CREATED:20221122T113343Z
LAST-MODIFIED:20221122T113343Z
UID:22198-1677869100-1677874500@tepis.org.pl
SUMMARY:Kurs z zakresu prawa\, moduł 5\, warsztaty- język chiński
DESCRIPTION:Webinarium „Kurs dla tłumaczy języków obcych z zakresu prawa 2022 -2023” \n5 moduł podstawowy: Warsztaty tematyczne w sekcjach językowych – sekcja azjatycka\, język chiński \nTemat V. PROCEDURA KARNA \nPROGRAM-SZKOLENIA-KURS-PRAWA
URL:https://tepis.org.pl/event/kurs-z-zakresu-prawa-modul-5-warsztaty-jezyk-chinski/
END:VEVENT
BEGIN:VEVENT
DTSTART;TZID=Europe/Warsaw:20230304T110000
DTEND;TZID=Europe/Warsaw:20230304T141500
DTSTAMP:20260423T010323
CREATED:20220712T103923Z
LAST-MODIFIED:20221223T092758Z
UID:19719-1677927600-1677939300@tepis.org.pl
SUMMARY:Prawo handlowe/III MODUŁ DODATKOWY/Kurs z zakresu prawa
DESCRIPTION:Kurs dla tłumaczy języków obcych z zakresu prawa 2022 -2023 \nIII MODUŁ DODATKOWY \nTemat: PRAWO HANDLOWE\nPrawo handlowe spółek – spółki osobowe\, spółki kapitałowe\, podstawowe dokumenty związane z funkcjonowaniem spółek \nImię i nazwisko wykładowcy: adw. Bartłomiej Mużyło \nProgram kursu dla tłumaczy z zakresu prawa (2022-2023)
URL:https://tepis.org.pl/event/prawo-handlowe-iii-modul-dodatkowy-kurs-z-zakresu-prawa/
END:VEVENT
BEGIN:VEVENT
DTSTART;TZID=Europe/Warsaw:20230307T184500
DTEND;TZID=Europe/Warsaw:20230307T201500
DTSTAMP:20260423T010323
CREATED:20221122T115511Z
LAST-MODIFIED:20230109T092339Z
UID:22212-1678214700-1678220100@tepis.org.pl
SUMMARY:Kurs z zakresu prawa\, moduł 5\, warsztaty- język czeski
DESCRIPTION:Webinarium „Kurs dla tłumaczy języków obcych z zakresu prawa 2022 -2023” \n5 moduł podstawowy: Warsztaty tematyczne w sekcjach językowych – sekcja czeska \nTemat V. PROCEDURA KARNA \nPROGRAM-SZKOLENIA-KURS-PRAWA
URL:https://tepis.org.pl/event/kurs-z-zakresu-prawa-modul-5-warsztaty-jezyk-czeski/
END:VEVENT
BEGIN:VEVENT
DTSTART;TZID=Europe/Warsaw:20230311T093000
DTEND;TZID=Europe/Warsaw:20230311T123000
DTSTAMP:20260423T010323
CREATED:20230223T160924Z
LAST-MODIFIED:20230228T094457Z
UID:24787-1678527000-1678537800@tepis.org.pl
SUMMARY:Tertulia dla tłumaczy języka hiszpańskiego
DESCRIPTION:Pierwsza z cyklu tertulia dla tłumaczy języka hiszpańskiego \nTemat: Tłumaczenie dokumentów szkolnych\, czyli dyplomów\, świadectw\, suplementów\, certyfikatów\, zaświadczeń i nie tylko \nOpis wydarzenia
URL:https://tepis.org.pl/event/tertulia-dla-tlumaczy-jezyka-hiszpanskiego/
END:VEVENT
BEGIN:VEVENT
DTSTART;TZID=Europe/Warsaw:20230313T180000
DTEND;TZID=Europe/Warsaw:20230313T220000
DTSTAMP:20260423T010323
CREATED:20230127T083121Z
LAST-MODIFIED:20230127T083121Z
UID:24054-1678730400-1678744800@tepis.org.pl
SUMMARY:Posiedzenie Rady Naczelnej PT TEPIS
DESCRIPTION:Posiedzenie Rady Naczelnej PT TEPIS
URL:https://tepis.org.pl/event/posiedzenie-rady-naczelnej-pt-tepis-2/
END:VEVENT
BEGIN:VEVENT
DTSTART;TZID=Europe/Warsaw:20230316T190000
DTEND;TZID=Europe/Warsaw:20230316T210000
DTSTAMP:20260423T010323
CREATED:20230307T121215Z
LAST-MODIFIED:20230307T121215Z
UID:25256-1678993200-1679000400@tepis.org.pl
SUMMARY:Spotkanie zarządów Kół PT TEPIS
DESCRIPTION:
URL:https://tepis.org.pl/event/spotkanie-zarzadow-kol-pt-tepis/
END:VEVENT
BEGIN:VEVENT
DTSTART;TZID=Europe/Warsaw:20230321T090000
DTEND;TZID=Europe/Warsaw:20230321T121500
DTSTAMP:20260423T010323
CREATED:20230223T155431Z
LAST-MODIFIED:20230223T155431Z
UID:24781-1679389200-1679400900@tepis.org.pl
SUMMARY:Poprawność językowa w języku hiszpańskim 1/3
DESCRIPTION:Cykl trzech webinariów dla tłumaczy języka hiszpańskiego pt. Poprawność językowa w języku hiszpańskim \nW dniach: 21\, 22 i 23 marca 2023 r.w godzinach: 9.00 – 12.15 \nopis szkolenia \nZakup uczestnictwa w e-sklepie TEPIS: https://tepis.org.pl/sklep/
URL:https://tepis.org.pl/event/poprawnosc-jezykowa-w-jezyku-hiszpanskim-1-3/
END:VEVENT
BEGIN:VEVENT
DTSTART;TZID=Europe/Warsaw:20230322T090000
DTEND;TZID=Europe/Warsaw:20230322T121500
DTSTAMP:20260423T010323
CREATED:20230223T155606Z
LAST-MODIFIED:20230223T155606Z
UID:24783-1679475600-1679487300@tepis.org.pl
SUMMARY:Poprawność językowa w języku hiszpańskim 2/3
DESCRIPTION:Cykl trzech webinariów dla tłumaczy języka hiszpańskiego pt. Poprawność językowa w języku hiszpańskim \nW dniach: 21\, 22 i 23 marca 2023 r.w godzinach: 9.00 – 12.15 \nopis szkolenia \nZakup uczestnictwa w e-sklepie TEPIS: https://tepis.org.pl/sklep/
URL:https://tepis.org.pl/event/poprawnosc-jezykowa-w-jezyku-hiszpanskim-2-3/
END:VEVENT
BEGIN:VEVENT
DTSTART;TZID=Europe/Warsaw:20230323T090000
DTEND;TZID=Europe/Warsaw:20230323T121500
DTSTAMP:20260423T010323
CREATED:20230223T155752Z
LAST-MODIFIED:20230223T155752Z
UID:24785-1679562000-1679573700@tepis.org.pl
SUMMARY:Poprawność językowa w języku hiszpańskim 3/3
DESCRIPTION:Cykl trzech webinariów dla tłumaczy języka hiszpańskiego pt. Poprawność językowa w języku hiszpańskim \nW dniach: 21\, 22 i 23 marca 2023 r.w godzinach: 9.00 – 12.15 \nopis szkolenia \nZakup uczestnictwa w e-sklepie TEPIS: https://tepis.org.pl/sklep/
URL:https://tepis.org.pl/event/poprawnosc-jezykowa-w-jezyku-hiszpanskim-3-3/
END:VEVENT
END:VCALENDAR