BEGIN:VCALENDAR
VERSION:2.0
PRODID:-//PT TEPIS - ECPv6.15.20//NONSGML v1.0//EN
CALSCALE:GREGORIAN
METHOD:PUBLISH
X-WR-CALNAME:PT TEPIS
X-ORIGINAL-URL:https://tepis.org.pl
X-WR-CALDESC:Wydarzenia dla PT TEPIS
REFRESH-INTERVAL;VALUE=DURATION:PT1H
X-Robots-Tag:noindex
X-PUBLISHED-TTL:PT1H
BEGIN:VTIMEZONE
TZID:Europe/Warsaw
BEGIN:DAYLIGHT
TZOFFSETFROM:+0100
TZOFFSETTO:+0200
TZNAME:CEST
DTSTART:20220327T010000
END:DAYLIGHT
BEGIN:STANDARD
TZOFFSETFROM:+0200
TZOFFSETTO:+0100
TZNAME:CET
DTSTART:20221030T010000
END:STANDARD
BEGIN:DAYLIGHT
TZOFFSETFROM:+0100
TZOFFSETTO:+0200
TZNAME:CEST
DTSTART:20230326T010000
END:DAYLIGHT
BEGIN:STANDARD
TZOFFSETFROM:+0200
TZOFFSETTO:+0100
TZNAME:CET
DTSTART:20231029T010000
END:STANDARD
BEGIN:DAYLIGHT
TZOFFSETFROM:+0100
TZOFFSETTO:+0200
TZNAME:CEST
DTSTART:20240331T010000
END:DAYLIGHT
BEGIN:STANDARD
TZOFFSETFROM:+0200
TZOFFSETTO:+0100
TZNAME:CET
DTSTART:20241027T010000
END:STANDARD
END:VTIMEZONE
BEGIN:VEVENT
DTSTART;TZID=Europe/Warsaw:20230703T180000
DTEND;TZID=Europe/Warsaw:20230703T220000
DTSTAMP:20260422T172225
CREATED:20230127T084827Z
LAST-MODIFIED:20230127T084827Z
UID:24062-1688407200-1688421600@tepis.org.pl
SUMMARY:Posiedzenie Rady Naczelnej PT TEPIS
DESCRIPTION:Posiedzenie Rady Naczelnej PT TEPIS
URL:https://tepis.org.pl/event/posiedzenie-rady-naczelnej-pt-tepis-6/
END:VEVENT
BEGIN:VEVENT
DTSTART;TZID=Europe/Warsaw:20230704T173000
DTEND;TZID=Europe/Warsaw:20230704T203000
DTSTAMP:20260422T172226
CREATED:20230606T124716Z
LAST-MODIFIED:20230606T124716Z
UID:28776-1688491800-1688502600@tepis.org.pl
SUMMARY:Wielka waga pozornie błahych czynów - webinarium
DESCRIPTION:ZARZĄD WIELKOPOLSKIEGO KOŁA TEPISzaprasza na szkolenie pt.\nWielka waga pozornie błahych czynów –  postępowanie w sprawach o wykroczenia\nszczegóły \nZakup uczestnictwa i zapisy przez e-sklep  www.tepis.org.pl/sklep
URL:https://tepis.org.pl/event/wielka-waga-pozornie-blahych-czynow-webinarium/
END:VEVENT
BEGIN:VEVENT
DTSTART;TZID=Europe/Warsaw:20230706T190000
DTEND;TZID=Europe/Warsaw:20230706T210000
DTSTAMP:20260422T172226
CREATED:20230307T121656Z
LAST-MODIFIED:20230307T121656Z
UID:25264-1688670000-1688677200@tepis.org.pl
SUMMARY:Spotkanie zarządów Kół PT TEPIS
DESCRIPTION:
URL:https://tepis.org.pl/event/spotkanie-zarzadow-kol-pt-tepis-5/
END:VEVENT
END:VCALENDAR