BEGIN:VCALENDAR
VERSION:2.0
PRODID:-//PT TEPIS - ECPv6.15.20//NONSGML v1.0//EN
CALSCALE:GREGORIAN
METHOD:PUBLISH
X-ORIGINAL-URL:https://tepis.org.pl
X-WR-CALDESC:Wydarzenia dla PT TEPIS
REFRESH-INTERVAL;VALUE=DURATION:PT1H
X-Robots-Tag:noindex
X-PUBLISHED-TTL:PT1H
BEGIN:VTIMEZONE
TZID:Europe/Warsaw
BEGIN:DAYLIGHT
TZOFFSETFROM:+0100
TZOFFSETTO:+0200
TZNAME:CEST
DTSTART:20220327T010000
END:DAYLIGHT
BEGIN:STANDARD
TZOFFSETFROM:+0200
TZOFFSETTO:+0100
TZNAME:CET
DTSTART:20221030T010000
END:STANDARD
BEGIN:DAYLIGHT
TZOFFSETFROM:+0100
TZOFFSETTO:+0200
TZNAME:CEST
DTSTART:20230326T010000
END:DAYLIGHT
BEGIN:STANDARD
TZOFFSETFROM:+0200
TZOFFSETTO:+0100
TZNAME:CET
DTSTART:20231029T010000
END:STANDARD
BEGIN:DAYLIGHT
TZOFFSETFROM:+0100
TZOFFSETTO:+0200
TZNAME:CEST
DTSTART:20240331T010000
END:DAYLIGHT
BEGIN:STANDARD
TZOFFSETFROM:+0200
TZOFFSETTO:+0100
TZNAME:CET
DTSTART:20241027T010000
END:STANDARD
END:VTIMEZONE
BEGIN:VEVENT
DTSTART;TZID=Europe/Warsaw:20231106T180000
DTEND;TZID=Europe/Warsaw:20231106T220000
DTSTAMP:20260422T103442
CREATED:20230127T085551Z
LAST-MODIFIED:20230127T085551Z
UID:24068-1699293600-1699308000@tepis.org.pl
SUMMARY:Posiedzenie Rady Naczelnej PT TEPIS
DESCRIPTION:Posiedzenie Rady Naczelnej PT TEPIS
URL:https://tepis.org.pl/event/posiedzenie-rady-naczelnej-pt-tepis-9/
END:VEVENT
BEGIN:VEVENT
DTSTART;TZID=Europe/Warsaw:20231109T190000
DTEND;TZID=Europe/Warsaw:20231109T210000
DTSTAMP:20260422T103442
CREATED:20230307T122226Z
LAST-MODIFIED:20230307T122226Z
UID:25270-1699556400-1699563600@tepis.org.pl
SUMMARY:Spotkanie zarządów Kół PT TEPIS
DESCRIPTION:
URL:https://tepis.org.pl/event/spotkanie-zarzadow-kol-pt-tepis-8/
END:VEVENT
BEGIN:VEVENT
DTSTART;TZID=Europe/Warsaw:20231114T180000
DTEND;TZID=Europe/Warsaw:20231114T193000
DTSTAMP:20260422T103442
CREATED:20231029T155418Z
LAST-MODIFIED:20231029T155922Z
UID:32776-1699984800-1699990200@tepis.org.pl
SUMMARY:Wprowadzenie do tłumaczeń technicznych (EN/PL) Część 1
DESCRIPTION:Zapraszamy na szkolenie online dla tłumaczy języka angielskiego pt. \nWprowadzenie do tłumaczeń technicznych – jak zacząć\, jak się przygotować i czego się spodziewać\nTermin:  14 i 21 listopada  (wtorki)\, godz. 18.00-19.30 \nszczegóły \nZapisy w sklepie  TEPIS: https://tepis.org.pl/sklep/ \n 
URL:https://tepis.org.pl/event/wprowadzenie-do-tlumaczen-technicznych-webinarium-dla-anglistow-czesc-1-z-2/
END:VEVENT
BEGIN:VEVENT
DTSTART;TZID=Europe/Warsaw:20231121T180000
DTEND;TZID=Europe/Warsaw:20231121T193000
DTSTAMP:20260422T103442
CREATED:20231029T155549Z
LAST-MODIFIED:20231029T155718Z
UID:32778-1700589600-1700595000@tepis.org.pl
SUMMARY:Wprowadzenie do tłumaczeń technicznych (EN/PL) Część 2
DESCRIPTION:Zapraszamy na szkolenie online dla tłumaczy języka angielskiego pt. \nWprowadzenie do tłumaczeń technicznych – jak zacząć\, jak się przygotować i czego się spodziewać\nTermin:  14 i 21 listopada  (wtorki)\, godz. 18.00-19.30 \nszczegóły \nZapisy w sklepie  TEPIS: https://tepis.org.pl/sklep/
URL:https://tepis.org.pl/event/wprowadzenie-do-tlumaczen-technicznych-webinarium-dla-anglistow-czesc-2/
END:VEVENT
BEGIN:VEVENT
DTSTART;TZID=Europe/Warsaw:20231122T180000
DTEND;TZID=Europe/Warsaw:20231122T193000
DTSTAMP:20260422T103442
CREATED:20231113T074900Z
LAST-MODIFIED:20231117T190419Z
UID:33152-1700676000-1700681400@tepis.org.pl
SUMMARY:Ajurweda dla tłumaczy - webinarium z cegiełką
DESCRIPTION:Zapraszamy do udziału w szkoleniu online \nAJURWEDA DLA TŁUMACZY\nktóre zorganizowaliśmy\, żeby wesprzeć naszą członkinię\, Katarzynę Szylderowicz\, tłumaczkę przysięgłą jęz. niderlandzkiego\, która zmaga się z ciężką chorobą i zbiera środki na leczenie i zakup sprzętu wspomagającego codzienne funkcjonowanie. \nWięcej informacji tutaj: https://www.fundacjaavalon.pl/nasi_beneficjenci/katarzyna_szylderowicz_17951/?fbclid=IwAR0gHDz6BeIEg4pJpj8MUj1RCncsKWRUxHLw2NBaWSqqdr7gfME6w_kXhCE \nzapisy i zakup uczestnictwa https://tepis.org.pl/sklep/\nszczegóły \nIstnieje możliwość wykupienia szkolenia w dwóch opcjach cenowych: „cegiełka” za 50 zł lub za „cegiełka” za 100 zł.
URL:https://tepis.org.pl/event/ajurweda-dla-tlumaczy-webinarium-z-cegielka/
END:VEVENT
BEGIN:VEVENT
DTSTART;TZID=Europe/Warsaw:20231124T130000
DTEND;TZID=Europe/Warsaw:20231124T163000
DTSTAMP:20260422T103442
CREATED:20231103T101125Z
LAST-MODIFIED:20231116T130326Z
UID:32876-1700830800-1700843400@tepis.org.pl
SUMMARY:XII Repetytorium Tłumaczy Przysięgłych i Specjalistycznych/ Białystok
DESCRIPTION:XII Repetytorium Tłumaczy Przysięgłych\ni Specjalistycznych\nTłumaczenie dokumentów rejestracyjnych\ni aktów stanu cywilnego\nszczegóły \nMiejsce szkolenia : \nSala kolumnowa Podlaskiego Urzędu Wojewódzkiego\, ul. Mickiewicza 3\, Białystok \nZakup uczestnictwa: Sklep – PT TEPIS \n 
URL:https://tepis.org.pl/event/xii-repetytorium-tlumaczy-przysieglych-i-specjalistycznych-bialystok/
END:VEVENT
BEGIN:VEVENT
DTSTART;TZID=Europe/Warsaw:20231125T110000
DTEND;TZID=Europe/Warsaw:20231125T141500
DTSTAMP:20260422T103442
CREATED:20230512T103532Z
LAST-MODIFIED:20231113T085708Z
UID:28149-1700910000-1700921700@tepis.org.pl
SUMMARY:Prawo administracyjne /VI MODUŁ DODATKOWY/Kurs z zakresu prawa
DESCRIPTION:Kurs dla tłumaczy języków obcych z zakresu prawa 2022 -2023 \nVI MODUŁ DODATKOWY \nTemat: PRAWO ADMINISTRACYJNE I PROCEDURA ADMINISTRACYJNA \nUstawa o cudzoziemcach\, ustawa o nabywaniu nieruchomości przez cudzoziemców – procedury administracyjne\, których stroną są cudzoziemcy \nImię i nazwisko wykładowcy: adw. Bartłomiej Mużyło \nProgram kursu dla tłumaczy z zakresu prawa (2022-2023)
URL:https://tepis.org.pl/event/prawo-administracyjne-vi-modul-dodatkowy-kurs-z-zakresu-prawa/
END:VEVENT
BEGIN:VEVENT
DTSTART;TZID=Europe/Warsaw:20231127T170000
DTEND;TZID=Europe/Warsaw:20231127T183000
DTSTAMP:20260422T103442
CREATED:20230512T093937Z
LAST-MODIFIED:20231113T085637Z
UID:28124-1701104400-1701109800@tepis.org.pl
SUMMARY:Kurs z zakresu prawa\, moduł 8\, Prawo administracyjne i procedura administracyjna
DESCRIPTION:Webinarium „Kurs dla tłumaczy języków obcych z zakresu prawa 2022 -2023” \nWykład ogólny w języku polskim \nTemat VIII. PRAWO ADMINISTRACYJNE I PROCEDURA ADMINISTRACYJNA \nPROGRAM-SZKOLENIA-KURS-PRAWA
URL:https://tepis.org.pl/event/kurs-z-zakresu-prawa-modul-8-prawo-administracyjne-i-procedura-administracyjna/
END:VEVENT
BEGIN:VEVENT
DTSTART;TZID=Europe/Warsaw:20231127T184500
DTEND;TZID=Europe/Warsaw:20231127T201500
DTSTAMP:20260422T103442
CREATED:20230512T094636Z
LAST-MODIFIED:20231113T084933Z
UID:28129-1701110700-1701116100@tepis.org.pl
SUMMARY:Kurs z zakresu prawa\, moduł 8\, warsztaty- język angielski
DESCRIPTION:Webinarium „Kurs dla tłumaczy języków obcych z zakresu prawa 2022 -2023” \n8 moduł podstawowy: Warsztaty tematyczne w sekcjach językowych – sekcja angielska \nTemat VIII. Prawo administracyjne i procedura administracyjna \nPROGRAM-SZKOLENIA-KURS-PRAWA
URL:https://tepis.org.pl/event/kurs-z-zakresu-prawa-modul-8-warsztaty-jezyk-angielski/
END:VEVENT
BEGIN:VEVENT
DTSTART;TZID=Europe/Warsaw:20231129T170000
DTEND;TZID=Europe/Warsaw:20231129T183000
DTSTAMP:20260422T103442
CREATED:20230512T102019Z
LAST-MODIFIED:20231113T085420Z
UID:28143-1701277200-1701282600@tepis.org.pl
SUMMARY:Kurs z zakresu prawa\, moduł 8\, warsztaty- język hiszpański
DESCRIPTION:Webinarium „Kurs dla tłumaczy języków obcych z zakresu prawa 2022 -2023” \n8 moduł podstawowy: Warsztaty tematyczne w sekcjach językowych – sekcja hiszpańska \nTemat VIII. Prawo administracyjne i procedura administracyjna \nPROGRAM-SZKOLENIA-KURS-PRAWA
URL:https://tepis.org.pl/event/kurs-z-zakresu-prawa-modul-8-warsztaty-jezyk-hiszpanski/
END:VEVENT
BEGIN:VEVENT
DTSTART;TZID=Europe/Warsaw:20231129T184500
DTEND;TZID=Europe/Warsaw:20231129T201500
DTSTAMP:20260422T103442
CREATED:20230512T094954Z
LAST-MODIFIED:20231113T085321Z
UID:28131-1701283500-1701288900@tepis.org.pl
SUMMARY:Kurs z zakresu prawa\, moduł 8\, warsztaty- język niemiecki
DESCRIPTION:Webinarium „Kurs dla tłumaczy języków obcych z zakresu prawa 2022 -2023” \n8 moduł podstawowy: Warsztaty tematyczne w sekcjach językowych – sekcja niemiecka \nTemat VIII. Prawo administracyjne i procedura administracyjna \nPROGRAM-SZKOLENIA-KURS-PRAWA
URL:https://tepis.org.pl/event/kurs-z-zakresu-prawa-modul-8-warsztaty-jezyk-niemiecki/
END:VEVENT
BEGIN:VEVENT
DTSTART;TZID=Europe/Warsaw:20231130T184500
DTEND;TZID=Europe/Warsaw:20231130T201500
DTSTAMP:20260422T103442
CREATED:20230512T100622Z
LAST-MODIFIED:20231113T085117Z
UID:28137-1701369900-1701375300@tepis.org.pl
SUMMARY:Kurs z zakresu prawa\, moduł 8\, warsztaty- język ukraiński
DESCRIPTION:Webinarium „Kurs dla tłumaczy języków obcych z zakresu prawa 2022 -2023” \n8 moduł podstawowy: Warsztaty tematyczne w sekcjach językowych – sekcja ukraińska \nTemat VIII. Prawo administracyjne i procedura administracyjna \nPROGRAM-SZKOLENIA-KURS-PRAWA
URL:https://tepis.org.pl/event/kurs-z-zakresu-prawa-modul-8-warsztaty-jezyk-ukrainski/
END:VEVENT
BEGIN:VEVENT
DTSTART;TZID=Europe/Warsaw:20231130T190000
DTEND;TZID=Europe/Warsaw:20231130T203000
DTSTAMP:20260422T103442
CREATED:20230512T100823Z
LAST-MODIFIED:20231113T085150Z
UID:28139-1701370800-1701376200@tepis.org.pl
SUMMARY:Kurs z zakresu prawa\, moduł 8\, warsztaty- język chorwacki
DESCRIPTION:Webinarium „Kurs dla tłumaczy języków obcych z zakresu prawa 2022 -2023” \n8 moduł podstawowy: Warsztaty tematyczne w sekcjach językowych – sekcja chorwacka \nTemat VIII. Prawo administracyjne i procedura administracyjna \nPROGRAM-SZKOLENIA-KURS-PRAWA
URL:https://tepis.org.pl/event/kurs-z-zakresu-prawa-modul-8-warsztaty-jezyk-chorwacki/
END:VEVENT
END:VCALENDAR