BEGIN:VCALENDAR
VERSION:2.0
PRODID:-//PT TEPIS - ECPv6.15.20//NONSGML v1.0//EN
CALSCALE:GREGORIAN
METHOD:PUBLISH
X-WR-CALNAME:PT TEPIS
X-ORIGINAL-URL:https://tepis.org.pl
X-WR-CALDESC:Wydarzenia dla PT TEPIS
REFRESH-INTERVAL;VALUE=DURATION:PT1H
X-Robots-Tag:noindex
X-PUBLISHED-TTL:PT1H
BEGIN:VTIMEZONE
TZID:Europe/Warsaw
BEGIN:DAYLIGHT
TZOFFSETFROM:+0100
TZOFFSETTO:+0200
TZNAME:CEST
DTSTART:20230326T010000
END:DAYLIGHT
BEGIN:STANDARD
TZOFFSETFROM:+0200
TZOFFSETTO:+0100
TZNAME:CET
DTSTART:20231029T010000
END:STANDARD
BEGIN:DAYLIGHT
TZOFFSETFROM:+0100
TZOFFSETTO:+0200
TZNAME:CEST
DTSTART:20240331T010000
END:DAYLIGHT
BEGIN:STANDARD
TZOFFSETFROM:+0200
TZOFFSETTO:+0100
TZNAME:CET
DTSTART:20241027T010000
END:STANDARD
BEGIN:DAYLIGHT
TZOFFSETFROM:+0100
TZOFFSETTO:+0200
TZNAME:CEST
DTSTART:20250330T010000
END:DAYLIGHT
BEGIN:STANDARD
TZOFFSETFROM:+0200
TZOFFSETTO:+0100
TZNAME:CET
DTSTART:20251026T010000
END:STANDARD
END:VTIMEZONE
BEGIN:VEVENT
DTSTART;TZID=Europe/Warsaw:20240210T100000
DTEND;TZID=Europe/Warsaw:20240210T140000
DTSTAMP:20260420T021501
CREATED:20231230T140120Z
LAST-MODIFIED:20240118T085020Z
UID:34510-1707559200-1707573600@tepis.org.pl
SUMMARY:Posiedzenie Rady Naczelnej PT TEPIS
DESCRIPTION:
URL:https://tepis.org.pl/event/posiedzenie-rady-naczelnej-pt-tepis-13/
END:VEVENT
BEGIN:VEVENT
DTSTART;TZID=Europe/Warsaw:20240215T190000
DTEND;TZID=Europe/Warsaw:20240215T210000
DTSTAMP:20260420T021501
CREATED:20240210T112234Z
LAST-MODIFIED:20240210T112234Z
UID:36387-1708023600-1708030800@tepis.org.pl
SUMMARY:Spotkanie zarządów Kół PT TEPIS
DESCRIPTION:
URL:https://tepis.org.pl/event/spotkanie-zarzadow-kol-pt-tepis-11/
END:VEVENT
BEGIN:VEVENT
DTSTART;TZID=Europe/Warsaw:20240222T170000
DTEND;TZID=Europe/Warsaw:20240222T190000
DTSTAMP:20260420T021501
CREATED:20240213T074147Z
LAST-MODIFIED:20240213T074147Z
UID:36418-1708621200-1708628400@tepis.org.pl
SUMMARY:Tertulia dla tłumaczy języka hiszpańskiego - egzamin na tłumacza przysięgłego
DESCRIPTION:Zapraszamy na drugą tertulię dla tłumaczy języka hiszpańskiego \n Egzamin na tłumacza przysięgłego z języka hiszpańskiego — pytania\, wątpliwości i praktyczne wskazówki\nszczegóły \nZapisy – Sklep TEPIS \n  \n 
URL:https://tepis.org.pl/event/tertulia-dla-tlumaczy-jezyka-hiszpanskiego-egzamin-na-tlumacza-przysieglego/
END:VEVENT
BEGIN:VEVENT
DTSTART;TZID=Europe/Warsaw:20240222T173000
DTEND;TZID=Europe/Warsaw:20240222T190000
DTSTAMP:20260420T021501
CREATED:20240129T101054Z
LAST-MODIFIED:20240129T101054Z
UID:35968-1708623000-1708628400@tepis.org.pl
SUMMARY:Tłumaczenia literackie-język szwedzki/moduł dodatkowy2
DESCRIPTION:Forum Szkół Tłumaczy Specjalistycznych Literatur Obcojęzycznych \nMODUŁ DODATKOWY 2 \nTemat: Dlaczego Szwedzi „stoją i czekają” albo „leżą i śpią”? O potknięciach. \nSzczegółowy program szkoleniowy w zakresie tłumaczeń literackich w sekcjach językowych (2023-2025) \nZapisy Sklep – PT TEPIS
URL:https://tepis.org.pl/event/35963/
END:VEVENT
BEGIN:VEVENT
DTSTART;TZID=Europe/Warsaw:20240222T174500
DTEND;TZID=Europe/Warsaw:20240222T191500
DTSTAMP:20260420T021501
CREATED:20240129T100824Z
LAST-MODIFIED:20240129T100824Z
UID:35963-1708623900-1708629300@tepis.org.pl
SUMMARY:Tłumaczenia literackie-sekcja angielska/moduł dodatkowy2
DESCRIPTION:Forum Szkół Tłumaczy Specjalistycznych Literatur Obcojęzycznych \nMODUŁ DODATKOWY 2 \nTemat: Język inkluzywny w przekładzie literackim \nSzczegółowy program szkoleniowy w zakresie tłumaczeń literackich w sekcjach językowych (2023-2025) \nZapisy Sklep – PT TEPIS
URL:https://tepis.org.pl/event/tlumaczenia-literackie-sekcja-angielska-modul-dodatkowy2/
END:VEVENT
BEGIN:VEVENT
DTSTART;TZID=Europe/Warsaw:20240226T173000
DTEND;TZID=Europe/Warsaw:20240226T203000
DTSTAMP:20260420T021501
CREATED:20240129T102710Z
LAST-MODIFIED:20240129T102710Z
UID:35978-1708968600-1708979400@tepis.org.pl
SUMMARY:Tłumaczenia literackie-sekcja czeska/moduł podstawowy2
DESCRIPTION:Forum Szkół Tłumaczy Specjalistycznych Literatur Obcojęzycznych \nMODUŁ PODSTAWOWY 2 \nTemat: Czy niewierność zawsze jest grzechem? O kilku zagwozdkach translatorskich na kilkunastu przykładach \nSzczegółowy program szkoleniowy w zakresie tłumaczeń literackich w sekcjach językowych (2023-2025) \nZapisy Sklep – PT TEPIS
URL:https://tepis.org.pl/event/tlumaczenia-literackie-sekcja-czeska-modul-podstawowy2/
END:VEVENT
BEGIN:VEVENT
DTSTART;TZID=Europe/Warsaw:20240226T174500
DTEND;TZID=Europe/Warsaw:20240226T204500
DTSTAMP:20260420T021501
CREATED:20240129T103003Z
LAST-MODIFIED:20240131T144328Z
UID:35980-1708969500-1708980300@tepis.org.pl
SUMMARY:Tłumaczenia literackie-sekcja ukraińska/moduł podstawowy2
DESCRIPTION:Forum Szkół Tłumaczy Specjalistycznych Literatur Obcojęzycznych \nMODUŁ PODSTAWOWY 2 \nTemat: Dlaczego w pracy tłumacza warto być na bieżąco z kulturą\, historią i współczesnością. Intertekstualność oraz rola znajomości i rozumienia realiów w pracy tłumacza \nSzczegółowy program szkoleniowy w zakresie tłumaczeń literackich w sekcjach językowych (2023-2025) \nZapisy Sklep – PT TEPIS
URL:https://tepis.org.pl/event/tlumaczenia-literackie-sekcja-ukrainska-modul-podstawowy2/
END:VEVENT
BEGIN:VEVENT
DTSTART;TZID=Europe/Warsaw:20240227T173000
DTEND;TZID=Europe/Warsaw:20240227T203000
DTSTAMP:20260420T021501
CREATED:20240129T103205Z
LAST-MODIFIED:20240129T103205Z
UID:35982-1709055000-1709065800@tepis.org.pl
SUMMARY:Tłumaczenia literackie-sekcja francuska/moduł podstawowy2
DESCRIPTION:Forum Szkół Tłumaczy Specjalistycznych Literatur Obcojęzycznych \nMODUŁ PODSTAWOWY 2 \nTemat: Przekład feministyczny w teorii i praktyce \nSzczegółowy program szkoleniowy w zakresie tłumaczeń literackich w sekcjach językowych (2023-2025) \nZapisy Sklep – PT TEPIS
URL:https://tepis.org.pl/event/tlumaczenia-literackie-sekcja-francuska-modul-podstawowy2/
END:VEVENT
BEGIN:VEVENT
DTSTART;TZID=Europe/Warsaw:20240228T173000
DTEND;TZID=Europe/Warsaw:20240228T203000
DTSTAMP:20260420T021501
CREATED:20240129T103429Z
LAST-MODIFIED:20240202T090751Z
UID:35984-1709141400-1709152200@tepis.org.pl
SUMMARY:Tłumaczenia literackie-sekcja niemiecka/moduł podstawowy2
DESCRIPTION:Forum Szkół Tłumaczy Specjalistycznych Literatur Obcojęzycznych \nMODUŁ PODSTAWOWY 2 \nTemat: Potęga autorskiej wyobraźni i jej konsekwencje w języku – na przykładzie przekładów Michaela Endego \nSzczegółowy program szkoleniowy w zakresie tłumaczeń literackich w sekcjach językowych (2023-2025) \nZapisy Sklep – PT TEPIS
URL:https://tepis.org.pl/event/tlumaczenia-literackie-sekcja-niemiecka-modul-podstawowy2/
END:VEVENT
BEGIN:VEVENT
DTSTART;TZID=Europe/Warsaw:20240228T174500
DTEND;TZID=Europe/Warsaw:20240228T204500
DTSTAMP:20260420T021501
CREATED:20240129T104055Z
LAST-MODIFIED:20240129T104055Z
UID:35988-1709142300-1709153100@tepis.org.pl
SUMMARY:Tłumaczenia literackie-język szwedzki/moduł podstawowy2
DESCRIPTION:Forum Szkół Tłumaczy Specjalistycznych Literatur Obcojęzycznych \nMODUŁ PODSTAWOWY 2 \nTemat: Co ma mi do powiedzenia szwedzka literatura? \nSzczegółowy program szkoleniowy w zakresie tłumaczeń literackich w sekcjach językowych (2023-2025) \nZapisy Sklep – PT TEPIS
URL:https://tepis.org.pl/event/tlumaczenia-literackie-jezyk-szwedzki-modul-podstawowy2/
END:VEVENT
BEGIN:VEVENT
DTSTART;TZID=Europe/Warsaw:20240229T173000
DTEND;TZID=Europe/Warsaw:20240229T203000
DTSTAMP:20260420T021501
CREATED:20240129T103817Z
LAST-MODIFIED:20240129T103817Z
UID:35986-1709227800-1709238600@tepis.org.pl
SUMMARY:Tłumaczenia literackie-sekcja angielska/moduł podstawowy2
DESCRIPTION:Forum Szkół Tłumaczy Specjalistycznych Literatur Obcojęzycznych \nMODUŁ PODSTAWOWY 2 \nTemat: Języki czarnych społeczności w przekładzie na polski \nSzczegółowy program szkoleniowy w zakresie tłumaczeń literackich w sekcjach językowych (2023-2025) \nZapisy Sklep – PT TEPIS
URL:https://tepis.org.pl/event/tlumaczenia-literackie-sekcja-angielska-modul-podstawowy2/
END:VEVENT
END:VCALENDAR