BEGIN:VCALENDAR
VERSION:2.0
PRODID:-//PT TEPIS - ECPv6.15.20//NONSGML v1.0//EN
CALSCALE:GREGORIAN
METHOD:PUBLISH
X-ORIGINAL-URL:https://tepis.org.pl
X-WR-CALDESC:Wydarzenia dla PT TEPIS
REFRESH-INTERVAL;VALUE=DURATION:PT1H
X-Robots-Tag:noindex
X-PUBLISHED-TTL:PT1H
BEGIN:VTIMEZONE
TZID:Europe/Warsaw
BEGIN:DAYLIGHT
TZOFFSETFROM:+0100
TZOFFSETTO:+0200
TZNAME:CEST
DTSTART:20230326T010000
END:DAYLIGHT
BEGIN:STANDARD
TZOFFSETFROM:+0200
TZOFFSETTO:+0100
TZNAME:CET
DTSTART:20231029T010000
END:STANDARD
BEGIN:DAYLIGHT
TZOFFSETFROM:+0100
TZOFFSETTO:+0200
TZNAME:CEST
DTSTART:20240331T010000
END:DAYLIGHT
BEGIN:STANDARD
TZOFFSETFROM:+0200
TZOFFSETTO:+0100
TZNAME:CET
DTSTART:20241027T010000
END:STANDARD
BEGIN:DAYLIGHT
TZOFFSETFROM:+0100
TZOFFSETTO:+0200
TZNAME:CEST
DTSTART:20250330T010000
END:DAYLIGHT
BEGIN:STANDARD
TZOFFSETFROM:+0200
TZOFFSETTO:+0100
TZNAME:CET
DTSTART:20251026T010000
END:STANDARD
END:VTIMEZONE
BEGIN:VEVENT
DTSTART;TZID=Europe/Warsaw:20240902T180000
DTEND;TZID=Europe/Warsaw:20240902T220000
DTSTAMP:20260420T075822
CREATED:20240321T070918Z
LAST-MODIFIED:20240321T070918Z
UID:38040-1725300000-1725314400@tepis.org.pl
SUMMARY:Posiedzenie Rady Naczelnej PT TEPIS
DESCRIPTION:
URL:https://tepis.org.pl/event/posiedzenie-rady-naczelnej-pt-tepis-19/
END:VEVENT
BEGIN:VEVENT
DTSTART;TZID=Europe/Warsaw:20240905T190000
DTEND;TZID=Europe/Warsaw:20240905T220000
DTSTAMP:20260420T075822
CREATED:20240321T071912Z
LAST-MODIFIED:20240321T071912Z
UID:38052-1725562800-1725573600@tepis.org.pl
SUMMARY:Spotkanie Zarządów Kół terenowych PT TEPIS
DESCRIPTION:
URL:https://tepis.org.pl/event/spotkanie-zarzadow-kol-terenowych-pt-tepis-5/
END:VEVENT
BEGIN:VEVENT
DTSTART;TZID=Europe/Warsaw:20240909T173000
DTEND;TZID=Europe/Warsaw:20240909T200000
DTSTAMP:20260420T075822
CREATED:20240820T112902Z
LAST-MODIFIED:20240822T061243Z
UID:41730-1725903000-1725912000@tepis.org.pl
SUMMARY:Polskie i niemieckojęzyczne dokumenty cz. 1/I termin (poniedziałki)
DESCRIPTION:Webinarium dla germanistów pt.: \nPolskie i niemieckojęzyczne dokumenty instytucji ubezpieczeniowych jako przedmiot tłumaczenia poświadczonego\nI termin: 9 i 16 września 2024 r. godz. 17.30-20.00 (poniedziałki) \nszczegóły \nZapisy i zakup uczestnictwa https://tepis.org.pl/sklep/
URL:https://tepis.org.pl/event/polskie-i-niemieckojezyczne-dokumenty-cz-1-i-termin-poniedzialki/
END:VEVENT
BEGIN:VEVENT
DTSTART;TZID=Europe/Warsaw:20240910T173000
DTEND;TZID=Europe/Warsaw:20240910T200000
DTSTAMP:20260420T075822
CREATED:20240820T113345Z
LAST-MODIFIED:20240822T061341Z
UID:41744-1725989400-1725998400@tepis.org.pl
SUMMARY:Polskie i niemieckojęzyczne dokumenty cz. 1/II termin (wtorki)
DESCRIPTION:Webinarium dla germanistów pt.: \nPolskie i niemieckojęzyczne dokumenty instytucji ubezpieczeniowych jako przedmiot tłumaczenia poświadczonego\nII termin: 10 i 17 września 2024 r. godz. 17.30-20.00 (wtorki) \nszczegóły \nZapisy i zakup uczestnictwa https://tepis.org.pl/sklep/
URL:https://tepis.org.pl/event/polskie-i-niemieckojezyczne-dokumenty-cz-1-ii-termin-wtorki/
END:VEVENT
BEGIN:VEVENT
DTSTART;TZID=Europe/Warsaw:20240916T173000
DTEND;TZID=Europe/Warsaw:20240916T200000
DTSTAMP:20260420T075822
CREATED:20240820T113122Z
LAST-MODIFIED:20240822T061443Z
UID:41732-1726507800-1726516800@tepis.org.pl
SUMMARY:Polskie i niemieckojęzyczne dokumenty cz. 2/I termin (poniedziałki)
DESCRIPTION:Webinarium dla germanistów pt.: \nPolskie i niemieckojęzyczne dokumenty instytucji ubezpieczeniowych jako przedmiot tłumaczenia poświadczonego\nI termin: 9 i 16 września 2024 r. godz. 17.30-20.00 (poniedziałki) \nszczegóły \nZapisy i zakup uczestnictwa https://tepis.org.pl/sklep/
URL:https://tepis.org.pl/event/polskie-i-niemieckojezyczne-dokumenty-cz-2-i-termin-poniedzialki/
END:VEVENT
BEGIN:VEVENT
DTSTART;TZID=Europe/Warsaw:20240917T173000
DTEND;TZID=Europe/Warsaw:20240917T200000
DTSTAMP:20260420T075822
CREATED:20240820T113531Z
LAST-MODIFIED:20240822T061540Z
UID:41746-1726594200-1726603200@tepis.org.pl
SUMMARY:Polskie i niemieckojęzyczne dokumenty cz. 2/II termin (wtorki)
DESCRIPTION:Webinarium dla germanistów pt.: \nPolskie i niemieckojęzyczne dokumenty instytucji ubezpieczeniowych jako przedmiot tłumaczenia poświadczonego\nII termin: 10 i 17 września 2024 r. godz. 17.30-20.00 (wtorki) \nszczegóły \nZapisy i zakup uczestnictwa https://tepis.org.pl/sklep/
URL:https://tepis.org.pl/event/polskie-i-niemieckojezyczne-dokumenty-cz-2-ii-termin-wtorki/
END:VEVENT
BEGIN:VEVENT
DTSTART;TZID=Europe/Warsaw:20240917T190000
DTEND;TZID=Europe/Warsaw:20240917T203000
DTSTAMP:20260420T075822
CREATED:20240911T074208Z
LAST-MODIFIED:20240911T074208Z
UID:42426-1726599600-1726605000@tepis.org.pl
SUMMARY:4xT\, czyli Tepis tłumaczy Tłumaczkom i Tłumaczom
DESCRIPTION:Zapraszamy na szóste spotkanie online z cyklu \n4xT\, czyli Tepis tłumaczy Tłumaczkom i Tłumaczom\nOdpowiedzi na pytania zostaną udzielone przez trzy Ekspertki: \nMartę Czyżewską\, Krystynę Kołodziej i Anetę Muchę \nUdział w spotkaniu jest bezpłatny dla członków PT TEPIS po rejestracji w e-sklepie:  https://tepis.org.pl/sklep/
URL:https://tepis.org.pl/event/4xt-czyli-tepis-tlumaczy-tlumaczkom-i-tlumaczom-3/
END:VEVENT
BEGIN:VEVENT
DTSTART;TZID=Europe/Warsaw:20240923T170000
DTEND;TZID=Europe/Warsaw:20240923T183000
DTSTAMP:20260420T075822
CREATED:20240712T130351Z
LAST-MODIFIED:20240828T100944Z
UID:41392-1727110800-1727116200@tepis.org.pl
SUMMARY:Kurs z zakresu prawa MP3 – Wykład ogólny - PRAWO SPADKOWE. Powództwo o zachowek
DESCRIPTION:Webinarium „Kurs dla tłumaczy języków obcych z zakresu prawa 2024-2026 \nIII moduł podstawowy – PRAWO SPADKOWE – wykład ogólny \nProgram kursu dla tłumaczy z zakresu prawa z warsztatami w sekcjach językowych (2024-2026
URL:https://tepis.org.pl/event/kurs-z-zakresu-prawa-mp3-wyklad-ogolny-prawo-spadkowe/
END:VEVENT
BEGIN:VEVENT
DTSTART;TZID=Europe/Warsaw:20240923T184500
DTEND;TZID=Europe/Warsaw:20240923T201500
DTSTAMP:20260420T075822
CREATED:20240712T130958Z
LAST-MODIFIED:20240828T100843Z
UID:41397-1727117100-1727122500@tepis.org.pl
SUMMARY:Kurs z zakresu prawa MP3 – warsztaty- język angielski
DESCRIPTION:Webinarium „Kurs dla tłumaczy języków obcych z zakresu prawa 2024-2026” \n3 moduł podstawowy – PRAWO SPADKOWE. Powództwo o zachowek \nWarsztaty tematyczne w sekcjach językowych – sekcja angielska \nProgram kursu dla tłumaczy z zakresu prawa z warsztatami w sekcjach językowych (2024-2026 \n  \n 
URL:https://tepis.org.pl/event/kurs-z-zakresu-prawa-mp3-warsztaty-jezyk-angielski/
END:VEVENT
BEGIN:VEVENT
DTSTART;TZID=Europe/Warsaw:20240924T170000
DTEND;TZID=Europe/Warsaw:20240924T183000
DTSTAMP:20260420T075822
CREATED:20240712T130028Z
LAST-MODIFIED:20240828T100741Z
UID:41390-1727197200-1727202600@tepis.org.pl
SUMMARY:Kurs z zakresu prawa MP3 – warsztaty- język francuski
DESCRIPTION:Webinarium „Kurs dla tłumaczy języków obcych z zakresu prawa 2024-2026” \n3 moduł podstawowy – PRAWO SPADKOWE. Powództwo o zachowek \nWarsztaty tematyczne w sekcjach językowych – sekcja francuska \nProgram kursu dla tłumaczy z zakresu prawa z warsztatami w sekcjach językowych (2024-2026 \n  \n 
URL:https://tepis.org.pl/event/kurs-z-zakresu-prawa-mp3-warsztaty-jezyk-francuski/
END:VEVENT
BEGIN:VEVENT
DTSTART;TZID=Europe/Warsaw:20240924T184500
DTEND;TZID=Europe/Warsaw:20240924T201500
DTSTAMP:20260420T075822
CREATED:20240712T131221Z
LAST-MODIFIED:20240828T100652Z
UID:41399-1727203500-1727208900@tepis.org.pl
SUMMARY:Kurs z zakresu prawa MP3 – warsztaty- język włoska
DESCRIPTION:Webinarium „Kurs dla tłumaczy języków obcych z zakresu prawa 2024-2026” \n3 moduł podstawowy – PRAWO SPADKOWE. Powództwo o zachowek \nWarsztaty tematyczne w sekcjach językowych – sekcja włoska \nProgram kursu dla tłumaczy z zakresu prawa z warsztatami w sekcjach językowych (2024-2026
URL:https://tepis.org.pl/event/kurs-z-zakresu-prawa-mp3-warsztaty-jezyk-wloska/
END:VEVENT
BEGIN:VEVENT
DTSTART;TZID=Europe/Warsaw:20240924T190000
DTEND;TZID=Europe/Warsaw:20240924T203000
DTSTAMP:20260420T075822
CREATED:20240712T131649Z
LAST-MODIFIED:20240828T100618Z
UID:41403-1727204400-1727209800@tepis.org.pl
SUMMARY:Kurs z zakresu prawa MP3 – warsztaty- język chorwacki
DESCRIPTION:Webinarium „Kurs dla tłumaczy języków obcych z zakresu prawa 2024-2026” \n3 moduł podstawowy – PRAWO SPADKOWE. Powództwo o zachowek \nWarsztaty tematyczne w sekcjach językowych – sekcja chorwacka \nProgram kursu dla tłumaczy z zakresu prawa z warsztatami w sekcjach językowych (2024-2026
URL:https://tepis.org.pl/event/kurs-z-zakresu-prawa-mp3-warsztaty-jezyk-chorwacki/
END:VEVENT
BEGIN:VEVENT
DTSTART;TZID=Europe/Warsaw:20240925T170000
DTEND;TZID=Europe/Warsaw:20240925T183000
DTSTAMP:20260420T075822
CREATED:20240712T125738Z
LAST-MODIFIED:20240828T100546Z
UID:41388-1727283600-1727289000@tepis.org.pl
SUMMARY:Kurs z zakresu prawa MP3 – warsztaty- język hiszpański
DESCRIPTION:Webinarium „Kurs dla tłumaczy języków obcych z zakresu prawa 2024-2026” \n3 moduł podstawowy – PRAWO SPADKOWE. Powództwo o zachowek \nWarsztaty tematyczne w sekcjach językowych – sekcja hiszpańska \nProgram kursu dla tłumaczy z zakresu prawa z warsztatami w sekcjach językowych (2024-2026
URL:https://tepis.org.pl/event/kurs-z-zakresu-prawa-mp3-warsztaty-jezyk-hiszpanski/
END:VEVENT
BEGIN:VEVENT
DTSTART;TZID=Europe/Warsaw:20240925T184500
DTEND;TZID=Europe/Warsaw:20240925T201500
DTSTAMP:20260420T075822
CREATED:20240712T131928Z
LAST-MODIFIED:20240828T100432Z
UID:41405-1727289900-1727295300@tepis.org.pl
SUMMARY:Kurs z zakresu prawa MP3 – warsztaty- język niemiecki
DESCRIPTION:Webinarium „Kurs dla tłumaczy języków obcych z zakresu prawa 2024-2026” \n3 moduł podstawowy – PRAWO SPADKOWE. Powództwo o zachowek \nWarsztaty tematyczne w sekcjach językowych – sekcja niemiecka \nProgram kursu dla tłumaczy z zakresu prawa z warsztatami w sekcjach językowych (2024-2026 \n 
URL:https://tepis.org.pl/event/kurs-z-zakresu-prawa-mp3-warsztaty-jezyk-niemiecki/
END:VEVENT
BEGIN:VEVENT
DTSTART;TZID=Europe/Warsaw:20240926T170000
DTEND;TZID=Europe/Warsaw:20240926T183000
DTSTAMP:20260420T075822
CREATED:20240712T125341Z
LAST-MODIFIED:20240828T100350Z
UID:41386-1727370000-1727375400@tepis.org.pl
SUMMARY:Kurs z zakresu prawa MP3 – warsztaty- język rosyjski
DESCRIPTION:Webinarium „Kurs dla tłumaczy języków obcych z zakresu prawa 2024-2026” \n3 moduł podstawowy – PRAWO SPADKOWE. Powództwo o zachowek \nWarsztaty tematyczne w sekcjach językowych – sekcja rosyjska \nProgram kursu dla tłumaczy z zakresu prawa z warsztatami w sekcjach językowych (2024-2026
URL:https://tepis.org.pl/event/kurs-z-zakresu-prawa-mp3-warsztaty-jezyk-rosyjski/
END:VEVENT
BEGIN:VEVENT
DTSTART;TZID=Europe/Warsaw:20240926T184500
DTEND;TZID=Europe/Warsaw:20240926T201500
DTSTAMP:20260420T075822
CREATED:20240712T131518Z
LAST-MODIFIED:20240828T100226Z
UID:41401-1727376300-1727381700@tepis.org.pl
SUMMARY:Kurs z zakresu prawa MP3 – warsztaty- język ukraiński
DESCRIPTION:Webinarium „Kurs dla tłumaczy języków obcych z zakresu prawa 2024-2026” \n3 moduł podstawowy – PRAWO SPADKOWE. Powództwo o zachowek \nWarsztaty tematyczne w sekcjach językowych – sekcja ukraińska \nProgram kursu dla tłumaczy z zakresu prawa z warsztatami w sekcjach językowych (2024-2026 \n 
URL:https://tepis.org.pl/event/kurs-z-zakresu-prawa-mp3-warsztaty-jezyk-ukrainski/
END:VEVENT
END:VCALENDAR