BEGIN:VCALENDAR
VERSION:2.0
PRODID:-//PT TEPIS - ECPv6.15.20//NONSGML v1.0//EN
CALSCALE:GREGORIAN
METHOD:PUBLISH
X-WR-CALNAME:PT TEPIS
X-ORIGINAL-URL:https://tepis.org.pl
X-WR-CALDESC:Wydarzenia dla PT TEPIS
REFRESH-INTERVAL;VALUE=DURATION:PT1H
X-Robots-Tag:noindex
X-PUBLISHED-TTL:PT1H
BEGIN:VTIMEZONE
TZID:Europe/Warsaw
BEGIN:DAYLIGHT
TZOFFSETFROM:+0100
TZOFFSETTO:+0200
TZNAME:CEST
DTSTART:20240331T010000
END:DAYLIGHT
BEGIN:STANDARD
TZOFFSETFROM:+0200
TZOFFSETTO:+0100
TZNAME:CET
DTSTART:20241027T010000
END:STANDARD
BEGIN:DAYLIGHT
TZOFFSETFROM:+0100
TZOFFSETTO:+0200
TZNAME:CEST
DTSTART:20250330T010000
END:DAYLIGHT
BEGIN:STANDARD
TZOFFSETFROM:+0200
TZOFFSETTO:+0100
TZNAME:CET
DTSTART:20251026T010000
END:STANDARD
BEGIN:DAYLIGHT
TZOFFSETFROM:+0100
TZOFFSETTO:+0200
TZNAME:CEST
DTSTART:20260329T010000
END:DAYLIGHT
BEGIN:STANDARD
TZOFFSETFROM:+0200
TZOFFSETTO:+0100
TZNAME:CET
DTSTART:20261025T010000
END:STANDARD
END:VTIMEZONE
BEGIN:VEVENT
DTSTART;TZID=Europe/Warsaw:20250607T090000
DTEND;TZID=Europe/Warsaw:20250607T131500
DTSTAMP:20260419T184528
CREATED:20250515T081901Z
LAST-MODIFIED:20250515T081901Z
UID:51719-1749286800-1749302100@tepis.org.pl
SUMMARY:Warsztaty medyczne dla tłumaczy języka hiszpańskiego - webinarium
DESCRIPTION:Zapraszamy tłumaczy języka hiszpańskiego na kolejne już warsztaty medyczne ONLINE\nOpis szkolenia \nZapisy i zakup uczestnictwa https://tepis.org.pl/sklep/
URL:https://tepis.org.pl/event/warsztaty-medyczne-dla-tlumaczy-jezyka-hiszpanskiego-webinarium/
END:VEVENT
BEGIN:VEVENT
DTSTART;TZID=Europe/Warsaw:20250607T110000
DTEND;TZID=Europe/Warsaw:20250607T155000
DTSTAMP:20260419T184528
CREATED:20250515T082328Z
LAST-MODIFIED:20250515T082328Z
UID:51721-1749294000-1749311400@tepis.org.pl
SUMMARY:Ultraintensywne szkolenie przekładu ustnego dla anglistów w Sosnowcu i online
DESCRIPTION:Zapraszamy tłumaczy języka angielskiego na Ultraintensywne szkolenie przekładu ustnego\, które odbędzie się w Sosnowcu. \nW szkoleniu będzie można uczestniczyć stacjonarnie i online. \nZapisy na obie formy uczestnictwa w naszym e-sklepie: www.tepis.org.pl
URL:https://tepis.org.pl/event/ultraintensywne-szkolenie-przekladu-ustnego-dla-anglistow-w-sosnowcu-i-online/
END:VEVENT
BEGIN:VEVENT
DTSTART;TZID=Europe/Warsaw:20250611T190000
DTEND;TZID=Europe/Warsaw:20250611T203000
DTSTAMP:20260419T184528
CREATED:20250603T110900Z
LAST-MODIFIED:20250603T110900Z
UID:52339-1749668400-1749673800@tepis.org.pl
SUMMARY:4xT\, czyli Tepis tłumaczy Tłumaczkom i Tłumaczom
DESCRIPTION:POLSKIE TOWARZYSTWO TŁUMACZY PRZYSIĘGŁYCH\n I SPECJALISTYCZNYCH TEPIS\nzaprasza na siódme spotkanie online pt.\n4xT\, czyli Tepis tłumaczy Tłumaczkom i Tłumaczom\n  \nUdział w spotkaniu jest bezpłatny dla członków PT TEPIS po rejestracji w e-sklepie:  https://tepis.org.pl/sklep/
URL:https://tepis.org.pl/event/4xt-czyli-tepis-tlumaczy-tlumaczkom-i-tlumaczom-4/
END:VEVENT
BEGIN:VEVENT
DTSTART;TZID=Europe/Warsaw:20250630T180000
DTEND;TZID=Europe/Warsaw:20250630T220000
DTSTAMP:20260419T184528
CREATED:20241209T095818Z
LAST-MODIFIED:20241209T095818Z
UID:46708-1751306400-1751320800@tepis.org.pl
SUMMARY:Posiedzenie Rady Naczelnej PT TEPIS
DESCRIPTION:
URL:https://tepis.org.pl/event/posiedzenie-rady-naczelnej-pt-tepis-32/
END:VEVENT
END:VCALENDAR