BEGIN:VCALENDAR
VERSION:2.0
PRODID:-//PT TEPIS - ECPv6.15.20//NONSGML v1.0//EN
CALSCALE:GREGORIAN
METHOD:PUBLISH
X-ORIGINAL-URL:https://tepis.org.pl
X-WR-CALDESC:Wydarzenia dla PT TEPIS
REFRESH-INTERVAL;VALUE=DURATION:PT1H
X-Robots-Tag:noindex
X-PUBLISHED-TTL:PT1H
BEGIN:VTIMEZONE
TZID:Europe/Warsaw
BEGIN:DAYLIGHT
TZOFFSETFROM:+0100
TZOFFSETTO:+0200
TZNAME:CEST
DTSTART:20240331T010000
END:DAYLIGHT
BEGIN:STANDARD
TZOFFSETFROM:+0200
TZOFFSETTO:+0100
TZNAME:CET
DTSTART:20241027T010000
END:STANDARD
BEGIN:DAYLIGHT
TZOFFSETFROM:+0100
TZOFFSETTO:+0200
TZNAME:CEST
DTSTART:20250330T010000
END:DAYLIGHT
BEGIN:STANDARD
TZOFFSETFROM:+0200
TZOFFSETTO:+0100
TZNAME:CET
DTSTART:20251026T010000
END:STANDARD
BEGIN:DAYLIGHT
TZOFFSETFROM:+0100
TZOFFSETTO:+0200
TZNAME:CEST
DTSTART:20260329T010000
END:DAYLIGHT
BEGIN:STANDARD
TZOFFSETFROM:+0200
TZOFFSETTO:+0100
TZNAME:CET
DTSTART:20261025T010000
END:STANDARD
END:VTIMEZONE
BEGIN:VEVENT
DTSTART;TZID=Europe/Warsaw:20250901T180000
DTEND;TZID=Europe/Warsaw:20250901T220000
DTSTAMP:20260420T091228
CREATED:20241209T095932Z
LAST-MODIFIED:20250814T110240Z
UID:46710-1756749600-1756764000@tepis.org.pl
SUMMARY:Posiedzenie Rady Naczelnej PT TEPIS
DESCRIPTION:
URL:https://tepis.org.pl/event/posiedzenie-rady-naczelnej-pt-tepis-33/
END:VEVENT
BEGIN:VEVENT
DTSTART;TZID=Europe/Warsaw:20250904T190000
DTEND;TZID=Europe/Warsaw:20250904T220000
DTSTAMP:20260420T091228
CREATED:20241209T100800Z
LAST-MODIFIED:20250901T172419Z
UID:46724-1757012400-1757023200@tepis.org.pl
SUMMARY:Spotkanie Zarządów Kół terenowych PT TEPIS
DESCRIPTION:
URL:https://tepis.org.pl/event/spotkanie-zarzadow-kol-terenowych-pt-tepis-14/
END:VEVENT
BEGIN:VEVENT
DTSTART;TZID=Europe/Warsaw:20250918T180000
DTEND;TZID=Europe/Warsaw:20250918T193000
DTSTAMP:20260420T091228
CREATED:20250829T072903Z
LAST-MODIFIED:20250829T072903Z
UID:53355-1758218400-1758223800@tepis.org.pl
SUMMARY:Microsoft Word w praktyce tłumaczeniowej- webinarium
DESCRIPTION:Zapraszamy na webinarium pt.\nMicrosoft Word w praktyce tłumaczeniowej\n(powtórzenie szkolenia z dnia 28 sierpnia 2025 r) \nOpis szkolenia\nZapisy przez e-sklep TEPIS: Sklep |
URL:https://tepis.org.pl/event/microsoft-word-w-praktyce-tlumaczeniowej-webinarium-2/
END:VEVENT
BEGIN:VEVENT
DTSTART;TZID=Europe/Warsaw:20250922T170000
DTEND;TZID=Europe/Warsaw:20250922T183000
DTSTAMP:20260420T091228
CREATED:20250814T110958Z
LAST-MODIFIED:20250814T110958Z
UID:53231-1758560400-1758565800@tepis.org.pl
SUMMARY:Kurs z zakresu prawa MP8 – Wykład pt. POSTĘPOWANIE KARNE: List żelazny – wzór z omówieniem
DESCRIPTION:Webinarium „Kurs dla tłumaczy języków obcych z zakresu prawa 2024-2026” \nVIII MODUŁ PODSTAWOWY \nTEMAT: POSTĘPOWANIE KARNE: List żelazny – wzór z omówieniem \nWykład ogólny w języku polskim \nProgram kursu dla tłumaczy z zakresu prawa z warsztatami w sekcjach językowych (2024-2026)
URL:https://tepis.org.pl/event/kurs-z-zakresu-prawa-mp8-wyklad-pt-postepowanie-karne-list-zelazny-wzor-z-omowieniem/
END:VEVENT
BEGIN:VEVENT
DTSTART;TZID=Europe/Warsaw:20250922T184500
DTEND;TZID=Europe/Warsaw:20250922T201500
DTSTAMP:20260420T091228
CREATED:20250814T105656Z
LAST-MODIFIED:20250814T105656Z
UID:53217-1758566700-1758572100@tepis.org.pl
SUMMARY:Kurs z zakresu prawa MP8 – warsztaty- język angielski
DESCRIPTION:Webinarium „Kurs dla tłumaczy języków obcych z zakresu prawa 2024-2026” \nVIII MODUŁ PODSTAWOWY \nTEMAT: POSTĘPOWANIE KARNE: List żelazny – wzór z omówieniem \nWarsztaty tematyczne w sekcjach językowych – sekcja angielska \nProgram kursu dla tłumaczy z zakresu prawa z warsztatami w sekcjach językowych (2024-2026)
URL:https://tepis.org.pl/event/kurs-z-zakresu-prawa-mp8-warsztaty-jezyk-angielski/
END:VEVENT
BEGIN:VEVENT
DTSTART;TZID=Europe/Warsaw:20250923T170000
DTEND;TZID=Europe/Warsaw:20250923T183000
DTSTAMP:20260420T091228
CREATED:20250814T110529Z
LAST-MODIFIED:20250814T110529Z
UID:53225-1758646800-1758652200@tepis.org.pl
SUMMARY:Kurs z zakresu prawa MP8 – warsztaty- język francuski
DESCRIPTION:Webinarium „Kurs dla tłumaczy języków obcych z zakresu prawa 2024-2026” \nVIII MODUŁ PODSTAWOWY \nTEMAT: POSTĘPOWANIE KARNE: List żelazny – wzór z omówieniem \nWarsztaty tematyczne w sekcjach językowych – sekcja francuska \nProgram kursu dla tłumaczy z zakresu prawa z warsztatami w sekcjach językowych (2024-2026)
URL:https://tepis.org.pl/event/kurs-z-zakresu-prawa-mp8-warsztaty-jezyk-francuski/
END:VEVENT
BEGIN:VEVENT
DTSTART;TZID=Europe/Warsaw:20250923T184500
DTEND;TZID=Europe/Warsaw:20250923T201500
DTSTAMP:20260420T091228
CREATED:20250814T105833Z
LAST-MODIFIED:20250814T105833Z
UID:53219-1758653100-1758658500@tepis.org.pl
SUMMARY:Kurs z zakresu prawa MP8 – warsztaty- język włoski
DESCRIPTION:Webinarium „Kurs dla tłumaczy języków obcych z zakresu prawa 2024-2026” \nVIII MODUŁ PODSTAWOWY \nTEMAT: POSTĘPOWANIE KARNE: List żelazny – wzór z omówieniem \nWarsztaty tematyczne w sekcjach językowych – sekcja włoska \nProgram kursu dla tłumaczy z zakresu prawa z warsztatami w sekcjach językowych (2024-2026)
URL:https://tepis.org.pl/event/kurs-z-zakresu-prawa-mp8-warsztaty-jezyk-wloski/
END:VEVENT
BEGIN:VEVENT
DTSTART;TZID=Europe/Warsaw:20250924T170000
DTEND;TZID=Europe/Warsaw:20250924T183000
DTSTAMP:20260420T091228
CREATED:20250814T110748Z
LAST-MODIFIED:20250814T110748Z
UID:53229-1758733200-1758738600@tepis.org.pl
SUMMARY:Kurs z zakresu prawa MP8 – warsztaty- język hiszpański
DESCRIPTION:Webinarium „Kurs dla tłumaczy języków obcych z zakresu prawa 2024-2026” \nVIII MODUŁ PODSTAWOWY \nTEMAT: POSTĘPOWANIE KARNE: List żelazny – wzór z omówieniem \nWarsztaty tematyczne w sekcjach językowych – sekcja hiszpańska \nProgram kursu dla tłumaczy z zakresu prawa z warsztatami w sekcjach językowych (2024-2026)
URL:https://tepis.org.pl/event/kurs-z-zakresu-prawa-mp8-warsztaty-jezyk-hiszpanski/
END:VEVENT
BEGIN:VEVENT
DTSTART;TZID=Europe/Warsaw:20250924T184500
DTEND;TZID=Europe/Warsaw:20250924T201500
DTSTAMP:20260420T091228
CREATED:20250814T105946Z
LAST-MODIFIED:20250814T105946Z
UID:53221-1758739500-1758744900@tepis.org.pl
SUMMARY:Kurs z zakresu prawa MP8 – warsztaty- język niemiecki
DESCRIPTION:Webinarium „Kurs dla tłumaczy języków obcych z zakresu prawa 2024-2026” \nVIII MODUŁ PODSTAWOWY \nTEMAT: POSTĘPOWANIE KARNE: List żelazny – wzór z omówieniem \nWarsztaty tematyczne w sekcjach językowych – sekcja niemiecka \nProgram kursu dla tłumaczy z zakresu prawa z warsztatami w sekcjach językowych (2024-2026)
URL:https://tepis.org.pl/event/kurs-z-zakresu-prawa-mp8-warsztaty-jezyk-niemiecki/
END:VEVENT
BEGIN:VEVENT
DTSTART;TZID=Europe/Warsaw:20250925T170000
DTEND;TZID=Europe/Warsaw:20250925T183000
DTSTAMP:20260420T091228
CREATED:20250814T110636Z
LAST-MODIFIED:20250814T110636Z
UID:53227-1758819600-1758825000@tepis.org.pl
SUMMARY:Kurs z zakresu prawa MP8 – warsztaty- język rosyjski
DESCRIPTION:Webinarium „Kurs dla tłumaczy języków obcych z zakresu prawa 2024-2026” \nVIII MODUŁ PODSTAWOWY \nTEMAT: POSTĘPOWANIE KARNE: List żelazny – wzór z omówieniem \nWarsztaty tematyczne w sekcjach językowych – sekcja rosyjska \nProgram kursu dla tłumaczy z zakresu prawa z warsztatami w sekcjach językowych (2024-2026)
URL:https://tepis.org.pl/event/kurs-z-zakresu-prawa-mp8-warsztaty-jezyk-rosyjski/
END:VEVENT
BEGIN:VEVENT
DTSTART;TZID=Europe/Warsaw:20250925T184500
DTEND;TZID=Europe/Warsaw:20250925T201500
DTSTAMP:20260420T091228
CREATED:20250814T105519Z
LAST-MODIFIED:20250818T101434Z
UID:53215-1758825900-1758831300@tepis.org.pl
SUMMARY:Kurs z zakresu prawa MP8 – warsztaty- język chorwacki
DESCRIPTION:Webinarium „Kurs dla tłumaczy języków obcych z zakresu prawa 2024-2026” \nVIII MODUŁ PODSTAWOWY \nTEMAT: POSTĘPOWANIE KARNE: List żelazny – wzór z omówieniem \nWarsztaty tematyczne w sekcjach językowych – sekcja chorwacka \nProgram kursu dla tłumaczy z zakresu prawa z warsztatami w sekcjach językowych (2024-2026)
URL:https://tepis.org.pl/event/kurs-z-zakresu-prawa-mp8-warsztaty-jezyk-chorwacki/
END:VEVENT
END:VCALENDAR